BEGIN:VCALENDAR
VERSION:2.0
PRODID:-//https://fadeu-old.urantiacos.cl///NONSGML kigkonsult.se iCalcreator 2.10.15//
METHOD:PUBLISH
BEGIN:VEVENT
UID:20260420T140246UTC-0876SRSmhG@https://fadeu-old.urantiacos.cl/
DTSTAMP:20260420T140246Z
DESCRIPTION:\n\n\n\n\n\n\n\n\n'The Minimum dwelling and the project of the 
 city' |&nbsp\;Martino Tattara: DOGMA&nbsp\;\nMartes 23 de Octubre\, 19.00 
 h\n&nbsp\;\n&nbsp\;\nMartino Tattara dictar&aacute\; la conferencia 'The M
 inimum dwelling and the project of the city' en el contexto de Archiprix 2
 019 y&nbsp\;del workshop: 'Living and working in the Sanhattan district'\,
  que dirigir&aacute\; en el taller de especialidad del programa de Mag&iac
 ute\;ster en Proyecto Urbano UC (MPUR) de los profesores Antonio Lipthay y
  Nicole Rochette. El evento se llevar&aacute\; a cabo el martes 23 de octu
 bre en el auditorio FADEU y ser&aacute\; abierto a p&uacute\;blico general
 .\n&nbsp\;\nMartino Tattara\n&nbsp\;Martino Tattara es cofundador de la of
 icina de arquitectura&nbsp\;Dogma&nbsp\;con sede en Bruselas. Es profesor 
 asistente en la Facultad de Arquitectura de KU Leuven (B)\, y previamente 
 ense&ntilde\;&oacute\; en el ETH Studio Basel (CH) y en el Berlage Institu
 te (NL). Su trabajo te&oacute\;rico y de dise&ntilde\;o se enfoca en la re
 laci&oacute\;n entre la arquitectura y el dise&ntilde\;o urbano a gran esc
 ala\, con numerosas publicaciones y conferencias sobre temas relacionados 
 con la ciudad. Junto con Dogma\, su pr&aacute\;ctica arquitect&oacute\;nic
 a\, se encuentra trabajando en una trayectoria de investigaci&oacute\;n po
 r dise&ntilde\;o que se centra en el espacio dom&eacute\;stico y su potenc
 ial de transformaci&oacute\;n.\n&nbsp\;\n&nbsp\;\nMartino Tattara is the c
 o-founder of the Brussels-based architecture office Dogma. He is Assistant
  professor at the Faculty of Architecture\, KU Leuven (B) and had previous
 ly taught at ETH Studio Basel (CH) and the Berlage Institute (NL). His the
 oretical and design work focuses on the relationship between architecture 
 and large-scale urban design and he has widely published and lectured on t
 opics related to the city. Together with Dogma\, his architectural practic
 e\, he is working on a research by design trajectory that focuses on domes
 tic space and its potential for transformation.\n&nbsp\;\n&nbsp\;\nFecha_M
 artes 23 de octubre de 2018\, 19 h.\n&nbsp\;\n&nbsp\;\nLugar_Auditorio FAD
 EU\, campus Lo Contador. El Comendador 1916\, Providencia\n&nbsp\;\n&nbsp\
 ;\nInvitan_Pontificia Universidad Cat&oacute\;lica de ChileFAU Universidad
  de ChileEscuela de Arquitectura UCMagister en Proyecto Urbano UCArchiprix
 \n&nbsp\;\n\n&nbsp\;\nArquitectura UCContacto:&nbsp\;redesarq@uc.cl&nbsp\;
 | +56 2 2354 7747www.arquitectura.uc.cl\n\n\n\n\n\n\n\n\n&nbsp\;\n\n\n\n\n
 &nbsp\;\n https://fadeu-old.urantiacos.cl/agenda/evento/1710-workshop-inte
 rnacional-martino-tattara-mpur
DTSTART:20181023T220000Z
DTEND:20181023T230000Z
LOCATION:Auditorio FADEU\, Campus Lo Contador PUC (El Comendador 1916\, Pro
 videncia\, Providencia\, Región Metropolitana\, Chile)
SUMMARY:Workshop Internacional Martino Tattara | MPUR
URL:https://fadeu-old.urantiacos.cl/agenda/evento/1710-workshop-internacion
 al-martino-tattara-mpur
END:VEVENT
BEGIN:VEVENT
UID:20260420T140246UTC-0885stxZ74@https://fadeu-old.urantiacos.cl/
DTSTAMP:20260420T140246Z
DESCRIPTION:'The Minimum dwelling and the project of the city' |&nbsp\;Mart
 ino Tattara: DOGMA&nbsp\;\nMartes 23 de Octubre\, 19.00 h\n&nbsp\;\n&nbsp\
 ;\nMartino Tattara dictar&aacute\; la conferencia 'The Minimum dwelling an
 d the project of the city' en el contexto de Archiprix 2019 y&nbsp\;del wo
 rkshop: 'Living and working in the Sanhattan district'\, que dirigir&aacut
 e\; en el taller de especialidad del programa de Mag&iacute\;ster en Proye
 cto Urbano UC (MPUR) de los profesores Antonio Lipthay y Nicole Rochette. 
 El evento se llevar&aacute\; a cabo el martes 23 de octubre en el auditori
 o FADEU y ser&aacute\; abierto a p&uacute\;blico general.\n&nbsp\;\nMartin
 o Tattara\n&nbsp\;Martino Tattara es cofundador de la oficina de arquitect
 ura&nbsp\;Dogma&nbsp\;con sede en Bruselas. Es profesor asistente en la Fa
 cultad de Arquitectura de KU Leuven (B)\, y previamente ense&ntilde\;&oacu
 te\; en el ETH Studio Basel (CH) y en el Berlage Institute (NL). Su trabaj
 o te&oacute\;rico y de dise&ntilde\;o se enfoca en la relaci&oacute\;n ent
 re la arquitectura y el dise&ntilde\;o urbano a gran escala\, con numerosa
 s publicaciones y conferencias sobre temas relacionados con la ciudad. Jun
 to con Dogma\, su pr&aacute\;ctica arquitect&oacute\;nica\, se encuentra t
 rabajando en una trayectoria de investigaci&oacute\;n por dise&ntilde\;o q
 ue se centra en el espacio dom&eacute\;stico y su potencial de transformac
 i&oacute\;n.\n&nbsp\;\n&nbsp\;\nMartino Tattara is the co-founder of the B
 russels-based architecture office Dogma. He is Assistant professor at the 
 Faculty of Architecture\, KU Leuven (B) and had previously taught at ETH S
 tudio Basel (CH) and the Berlage Institute (NL). His theoretical and desig
 n work focuses on the relationship between architecture and large-scale ur
 ban design and he has widely published and lectured on topics related to t
 he city. Together with Dogma\, his architectural practice\, he is working 
 on a research by design trajectory that focuses on domestic space and its 
 potential for transformation.\n&nbsp\;\n&nbsp\;\nFecha_Martes 23 de octubr
 e de 2018\, 19 h.\n&nbsp\;\n&nbsp\;\nLugar_Auditorio FADEU\, campus Lo Con
 tador. El Comendador 1916\, Providencia\n&nbsp\;\n&nbsp\;\nInvitan_Pontifi
 cia Universidad Cat&oacute\;lica de ChileFAU Universidad de ChileEscuela d
 e Arquitectura UCMagister en Proyecto Urbano UCArchiprix\n&nbsp\;\n\n&nbsp
 \;\nArquitectura UCContacto:&nbsp\;redesarq@uc.cl&nbsp\;| +56 2 2354 7747w
 ww.arquitectura.uc.cl https://fadeu-old.urantiacos.cl/agenda/evento/1711-c
 onferencia-martino-tattara-archiprix-mpur
DTSTART:20181023T220000Z
DTEND:20181023T230000Z
LOCATION:Auditorio FADEU\, Campus Lo Contador PUC (El Comendador 1916\, Pro
 videncia\, Providencia\, Región Metropolitana\, Chile)
SUMMARY:Conferencia Martino Tattara | ARCHIPRIX + MPUR
URL:https://fadeu-old.urantiacos.cl/agenda/evento/1711-conferencia-martino-
 tattara-archiprix-mpur
END:VEVENT
BEGIN:VEVENT
UID:20260420T140246UTC-0893K4Uhbw@https://fadeu-old.urantiacos.cl/
DTSTAMP:20260420T140246Z
DESCRIPTION:\nFotograf&iacute\;a &copy\;ELEMENTAL\n&nbsp\;\nEn el marco de 
 la asignatura electiva &ldquo\;Modos de producci&oacute\;n arquitect&oacut
 e\;nica: difusi&oacute\;n y cr&iacute\;tica&rdquo\; y en ocasi&oacute\;n d
 e la entrega del Premio Charles Jencks del Royal Institute of British Arch
 itects (RIBA)\, el arquitecto y premio Pritzker Alejandro Aravena reproduc
 ir&aacute\; de forma p&uacute\;blica la charla magistral que dict&oacute\;
  durante la ceremonia privada en Londres el pasado 15 de octubre de 2018.
 \nComo una costumbre que queremos reforzar cuando uno de nuestros profesor
 es recibe un premio destacado\, la Escuela de Arquitectura UC aprovechar&a
 acute\; de hacer un reconocimiento por la distinci&oacute\;n obtenida\, po
 r lo que la conferencia estar&aacute\; abierta a todo p&uacute\;blico sin 
 l&iacute\;mite de cupos.\nEl Premio RIBA Charles Jencks reconoce a un indi
 viduo o pr&aacute\;ctica que de forma reciente haya hecho una contribuci&o
 acute\;n internacional significativa a la teor&iacute\;a y la pr&aacute\;c
 tica de la arquitectura. Entre los galardonados se incluyen Cecil Balmond\
 , Zaha Hadid\, Benedetta Tagliabue y Rem Koolhaas.\nBiograf&iacute\;a_\nAl
 ejandro Aravena es arquitecto de la Pontificia Universidad Cat&oacute\;lic
 a de Chile con estudios de postgrado en el Istituto Universitario di Venez
 ia. Galardonado con el premio Pritzker en 2016\, entre sus reconocimientos
  est&aacute\;n la medalla Erich Schelling en 2006\, el Le&oacute\;n de Pla
 ta en la XI Bienal de Venecia de 2008\, el Index Award en Dinamarca en 201
 1 y el Premio RIBA Charles Jencks en 2018. Fue nombrado International Fell
 ow por el Royal Institute of British Architects y ha sido profesor en dive
 rsas universidades\, entre ellas el GSD de Harvard. Actualmente es directo
 r ejecutivo de ELEMENTAL\, un do tank que aborda proyectos de diferentes e
 scalas entendi&eacute\;ndolos como una oportunidad para extender los benef
 icios de la ciudad a todos.\nFecha_Martes 23 de octubre\, 2018\nHora_13:00
  horas\nLugar_Auditorio FCV (piso 4)Escuela de Arquitectura UCEl Comendado
 r 1936\, Providencia\nContacto_redesarq@uc.cl&nbsp\;\n\nArquitectura UCCon
 tacto:&nbsp\;redesarq@uc.cl&nbsp\;| +56 2 2354 7747www.arquitectura.uc.cl 
 https://fadeu-old.urantiacos.cl/agenda/evento/1716-conferencia-riba-de-ale
 jandro-aravena-en-curso-modos-de-produccion-arquitectonica
DTSTART:20181023T160000Z
DTEND:20181023T170000Z
LOCATION:Auditorio Fernando Castillo Velasco. Edificio ARQ (El Comendador 1
 936\, Providencia\, Región Metropolitana\, Chile)
SUMMARY:Conferencia RIBA de Alejandro Aravena en curso Modos de Producción 
 Arquitectónica
URL:https://fadeu-old.urantiacos.cl/agenda/evento/1716-conferencia-riba-de-
 alejandro-aravena-en-curso-modos-de-produccion-arquitectonica
END:VEVENT
BEGIN:VEVENT
UID:20260420T140246UTC-0901PEfS0J@https://fadeu-old.urantiacos.cl/
DTSTAMP:20260420T140246Z
DESCRIPTION:En el marco del curso &ldquo\;Investigaci&oacute\;n Etnogr&aacu
 te\;fica y Dise&ntilde\;o&rdquo\; de la Escuela de Dise&ntilde\;o UC\, don
 de este semestre abordan la tem&aacute\;tica del &ldquo\;cuidado\, mantenc
 i&oacute\;n y reparaci&oacute\;n&rdquo\;\, el investigadora Tom&aacute\;s 
 Err&aacute\;zuriz dictar&aacute\; la conferencia titulada &ldquo\;Entornos
  mutantes: La vida ignorada de las cosas y ambientes&rdquo\;.\nEntornos mu
 tantes: La vida ignorada de las cosas y ambientesNadie discute que la ense
 &ntilde\;anza de la historia &ndash\;aquella de autores\, movimientos y pr
 oducciones enmarcadas en procesos socioculturales espec&iacute\;ficos&ndas
 h\; sea parte integral de la formaci&oacute\;n disciplinar en carreras com
 o dise&ntilde\;o y arquitectura. Sin embargo\, muy pocos encuentran puente
 s entre esta historia y sus pr&aacute\;cticas disciplinares. En cambio\, y
  en contraste con este enfoque tradicional\, resulta interesante atender o
 tras dimensiones temporales mucho m&aacute\;s acotadas\, ordinarias\, gene
 ralmente imperceptibles\, que\, aunque completamente desatendidas\, result
 an fundamentales para la pr&aacute\;ctica. Nos referimos a todas aquellas 
 micro historias que configuran las vidas de incontables obras y productos 
 generados desde estas disciplinas\; sus movimientos\, fugas\, interaccione
 s y constantes mutaciones materiales y simb&oacute\;licas. La historia par
 ticular (y aparentemente sin brillo) de un par de zapatos\, de un refriger
 ador\, de un autom&oacute\;vil o de una casa cualquiera. Buscando reflexio
 nar sobre la importancia que tienen estas otras historias &ndash\;olvidada
 s desde la formaci&oacute\;n y pr&aacute\;ctica disciplinar de dise&ntilde
 \;adores y arquitectos&ndash\;\, esta presentaci&oacute\;n busca alejarse 
 de la l&oacute\;gica de la obra como resultado final\, definido y delimita
 do en el tiempo y el espacio. En cambio\, la invitaci&oacute\;n es a bajar
  la mirada\, aguzar los sentidos y observar las vidas mutantes\, err&aacut
 e\;ticas y fugitivas que emprenden estas cosas y ambientes\, tantas veces 
 de espalda a sus creadores y a las expectativas originales que le dieron f
 orma.\nTom&aacute\;s Err&aacute\;zuriz&nbsp\;es historiador y doctor arqui
 tectura y estudios urbanos. Actualmente es profesor asociado del Campus Cr
 eativo de la UNAB\, socio de la oficina Reddo Arquitectura y co-dirige la 
 Editorial Bifurcaciones. Su investigaci&oacute\;n reflexiona sobre los mod
 os en que se configura la vida de aquellos entornos construidos que forman
  parte de nuestro h&aacute\;bitat cotidiano.\n23 octubre\, 10:30 hrs.Sala 
 17\, Campus Lo Contador\, El Comendador 1916\, Providencia\n&nbsp\;\n http
 s://fadeu-old.urantiacos.cl/agenda/evento/1694-charla-entornos-mutantes-la
 -vida-ignorada-de-las-cosas-y-ambientes
DTSTART:20181023T133000Z
DTEND:20181023T143000Z
LOCATION:Sala 17 Casona\, Campus Lo Contador (El Comendador 1916\, Providen
 cia\, Región Metropolitana\, Chile)
SUMMARY:Charla: Entornos mutantes. La vida ignorada de las cosas y ambiente
 s
URL:https://fadeu-old.urantiacos.cl/agenda/evento/1694-charla-entornos-muta
 ntes-la-vida-ignorada-de-las-cosas-y-ambientes
END:VEVENT
BEGIN:VEVENT
UID:20260420T140246UTC-0909zm62IE@https://fadeu-old.urantiacos.cl/
DTSTAMP:20260420T140246Z
DESCRIPTION:En tiempos que la innovaci&oacute\;n se ha vuelto un imperativo
 \, la mente tras&nbsp\;Santa &amp\; Cole\, editora espa&ntilde\;ola de lum
 inarias y mobiliario\,&nbsp\;Nina Mas&oacute\;\, nos hablar&aacute\; de c&
 oacute\;mo es el proceso de dise&ntilde\;o y edici&oacute\;n de &eacute\;s
 te\, manteniendo una visi&oacute\;n del dise&ntilde\;o en la que la funci&
 oacute\;n es antes que la forma. Dise&ntilde\;o sensible\, detallista y re
 flexivo en relaci&oacute\;n a las formas de vivir.\n23 octubre\,&nbsp\;10:
 00 hrs.Sala L&aacute\;mpara\, Campus Lo Contador\, El Comendador 1916\, Pr
 ovidencia.\nInscripciones&nbsp\;aqu&iacute\;.\n&nbsp\;\n https://fadeu-old
 .urantiacos.cl/agenda/evento/1714-charla-magistral-de-nina-maso-editar-dis
 eno-en-los-tiempos-que-corren-el-caso-de-santa-cole
DTSTART:20181023T130000Z
DTEND:20181023T140000Z
LOCATION:Sala Lámpara\, Escuela de Diseño\, Campus Lo Contador (El Comendad
 or 1912-1974\, Providencia\, Región Metropolitana\, Chile)
SUMMARY:Charla Magistral de Nina Masó: Editar diseño en los tiempos que cor
 ren. El caso de Santa & Cole
URL:https://fadeu-old.urantiacos.cl/agenda/evento/1714-charla-magistral-de-
 nina-maso-editar-diseno-en-los-tiempos-que-corren-el-caso-de-santa-cole
END:VEVENT
END:VCALENDAR
