BEGIN:VCALENDAR
VERSION:2.0
PRODID:-//https://fadeu-old.urantiacos.cl///NONSGML kigkonsult.se iCalcreator 2.10.15//
METHOD:PUBLISH
BEGIN:VEVENT
UID:20260420T140741UTC-5530cZKPXi@https://fadeu-old.urantiacos.cl/
DTSTAMP:20260420T140741Z
DESCRIPTION:Manual pr&aacute\;ctico de iluminaci&oacute\;n para Dise&ntilde
 \;adores y Arquitectos es el t&iacute\;tulo que recibe este libro cuyo aut
 or\, Douglas Leonard\, subdirector de Dise&ntilde\;o UC\, es uno de los ma
 estro de la iluminaci&oacute\;n chilena.\nEste manual est&aacute\; creado 
 con el objeto de disponer de informaci&oacute\;n pr&aacute\;ctica para las
  personas del &aacute\;mbito del Dise&ntilde\;o\, la Arquitectura\, el Dis
 e&ntilde\;o de Ambientes y todas las disciplinas afines.\nSi bien existe u
 n gran n&uacute\;mero de textos\, cat&aacute\;logos de fabricantes de fuen
 tes de luz y de equipos de Iluminaci&oacute\;n\, no hay un documento que c
 oncentre informaci&oacute\;n de inter&eacute\;s relevante al momento de ap
 roximarse a un proyecto o dise&ntilde\;o de iluminaci&oacute\;n.\nEste pro
 yecto de un Manual Pr&aacute\;ctico de iluminaci&oacute\;n recopila inform
 aci&oacute\;n b&aacute\;sica y de inter&eacute\;s para los estudiantes y p
 rofesionales del &aacute\;rea.\nMi&eacute\;rcoles 24 de octubre\, 19:00 hr
 sAuditorio Fernando Castillo Velasco\, Campus Lo Contador.\n&nbsp\;\n http
 s://fadeu-old.urantiacos.cl/agenda/evento/1695-lanzamiento-manual-practico
 -de-iluminacion
DTSTART:20181024T220000Z
DTEND:20181024T230000Z
LOCATION:Auditorio Fernando Castillo Velasco. Edificio ARQ (El Comendador 1
 936\, Providencia\, Región Metropolitana\, Chile)
SUMMARY:Lanzamiento 'Manual práctico de iluminación'
URL:https://fadeu-old.urantiacos.cl/agenda/evento/1695-lanzamiento-manual-p
 ractico-de-iluminacion
END:VEVENT
END:VCALENDAR
