BEGIN:VCALENDAR
VERSION:2.0
PRODID:-//https://fadeu-old.urantiacos.cl///NONSGML kigkonsult.se iCalcreator 2.10.15//
METHOD:PUBLISH
BEGIN:VEVENT
UID:20260419T191936UTC-66794URLiM@https://fadeu-old.urantiacos.cl/
DTSTAMP:20260419T191936Z
DESCRIPTION:Lanzamiento del segundo ARQ Docs&nbsp\;de 2019&nbsp\;The Archit
 ectures of Prediction: Truth is in the Tower&nbsp\;a cargo de Francesca Hu
 ghes\,&nbsp\;directora de la Escuela de Arquitectura de la Universidad de 
 Tecnolog&iacute\;a de S&iacute\;dney\, Australia\,&nbsp\;quien en su visit
 a dictar&aacute\; la charla magistral 'The architecture of error'.\nFrance
 sca Hughes\nTe&oacute\;rica de la arquitectura\, profesora y especialista 
 en la relaci&oacute\;n entre arquitectura y tecnolog&iacute\;a. Francesca 
 Hughes es directora de la Escuela de Arquitectura de la Universidad de Tec
 nolog&iacute\;a de S&iacute\;dney\, Australia. Ha ense&ntilde\;ado tallere
 s y cursos de historia y teor&iacute\;a en la Architectural Association y 
 la Bartlett School of Architecture\, UCL\, en Londres\, de donde es origin
 aria. Tambi&eacute\;n ha ense&ntilde\;ado en The Berlage\, TU Delft\, y ha
  sido profesora visitante en KU Leuven en Bruselas. Ha dado numerosas conf
 erencias en EE.UU.\, Australia y Europa y ha publicado varios libros entre
  los que podemos destacar The Architecture of Error: Matter\, Measure and 
 the Misadventures of Precision (MIT Press\, 2014)\, Drawings that Count (A
 A Publications\, 2012)\, y The Architect: Reconstructing her Practice (MIT
  Press\, 1996). Actualmente est&aacute\; trabajando en un nuevo libro que 
 examina la prehistoria de las relaciones entre arquitectura y computaci&oa
 cute\;n: The Architect&rsquo\;s Computer: an Indiscrete History of the Uni
 versal Discrete Machine.\nFecha_Jueves 24 de octubre de 2019\, 19.00 h\nLu
 gar_Auditorio Fernando Castillo VelascoCampus Lo ContadorEl Comendador 193
 6\, Providencia\nOrganiza_Ediciones ARQArquitectura UC\n\nNoticiasContacto
 :&nbsp\;redesarq@uc.cl&nbsp\;| +56 2 2354 7747www.arquitectura.uc.cl https
 ://fadeu-old.urantiacos.cl/agenda/evento/2019-lanzamiento-arq-docs-frances
 ca-hughes
DTSTART:20191024T220000Z
DTEND:20191024T230000Z
LOCATION:Auditorio Fernando Castillo Velasco. Edificio ARQ (El Comendador 1
 936\, Providencia\, Región Metropolitana\, Chile)
SUMMARY: Lanzamiento ARQ Docs: Francesca Hughes
URL:https://fadeu-old.urantiacos.cl/agenda/evento/2019-lanzamiento-arq-docs
 -francesca-hughes
END:VEVENT
END:VCALENDAR
