BEGIN:VCALENDAR
VERSION:2.0
PRODID:-//https://fadeu-old.urantiacos.cl///NONSGML kigkonsult.se iCalcreator 2.10.15//
METHOD:PUBLISH
BEGIN:VEVENT
UID:20260423T101153UTC-1053tp4Bcv@https://fadeu-old.urantiacos.cl/
DTSTAMP:20260423T101153Z
DESCRIPTION:Inspirados por la NaturalezaFauna nativa\, el deber de proteger
 la\nEl pr&oacute\;ximo mi&eacute\;rcoles se cierra el ciclo de charlas org
 anizado por Ladera Sur y el MAPA UC con Liesbeth van der Meer y Claudia Si
 lva\, quienes hablar&aacute\;n de las principales amenazas que enfrenta la
  fauna nativa en Chile.\nClaudia Silva se centrar&aacute\; en la fauna sil
 vestre de Tierra del Fuego y Liesbeth van der Meer presentar&aacute\; los 
 riesgos y amenazas que afectan la biodiversidad marina.\nFecha_Mi&eacute\;
 rcoles 25 de octubre de 2017. 19.00 hrs.\nLugar_Auditorio FADEU\, Campus L
 o Contador. El Comendador 1916\, Providencia\nInvitan_MAPA UCLadera SurEnt
 erreno Chile\n https://fadeu-old.urantiacos.cl/agenda/evento/1357-inspirad
 os-por-la-naturaleza
DTSTART:20171025T220000Z
DTEND:20171025T230000Z
LOCATION:Auditorio FADEU\, Campus Lo Contador PUC (El Comendador 1916\, Pro
 videncia\, Providencia\, Región Metropolitana\, Chile)
SUMMARY:Inspirados por la Naturaleza
URL:https://fadeu-old.urantiacos.cl/agenda/evento/1357-inspirados-por-la-na
 turaleza
END:VEVENT
END:VCALENDAR
