BEGIN:VCALENDAR
VERSION:2.0
PRODID:-//https://fadeu-old.urantiacos.cl///NONSGML kigkonsult.se iCalcreator 2.10.15//
METHOD:PUBLISH
BEGIN:VEVENT
UID:20260420T140829UTC-8014vNnfab@https://fadeu-old.urantiacos.cl/
DTSTAMP:20260420T140829Z
DESCRIPTION:Sesi&oacute\;n #1 del ciclo&nbsp\;Densidad Media 2018\, la que 
 contar&aacute\; con las presentaciones de los arquitectos Luis Izquierdo y
  Emilio Mar&iacute\;n sobre proyectos de vivienda colectiva. Comenta: Max 
 N&uacute\;&ntilde\;ez\, jefe del&nbsp\;Magister en Arquitectura UC.\n&nbsp
 \;\nPrograma_\n&nbsp\;\nSiguiendo el formato de paneles de presentaci&oacu
 te\;n y discusi&oacute\;n de casos\, esta iniciativa busca establecer un p
 uente entre el mundo inmobiliario y las escuelas de arquitectura. Al acerc
 ar a los arquitectos en formaci&oacute\;n una selecci&oacute\;n de edifici
 os de vivienda colectiva bajo la &oacute\;ptica inmobiliaria\, el ciclo pr
 opone los proyectos de densidad media como una oportunidad para la interve
 nci&oacute\;n y desarrollo creativo de los arquitectos aun estando bajo la
 s l&oacute\;gicas del mercado.\n&nbsp\;\nLa realizaci&oacute\;n de este ci
 clo y la publicaci&oacute\;n que lo acompa&ntilde\;a han sido posible grac
 ias a la colaboraci&oacute\;n entre la Escuela de Arquitectura UC e iALTUR
 A.\n&nbsp\;\nSesi&oacute\;n #1\n25 de octubre\nLuis Izquierdo [Batlle Ordo
 &ntilde\;ez 4502\, iALTURA]\nEmilio Mar&iacute\;n [LF35\, Surmonte]\nComen
 ta:&nbsp\;Max N&uacute\;&ntilde\;ez\, jefe MARQ UC\n&nbsp\;\nSesi&oacute\;
 n #2\n13 de noviembre\nCecilia Puga [Edificio Plaza Pedro Montt\, PyL Inmo
 biliaria]\nFrancisco Izquierdo [HA 1648\, iALTURA]\nComenta:&nbsp\;Antonio
  Lipthay\, jefe MPUR UC\n&nbsp\;\nLuis Izquierdo\nArquitecto de la Pontifi
 cia Universidad Cat&oacute\;lica de Chile (1980)\, titulado con Distinci&o
 acute\;n M&aacute\;xima. En 1984\, junto a Antonia Lehmann\, establece la 
 sociedad Izquierdo Lehmann Arquitectos\, desarrollando proyectos de arquit
 ectura de distintos programas y escalas\, p&uacute\;blicos y privados. Su 
 trabajo ha sido publicado en medios especializados nacionales y extranjero
 s\, y presentado en bienales\, exposiciones y conferencias en Santiago\, B
 uenos Aires\, Quito\, Cartagena de Indias\, Sao Paulo\, Madrid\, Tokio\, B
 oston\, adem&aacute\;s del Museo de Arte Moderno de Nueva York. Su trayect
 oria ha sido distinguida con varios premios\, entre ellos\, el premio al m
 ejor proyecto de t&iacute\;tulo de su promoci&oacute\;n y el Premio Nacion
 al de Arquitectura en 2004.\n&nbsp\;\nEmilio Marin\nArquitecto de la Unive
 rsidad de Chile (1998). Su oficina se especializa en diversos campos de la
  arquitectura contempor&aacute\;nea\, desarrollando tanto proyectos para c
 lientes privados como p&uacute\;blicos. Ha sido galardonado con premios co
 mo el de la XVII Bienal de Arquitectura y Urbanismo de Chile por la obra B
 iblioteca P&uacute\;blica de Licant&eacute\;n y fue finalista en la catego
 r&iacute\;a emergente del Mies Crown Hall Americas Prize (MCHAP) en 2014\,
  a&ntilde\;o en que particip&oacute\; como arquitecto invitado al Workshop
  Porto Academy. El proyecto LF35\, incluido en esta publicaci&oacute\;n\, 
 fue el producto de la colaboraci&oacute\;n con los arquitectos Juan Carlos
  L&oacute\;pez\, Marcela Puga y Rodrigo Searle.\n&nbsp\;\nFecha_\nJueves 2
 5 de octubre de 2018\, 18.30 h.\n&nbsp\;\nLugar_Auditorio FCV\, campus Lo 
 Contador. El Comendador 1936\, Providencia\n&nbsp\;\nOrganizan_Escuela de 
 Arquitectura UCMagister en Arquitectura UC\nMagister en Proyecto Urbano UC
 \niALTURA\n&nbsp\;\n\n&nbsp\;\nArquitectura UCContacto:&nbsp\;redesarq@uc.
 cl&nbsp\;| +56 2 2354 7747www.arquitectura.uc.cl https://fadeu-old.urantia
 cos.cl/agenda/evento/1719-ciclo-densidad-media-luis-izquierdo-emilio-marin
DTSTART:20181025T220000Z
DTEND:20181025T230000Z
LOCATION:Auditorio Fernando Castillo Velasco. Edificio ARQ (El Comendador 1
 936\, Providencia\, Región Metropolitana\, Chile)
SUMMARY:Ciclo Densidad Media | Luis Izquierdo + Emilio Marín
URL:https://fadeu-old.urantiacos.cl/agenda/evento/1719-ciclo-densidad-media
 -luis-izquierdo-emilio-marin
END:VEVENT
END:VCALENDAR
