BEGIN:VCALENDAR
VERSION:2.0
PRODID:-//https://fadeu-old.urantiacos.cl///NONSGML kigkonsult.se iCalcreator 2.10.15//
METHOD:PUBLISH
BEGIN:VEVENT
UID:20260423T081218UTC-1846ImDeWH@https://fadeu-old.urantiacos.cl/
DTSTAMP:20260423T081218Z
DESCRIPTION:Pablo Valenzuela presentar&aacute\; 'Ciudad\, Migraci&oacute\;n
  e Integraci&oacute\;n' en el contexto del curso 'Vivienda como Proyecto U
 rbano-Social' que dicta el profesor Jos&eacute\; di Girolamo en el Magiste
 r en Proyecto Urbano UC.\nPablo Valenzuela es abogado de la UC y master en
  Derecho Ambiental de la Universidad de Nottingham. Tiene experiencia en p
 rogramas de acceso a la justicia\, acceso a la vivienda\, participaci&oacu
 te\;n ciudadana\, gobiernos locales y proyectos sociales. Fue Director Eje
 cutivo de Fundaci&oacute\;n Casa de la Paz y Director de Desarrollo Comuni
 tario de la Municipalidad de Providencia. Actualmente es el Director Nacio
 nal del Servicio Jesuita a Migrantes.\nFecha_Jueves 26 de Octubre de 2017.
  17.00 hrs.\nLugar_Sala 36\, 2&deg\; piso Casa Lo Contador. El Comendador 
 1916\, Providencia\nInvitan_Mag&iacute\;ster en Proyecto Urbano\n&nbsp\;\n
  https://fadeu-old.urantiacos.cl/agenda/evento/1347-pablo-valenzuela-en-cl
 ase-abierta-mpur
DTSTART:20171026T200000Z
DTEND:20171026T210000Z
LOCATION:Sala 36\, Casona Lo Contador (El Comendador 1916\, Providencia\, R
 egión Metropolitana\, Chile)
SUMMARY:Pablo Valenzuela en Clase Abierta MPUR
URL:https://fadeu-old.urantiacos.cl/agenda/evento/1347-pablo-valenzuela-en-
 clase-abierta-mpur
END:VEVENT
BEGIN:VEVENT
UID:20260423T081218UTC-1851ak2pD5@https://fadeu-old.urantiacos.cl/
DTSTAMP:20260423T081218Z
DESCRIPTION:Mediante la presente queremos invitarlos a revisar el programa 
 de actividades de la participaci&oacute\;n de la Facultad y de la Escuela 
 de Arquitectura\, en la XX Bienal de Arquitectura y Urbanismo: 'Di&aacute\
 ;logos Impostergables' a realizarse en Parque Cultural Valpara&iacute\;so\
 , desde el 26 de octubre al 10 de noviembre.\nLa Facultad de Arquitectura\
 , Dise&ntilde\;o y Estudios Urbanos\, participar&aacute\; con una segunda 
 versi&oacute\;n de la exposici&oacute\;n montada en Venecia el 2016\, esta
  vez titulada 'Miniaturas de Exportaci&oacute\;n: el Discurso de la Arquit
 ectura Chilena Contempor&aacute\;nea'\, la cual est&aacute\; ubicada en el
  foyer del teatro. Por su parte\, la Escuela de Arquitectura participar&aa
 cute\; junto a la UCV\, UV y la UCH\, con el video 'Proyecto Ciudad: Valpa
 ra&iacute\;so&rdquo\;.\nPor &uacute\;ltimo\, el d&iacute\;a s&aacute\;bado
  4 de noviembre 19.00 hrs.\, en Dinamarca 399\, se lanzar&aacute\; el libr
 o 'Di&aacute\;logo permanente con la Arquitectura'\, de la editorial ARQ y
  preparado especialmente para la participaci&oacute\;n en la Bienal.\nExpo
 siciones en la muestra:\n1.-&nbsp\;Di&aacute\;logo permanente con la Arqui
 tectura.Presentaci&oacute\;n de la publicaci&oacute\;n audiovisual e impre
 sa 'Di&aacute\;logo permanente con la Arquitectura' editado por la Escuela
  de Arquitectura UC y Ediciones ARQ.Co-produce: EARQ UC + Ediciones ARQ + 
 FADEU\n2.-&nbsp\;Valpara&iacute\;so como Proyecto.Participaci&oacute\;n de
  4 Escuelas de Arquitectura (UC\, UCH\, UCV\, UV)\, ya reunidas en la vers
 i&oacute\;n anterior\, con un video mostrando una posici&oacute\;n com&uac
 ute\;n respecto al proyecto de borde costero del puerto.Lugar: Parque Cult
 ural de Valpara&iacute\;soCo-produce: EARQ UC + UCH + UCV + UV\n3.&nbsp\;&
 ldquo\;Vida despu&eacute\;s de la Muerte. El Cementerio General de Santiag
 o como espacio p&uacute\;blico metropolitano&rdquo\;.Investigaci&oacute\;n
  en curso sobre la relaci&oacute\;n entre Arquitectura\, Vida\, Ciudad y M
 uerte impulsada por la oficina Plan Com&uacute\;n (Felipe De Ferrari &amp\
 ; Kim Courr&egrave\;ges) desde el a&ntilde\;o 2015 en colaboraci&oacute\;n
  con el Cementerio General de Santiago y la Escuela de Arquitectura UC.\n4
 .&nbsp\;Miniaturas de exportaci&oacute\;n. El discurso de la arquitectura 
 chilena contempor&aacute\;nea.Segunda versi&oacute\;n de la exposici&oacut
 e\;n curada por Andrea Ambroso\, Umberto Bonomo\, Macarena Cort&eacute\;s 
 yHugo Mondrag&oacute\;n\, montada con motivo de la 15ava Bienal de Arquite
 ctura de Venecia el a&ntilde\;o 2016.Lugar: Hall teatro - Parque Cultural 
 de Valpara&iacute\;soOrganiza: FADEU\n5.&nbsp\;Archivo Provisional.Exposic
 i&oacute\;n que propone construir un registro de toda la informaci&oacute\
 ;n disponible\, en medios y formatos diversos\, sobre del desarrollo de la
  Bienal de Arquitectura en Chile desde sus inicios en 1977. Equipo Fernand
 o Carvajal\, Pedro Correa\, Fernando Portal y Rayna Razmilic.Lugar: Hall t
 eatro - Parque Cultural de Valpara&iacute\;so\n6.&nbsp\;Arquitectura\, Des
 trucci&oacute\;n y Memoria. Un nuevo escenario de relaciones y problemas m
 &aacute\;s all&aacute\; de la cat&aacute\;strofe.Investigaci&oacute\;n dir
 igida por los docentes Alejandro Crispiani y Tom&aacute\;s Err&aacute\;zur
 iz.\n7.&nbsp\;&ldquo\;Estado de Excepci&oacute\;n. Erradicaciones en Santi
 ago\, un di&aacute\;logo postergado&rdquo\;.Investigaci&oacute\;n en curso
  de Alejandra Celed&oacute\;n y Eneritz Hern&aacute\;ndez sobre las erradi
 caciones de poblaciones de menos recursos desde las comunas c&eacute\;ntri
 cas y de la zona oriente de Santiago ocurridas en dictadura.\n&emsp\;Parti
 cipaci&oacute\;n en Di&aacute\;logos/Seminarios y Mesas:\n1.&nbsp\;Propues
 tas Impostergables.Presentaci&oacute\;n de Alejandra Celed&oacute\;n en un
 o de los di&aacute\;logos inaugurales de la Bienal junto a Camilo Restrepo
 \, Jorge Lobos y Manuel Herz.Lugar: Parque Cultural de Valpara&iacute\;soF
 echa: 26 de octubreHora: 19.40hOrganiza: XX Bienal de Arquitectura y Urban
 ismo\n2.&nbsp\;Mesa de Di&aacute\;logo: Mujeres en arquitectura.Panel de d
 iscusi&oacute\;n con participaci&oacute\;n de Sandra Iturriaga junto a Ana
  Mar&iacute\;a Dur&aacute\;n\, In&eacute\;s Moisset\, Elisa Silva. Modera 
 Jeannette Sordi.Lugar: Parque Cultural de Valpara&iacute\;soFecha 27 de oc
 tubreHora: 19.00hOrganiza: XX Bienal de Arquitectura y Urbanismo + Comit&e
 acute\; de Arquitectos J&oacute\;venes CA\n3.&nbsp\;El discurso de la arqu
 itectura chilena contempor&aacute\;nea.Participaci&oacute\;n de Umberto Bo
 nomo\, Fernando Portal y Macarena Cort&eacute\;s en el Seminario: Pregunta
  Disciplinar\, moderado por Claudio Magrini. Lanzamiento del libro &ldquo\
 ;El discurso de la arquitectura chilena contempor&aacute\;nea. cuatro deba
 tes fundamentales&rdquo\; editado por Hugo Mondrag&oacute\;n\, Macarena Co
 rt&eacute\;s\, Umberto Bonomo y Pedro Alonso.Lugar: Parque Cultural de Val
 para&iacute\;soFecha: 28 de octubreHora: 15.00hOrganiza: FADEU + EARQ UC +
  Ediciones ARQ\n4.&nbsp\;Obras en Di&aacute\;logo / Lo com&uacute\;n.Prese
 ntaci&oacute\;n de Loreto Lyon en uno de los di&aacute\;logos de la Bienal
  junto a Crist&oacute\;bal Fern&aacute\;ndez y Pablo Allard.Lugar: Parque 
 Cultural de Valpara&iacute\;soFecha 28 de octubreHora: 17.00hOrganiza: XX 
 Bienal de Arquitectura y Urbanismo\n5.&nbsp\;Infra - Verde: Respuestas a l
 a vulnerabilidad.Panel de discusi&oacute\;n con participaci&oacute\;n de J
 os&eacute\; Mayoral (Pr&aacute\;ctica) junto a Amy Chester\, Gustavo Roman
 illos\, Dominique Mashini\, Jaime Daroca y Jos&eacute\; Ram&oacute\;n Sier
 ra. Modera Jeannette Sordi.Lugar: Parque Cultural de Valpara&iacute\;soFec
 ha 28 de octubreHora: 17.00hOrganiza: XX Bienal de Arquitectura y Urbanism
 o\n6.&nbsp\;Conversaci&oacute\;n P&uacute\;blica / Recursos Materiales en 
 el Sur.Presentaciones de Grupo Talca &ndash\; Chile y MGM - Jos&eacute\; M
 orales &ndash\; Espa&ntilde\;a con moderaci&oacute\;n de Jos&eacute\; Mayo
 ral14.00hLugar: Parque Cultural de Valpara&iacute\;soFecha 28 de octubreHo
 ra: 17.00hOrganiza: XX Bienal de Arquitectura y Urbanismo\n7.&nbsp\;Ciudad
 es a medio tiempo y turismo estacional.Participaci&oacute\;n en Mesa de di
 &aacute\;logo\, de Macarena Cort&eacute\;s\, Ricardo Truffelo\, y los alum
 nos del Doctorado en Arquitectura y Estudios Urbanos: Luciano Basauri y Th
 aise Gambarra. Modera Jeannette Sordi.Lugar:Fecha: 29 de octubreHora: 10.2
 0hOrganizan: XX Bienal de Arquitectura y Urbanismo\n8.&nbsp\;Encuentro de 
 Accesibilidad Universal.Mesa de la Academia en el contexto de un Encuentro
  de Accesibilidad Universal que se desarrollar&aacute\; en el contexto de 
 la Bienal\, en una modalidad de taller donde se incluye la participaci&oac
 ute\;n del Director de la Escuela de Arquitectura UC Emilio De la Cerda y 
 la moderaci&oacute\;n de Pilar Urrejola\, Subdirectora de Desarrollo y Ext
 ensi&oacute\;n entre otros actores.Fecha: 31 de octubreHora: 15.00h &ndash
 \; 19.00hLugar: Cerro C&aacute\;rcelOrganiza: Colegio de Arquitectos + Ser
 vicio Nacional de la Discapacidad (Senadis)\n9.&nbsp\;Di&aacute\;logos de 
 Arquitectura Contempor&aacute\;nea.El Consejo Nacional de la Cultura y las
  Artes\, a trav&eacute\;s de su &Aacute\;rea de Arquitectura y en colabora
 ci&oacute\;n con la Fundaci&oacute\;n Antenna\, desarrollar&aacute\;n un e
 ncuentro abierto a p&uacute\;blico con Cecilia Puga\, quien conversar&aacu
 te\; con el co-director de Antenna\, Alfonso D&iacute\;az.Lugar: Parque Cu
 ltural de Valpara&iacute\;soFecha: 04 de noviembreHora: 12.00hOrganiza: Co
 nsejo Nacional de la Cultura y las Artes\n10.&nbsp\;Conferencia Magistral.
 La conferencia de Alejandro Aravena (Elemental)\, Premio Pritzker 2016\, c
 ierra la XX Bienal de Arquitectura y Urbanismo y abre la nueva versi&oacut
 e\;n del Festival Puerto de Ideas.Lugar: Parque Cultural de Valpara&iacute
 \;soFecha: 10 de noviembreHora: 19:00hOrganiza: XX Bienal de Arquitectura 
 y Urbanismo\n https://fadeu-old.urantiacos.cl/agenda/evento/1319-xx-bienal
 -de-arquitectura-y-urbanismo-dialogos-impostergables
DTSTART:20171026T030000Z
LOCATION:Parque cultural de Valparaíso (Cárcel 471\, Valparaíso\, Región de
  Valparaíso\, Chile)
SUMMARY:XX Bienal de Arquitectura y Urbanismo. Diálogos impostergables
URL:https://fadeu-old.urantiacos.cl/agenda/evento/1319-xx-bienal-de-arquite
 ctura-y-urbanismo-dialogos-impostergables
END:VEVENT
END:VCALENDAR
