BEGIN:VCALENDAR
VERSION:2.0
PRODID:-//https://fadeu-old.urantiacos.cl///NONSGML kigkonsult.se iCalcreator 2.10.15//
METHOD:PUBLISH
BEGIN:VEVENT
UID:20260420T141747UTC-18407UStao@https://fadeu-old.urantiacos.cl/
DTSTAMP:20260420T141747Z
DESCRIPTION:En el marco de la 4&ordm\; versi&oacute\;n del Arq Film Fest\, 
 se realizar&aacute\; en el pasillo sur de la casona la inauguraci&oacute\;
 n de la exposici&oacute\;n 'La imagen del arquitecto' a cargo de Luis Migu
 el Lus Arana - KLAUS\, qui&eacute\;n es invitado especial de dicho evento.
 \n&nbsp\;\n&nbsp\;\nLa exposici&oacute\;n muestra una selecci&oacute\;n de
  los dibujos realizados en los &uacute\;ltimos a&ntilde\;os por &ldquo\;Kl
 aus&rdquo\;\, humorista gr&aacute\;fico de la arquitectura\, quien parti&o
 acute\; dibujando para el consumo interno de la escuela de arquitectura de
  Harvard\, relatando los singulares eventos que all&iacute\; ocurr&iacute\
 ;an\, con una mirada mordaz.\n&nbsp\;\n\nCon la creaci&oacute\;n de &ldquo
 \;Klaustoon&rsquo\;s Blog&rdquo\; en 2009\, su humor gr&aacute\;fico se ex
 tender&iacute\;a a otros acontecimientos de la actualidad arquitect&oacute
 \;nica\, donde los premios Pritzker\, las pol&eacute\;micas o los edificio
 s del momento se mezclaban con referencias a la historia de la arquitectur
 a o a otros rincones de la cultura\, escrita y visual\, oficial o -sobre t
 odo- popular\, contempor&aacute\;nea o pret&eacute\;rita\, en vi&ntilde\;e
 tas que otros han definido como &ldquo\;caricaturas pol&iacute\;ticas\, pe
 ro para arquitectos&rdquo\;.\nLa obra de Klaus se ha publicado en revistas
  como The Architectural Review\, Aequus\, eVolo\, (In)forma\, Clog\, Condi
 tions\, Harvard Design Magazine\, MAS Context y PRAXIS\, y ha sido expuest
 a en Portimao (Portugal)\, Chicago y Londres. Desde 2013\, colabora con la
  secci&oacute\;n sat&iacute\;rica Arquinoir en la revista mexicana Arquine
 .\n\n&nbsp\;\nLuis Miguel [Koldo] Lus Arana\nArquitectura y Narrativa\n&nb
 sp\;\n&nbsp\;\nArquitecto urbanista por la Universidad de Navarra (ETSAUN\
 , 2001)\, Master in Design Studies por la Universidad de Harvard (Graduate
  School of Design\, 2008) y (ETSAUN\, 2013). Adem&aacute\;s\, ha realizado
  estudios complementarios en el Istituto di Architettura di Venezia (2000)
 \, y estancias docentes y de investigaci&oacute\;n en la Facultad de Arqui
 tectura de la Universidad Nacional de San Juan (Argentina\, 2001)\, la Har
 vard Graduate School of Arts and Sciences (2008-2009)\, la Universidad de 
 Colorado Denver\, o la Universidade do Minho. Entre otros premios y distin
 ciones\, ha recibido el Primer Premio Nacional de Fin de Estudios (Ministe
 rio de Educaci&oacute\;n\, 2002)\, el Premio Extraordinario de Fin de Carr
 era (ETSAUN\, 2002)\, el Dimitris Pikionis Award for Outstanding Academic 
 Performance (Harvard GSD\, 2008)\, o el Premio Extraordinario de Doctorado
  (ETSAUN\, 2008). Asimismo\, ha disfrutado de becas de Iniciaci&oacute\;n 
 a la Investigaci&oacute\;n (Ministerio de Educaci&oacute\;n\, 2000)\, Fund
 aci&oacute\;n 'La Caixa' (2005)\, y Caja Madrid (2007)\, o la Jos&eacute\;
  Castillejo (2018).\n&nbsp\;\n&nbsp\;\nSus principales l&iacute\;neas de i
 nvestigaci&oacute\;n tratan sobre la historia de la utop&iacute\;a arquite
 ct&oacute\;nica y urbana y las interacciones entre arquitectura y cultura 
 popular\, fundamentalmente cine\, c&oacute\;mic\, y ciencia ficci&oacute\;
 n literaria. Sobre este tema ha publicado textos en publicaciones como RA\
 , Proyecto\, Progreso\, Arquitectura\, Volume\, Studio\, Clog\, Arquine\, 
 LARS\, Urbes\, o MAS Context\, del que ha sido editor invitado. Ha sido co
 laborador habitual de las revistas A10\, Uncube\, y actualmente\, Arquine.
  Ha impartido conferencias\, charlas y seminarios en el ISMAT Portimao\, E
 TSAB\, ETSAG\, ETSAUN\, Universidad Ram&oacute\;n Llull\, o la Graham Foun
 dation. Desde 2012 es profesor de Composici&oacute\;n Arquitect&oacute\;ni
 ca en la Universidad de Zaragoza.\n&nbsp\;\n&nbsp\;\nDesde 2008\, y bajo e
 l seud&oacute\;nimo Klaus\, compagina su actividad acad&eacute\;mica con e
 l humor gr&aacute\;fico\, especializado en la s&aacute\;tira del mundo de 
 la arquitectura. Sus ilustraciones y vi&ntilde\;etas sat&iacute\;ricas han
  aparecido en medios especializados como Aequus\, eVolo\, (In)forma\, Clog
 \, Conditions Mag\, Harvard Design Magazine\, MAS Context\, STUDIO\, PRAXI
 S\, o Project International\, como ilustraciones editoriales en &ldquo\;Th
 e New City Reader&rdquo\;\, el peri&oacute\;dico-performance editado por J
 oseph Grima y Kazys Varnelis para la exposici&oacute\;n &ldquo\;The Last N
 ewspaper&rdquo\; (New Museum\, New York\, 2010-11)\, con colaboraciones ha
 bituales en las revistas Uncube (2013-2016)\, A10 (2014-2016)\, y desde 20
 14\, Arquine. Asimismo\, han aparecido en exposiciones como Klaus.Toon: Fr
 om New York to Portimao (Ordem dos Arquitectos de Portugal\, 2010)\, Dispa
 tches from the GSD: 075 Years of Design (Harvard GSD\, 2011)\, MAS Context
 : Analog (Chicago\, 2011)\, Building Comics (N&aacute\;poles\, 2013)\, Cha
 tter: Architecture Talks Back (Art Institute of Chicago\, 2014)\, o Arquin
 oir By Klaus (M&eacute\;xico\, 2018). M&aacute\;s a&uacute\;n\, han llegad
 o incluso a la cafeter&iacute\;a de OMA en Rotterdam. Algunos de sus traba
 jos son a&uacute\;n publicados con irregular periodicidad en Klaustoon's b
 log&nbsp\;https://klaustoon.wordpress.com/\n&nbsp\;\n\nFecha exposici&oacu
 te\;n_Del 26 de octubre al 02 noviembre de 2018\n&nbsp\;\nLugar_Corredor s
 ur de la casona del campus Lo Contador. El Comendador 1916\, Providencia\n
 &nbsp\;\nOrganizan_Arq Film FestFacultad de Arquitectura\, Dise&ntilde\;o 
 y Estudios Urbanos UC\n&nbsp\;\nLink_\nhttp://www.arqfilmfest.cl/evento/la
 -imagen-del-arquitecto/\n&nbsp\;\n&nbsp\;\n&nbsp\;\n\nNoticiasContacto:&nb
 sp\;redesarq@uc.cl&nbsp\;| +56 2 2354 7747www.arquitectura.uc.cl https://f
 adeu-old.urantiacos.cl/agenda/evento/1715-exposicion-la-imagen-del-arquite
 cto-luis-miguel-lus-arana-klaus
DTSTART:20181026T153000Z
DTEND:20181026T160000Z
LOCATION:Zaguán Casona Lo Contador (Zaguán Casona Lo Contador)
SUMMARY:Exposición 'La imagen del arquitecto' | Luis Miguel Lus Arana - KLA
 US
URL:https://fadeu-old.urantiacos.cl/agenda/evento/1715-exposicion-la-imagen
 -del-arquitecto-luis-miguel-lus-arana-klaus
END:VEVENT
END:VCALENDAR
