BEGIN:VCALENDAR
VERSION:2.0
PRODID:-//https://fadeu-old.urantiacos.cl///NONSGML kigkonsult.se iCalcreator 2.10.15//
METHOD:PUBLISH
BEGIN:VEVENT
UID:20260420T140830UTC-3048zuR0Oo@https://fadeu-old.urantiacos.cl/
DTSTAMP:20260420T140830Z
DESCRIPTION: https://fadeu-old.urantiacos.cl/agenda/evento/1721-exposicion-
 las-formas-del-cuadrado
DTSTART:20181027T220000Z
DTEND:20181027T230000Z
LOCATION:Sala de las Artes Visuales CAMM (Av. Gramado 1100\, Puerto Varas\,
  Región de los Lagos\, Chile)
SUMMARY:Exposición 'Las formas del cuadrado'
URL:https://fadeu-old.urantiacos.cl/agenda/evento/1721-exposicion-las-forma
 s-del-cuadrado
END:VEVENT
END:VCALENDAR
