BEGIN:VCALENDAR
VERSION:2.0
PRODID:-//https://fadeu-old.urantiacos.cl///NONSGML kigkonsult.se iCalcreator 2.10.15//
METHOD:PUBLISH
BEGIN:VEVENT
UID:20260421T081136UTC-38057gOMtn@https://fadeu-old.urantiacos.cl/
DTSTAMP:20260421T081136Z
DESCRIPTION:El programa de Doctorado en Arquitectura y Estudios Urbanos inv
 ita a la charla que dictar&aacute\; el profesor Adri&aacute\;n Gorelik\, e
 l d&iacute\;a lunes 30 de octubre a las 12.00.\nLa ciudad y la villa: para
  una historia cultural urbana de los a&ntilde\;os sesenta en Buenos Aires
 \n&iquest\;C&oacute\;mo se construyen los horizontes urbanos de lo visible
 ? &iquest\;C&oacute\;mo se ampl&iacute\;an los l&iacute\;mites de lo que e
 s observable de la ciudad para la cultura de cada per&iacute\;odo? A parti
 r del reconocimiento de que la cultura urbana de los a&ntilde\;os sesenta 
 en Buenos Aires estuvo tensionada fuertemente entre la evidencia de la mod
 ernizaci&oacute\;n y el descubrimiento de la villa miseria como su rev&eac
 ute\;s significativo\, la charla intenta reconstruir los diversos aspectos
  de una historia cultural urbana que se superponen en ese peculiar context
 o: la historia de las transformaciones urbanas junto a la de los cambios e
 n el pensamiento sobre la ciudad\; la de la vida intelectual en Buenos Air
 es junto a la de las representaciones que ese mundo intelectual gener&oacu
 te\; sobre ella. Las diferentes Buenos Aires de los a&ntilde\;os sesenta &
 ndash\;la ciudad vivida\, proyectada\, representada e ideologizada&ndash\;
  trazan sus v&iacute\;nculos con los cambios urbanos actuantes en esa d&ea
 cute\;cada de grandes cambios: apenas una propuesta para acercarnos a comp
 oner ese mosaico plural e inabarcable que toda ciudad es.\n&nbsp\;\n https
 ://fadeu-old.urantiacos.cl/agenda/evento/1355-charla-adrian-gorelik-la-ciu
 dad-y-la-villa
DTSTART:20171030T150000Z
DTEND:20171030T160000Z
LOCATION:Doctorado Arquitectura (El Comendador 1970\, Providencia\, Región 
 Metropolitana\, Chile)
SUMMARY:Charla Adrián Gorelik : La ciudad y la villa
URL:https://fadeu-old.urantiacos.cl/agenda/evento/1355-charla-adrian-goreli
 k-la-ciudad-y-la-villa
END:VEVENT
END:VCALENDAR
