BEGIN:VCALENDAR
VERSION:2.0
PRODID:-//https://fadeu-old.urantiacos.cl///NONSGML kigkonsult.se iCalcreator 2.10.15//
METHOD:PUBLISH
BEGIN:VEVENT
UID:20260420T124059UTC-3083AmcncE@https://fadeu-old.urantiacos.cl/
DTSTAMP:20260420T124059Z
DESCRIPTION:El pr&oacute\;ximo martes 30 de octubre a las 19.30 hrs se real
 izar&aacute\; en Galer&iacute\;a NAC\, ubicada en Juan de Dios Vial Correa
  1351\, Providencia\, el lanzamiento del libro ''Anacron&iacute\;a'' del a
 rquitecto Juan Agust&iacute\;n Soza\, editado por Ediciones ARQ y que comp
 ila y documenta el trabajo y realizado por su oficina.&nbsp\;Comentan Seba
 stian Irarr&aacute\;zaval y Hugo Mondrag&oacute\;n.\nDise&ntilde\;ar Arqui
 tectura involucra necesariamente una dislocaci&oacute\;n temporal\, tanto 
 en la proyecci&oacute\;n de un tiempo futuro\, al imaginar un nuevo espaci
 o\, como en la reflexi&oacute\;n anterior\, sobre los antecedentes general
 es y particulares que preceden las decisiones proyectuales.\nEste ejercici
 o se hace inherente y sustancial al oficio de la arquitectura hasta alcanz
 ar el punto de lo extenuante\, dado lo extenso del proceso que involucra l
 legar a la obra construida y lograr la consistencia que hace que &eacute\;
 sta trascienda sus l&iacute\;mites temporales.\nLa presente publicaci&oacu
 te\;n indaga en ese espacio de reflexi&oacute\;n entre la imagen inicial y
  la experiencia construida como herramienta que enlaza una posibilidad ima
 ginativa desde lo tect&oacute\;nico. Dibujos\, formas\, escritos\, modelos
  y resultados concluyen en una mirada anacr&oacute\;nica hacia la b&uacute
 \;squeda de una carrera metodol&oacute\;gica propia.\nFecha_Martes 30 de o
 ctubre de 2018\, 19.30 h.\nLugar_Galer&iacute\;a NAC. Juan de Dios Vial Co
 rrea 1351\, Providencia\nInvitan_Ediciones ARQ\n\nArquitecturaContacto:&nb
 sp\;redesarq@uc.cl&nbsp\;| +56 2 2354 7747www.arquitectura.uc.cl https://f
 adeu-old.urantiacos.cl/agenda/evento/1727-lanzamiento-arq-anacronia-juan-a
 gustin-soza
DTSTART:20181030T223000Z
DTEND:20181030T233000Z
LOCATION:Galería NAC (Juan de Dios Vial Correa 1351\, Providencia\, Región 
 Metropolitana\, Chile)
SUMMARY:Lanzamiento ARQ: Anacronía | Juan Agustín Soza
URL:https://fadeu-old.urantiacos.cl/agenda/evento/1727-lanzamiento-arq-anac
 ronia-juan-agustin-soza
END:VEVENT
END:VCALENDAR
