BEGIN:VCALENDAR
VERSION:2.0
PRODID:-//https://fadeu-old.urantiacos.cl///NONSGML kigkonsult.se iCalcreator 2.10.15//
METHOD:PUBLISH
BEGIN:VEVENT
UID:20260421T081135UTC-60006SVTiH@https://fadeu-old.urantiacos.cl/
DTSTAMP:20260421T081135Z
DESCRIPTION:Lanzamiento ARQDOCSEnrique Walker\nEl Martes 31 de octubre se r
 ealizar&aacute\; el lanzamiento del decimocuarto libro de la serie ARQDOCS
  de ediciones ARQ\, titulado Enrique Walker\nEnrique es profesor Asociado 
 en Columbia GSAPP y est&aacute\; a cargo el Mag&iacute\;ster en Advanced A
 rchitectural Design. Como director del programa es responsable la c&aacute
 \;tedra Metropolis y el seminario Arguments\, adem&aacute\;s de haber diri
 gido durante una d&eacute\;cada la serie de talleres y seminarios The Dict
 ionary of Received Ideas\, que ser&aacute\; discutida en esta nueva public
 aci&oacute\;n.\nAdem&aacute\;s de su trabajo docente en Columbia GSAPP\, E
 nrique ha dado clases en Princeton School of Architecture\, la Escuela T&e
 acute\;cnica Superior de Arquitectura de Madrid\, el Instituto de Arquitec
 tura de Barcelona\, Tokyo Institute of Technology\, Pratt Institute y la E
 scuela de Arquitectura de la Universidad de Chile.\nEl lanzamiento contar&
 aacute\; con el comentario de Gabriela Garc&iacute\;a de Cort&aacute\;zar\
 , profesora de mag&iacute\;ster de la Escuela de Arquitectura UC\, MA en H
 istoria de la Arquitectura de Bartlett School of Architecture y Doctora po
 r la Architectural Association School of Architecture.\nAl finalizar el ev
 ento se realizar&aacute\; un vino de honor para los asistentes.\nFecha_Mar
 tes 31 de octubre de 2017. 19.00 hrs\nLugar_Auditorio Fernando Castillo\, 
 Campus Lo Contador. El Comendador 1916\, Providencia\nInvitan_Ediciones AR
 QArquitectura UC\n&nbsp\;\n https://fadeu-old.urantiacos.cl/agenda/evento/
 1365-lanzamiento-arqdocs-enrique-walker
DTSTART:20171031T220000Z
DTEND:20171031T230000Z
LOCATION:Auditorio Fernando Castillo Velasco. Edificio ARQ (El Comendador 1
 936\, Providencia\, Región Metropolitana\, Chile)
SUMMARY:LANZAMIENTO ARQDOCS Enrique Walker
URL:https://fadeu-old.urantiacos.cl/agenda/evento/1365-lanzamiento-arqdocs-
 enrique-walker
END:VEVENT
BEGIN:VEVENT
UID:20260421T081135UTC-6009NEU3xt@https://fadeu-old.urantiacos.cl/
DTSTAMP:20260421T081135Z
DESCRIPTION:La fotograf&iacute\;a se constituye hoy como una herramienta fu
 ndamental para la comprensi&oacute\;n de la arquitectura y el paisaje. Est
 a herramienta\, sirve tanto como objeto de documentaci&oacute\;n y an&aacu
 te\;lisis\, como insumo para la investigaci&oacute\;n. Este curso propone 
 estudiar la fotograf&iacute\;a como una forma disciplinada de ver y expres
 ar ideas. El trabajar con el concepto de serie fotogr&aacute\;fica\, como 
 metodolog&iacute\;a de trabajo personal\, permite al alumno construir una 
 estrategia de narrativa visual cargada de sentido que va m&aacute\;s all&a
 acute\; de una simple recolecci&oacute\;n de im&aacute\;genes notables. A 
 trav&eacute\;s de la revisi&oacute\;n del trabajo de fot&oacute\;grafos de
  arquitectura y paisaje\, sus series fotogr&aacute\;ficas\, y por medio de
  la modalidad de taller semanal\, el curso entrega las herramientas te&oac
 ute\;ricas y pr&aacute\;cticas para el desarrollo de un proyecto fotogr&aa
 cute\;fico personal. El proyecto del curso constituye una experiencia curr
 icular para el alumno y una oportunidad para la conformaci&oacute\;n de su
  portafolio como testimonio de trabajo.\n+ Informaci&oacute\;n aqu&iacute\
 ;.\n&nbsp\; https://fadeu-old.urantiacos.cl/agenda/evento/1283-taller-de-f
 otografia-de-arquitectura-y-paisaje-la-serie-fotografica
DTSTART:20171031T030000Z
LOCATION:Campus Lo Contador (El Comendador 1916\, Providencia\, Providencia
 \, Región Metropolitana\, Chile)
SUMMARY:Taller de Fotografía de Arquitectura y Paisaje: la serie fotográfic
 a
URL:https://fadeu-old.urantiacos.cl/agenda/evento/1283-taller-de-fotografia
 -de-arquitectura-y-paisaje-la-serie-fotografica
END:VEVENT
END:VCALENDAR
