BEGIN:VCALENDAR
VERSION:2.0
PRODID:-//https://fadeu-old.urantiacos.cl///NONSGML kigkonsult.se iCalcreator 2.10.15//
METHOD:PUBLISH
BEGIN:VEVENT
UID:20260421T081121UTC-6847NzLovh@https://fadeu-old.urantiacos.cl/
DTSTAMP:20260421T081121Z
DESCRIPTION:Un nuevo inter&eacute\;s por los textiles est&aacute\; teniendo
  un impacto positivo en los hacedores de arte textil\, en los programas de
  textiles en las academias\, universidades y en el bienestar de los museos
  textiles.\nSPEAKERSBeatrijs Sterk\, fundadora de la Red Textil Europea-ET
 N (European Textile Network) y editora en- jefe de la revista Textile Foru
 m. Ha organizado 17 Congresos y Asambleas ETN en ciudades europeas y euroa
 si&aacute\;ticas\, as&iacute\; como promovido el proyecto Textile Routes (
 Las Rutas Textiles de Europa) logrando el apoyo de la Uni&oacute\;n Europe
 a.\nMartha Alvarez\, dise&ntilde\;adora\, artista textil e investigadora. 
 Coordin&oacute\; el Bolet&iacute\;n TEXTILIA de la Red Textil Iberoamerica
 na y est&aacute\; encargada de convocatorias\, formulaci&oacute\;n de proy
 ectos\, redacci&oacute\;n de escritos\, sistematizaci&oacute\;n y correcci
 &oacute\;n de estilo en la World Textile Art-WTA.\n&nbsp\;\n https://fadeu
 -old.urantiacos.cl/agenda/evento/1377-charla-arte-textil-contemporaneo-el-
 nuevo-escenario
DTSTART:20171102T213000Z
DTEND:20171102T223000Z
LOCATION:Auditorio FADEU\, Campus Lo Contador PUC (El Comendador 1916\, Pro
 videncia\, Providencia\, Región Metropolitana\, Chile)
SUMMARY:CHARLA:  Arte Textil Contemporáneo: El nuevo escenario
URL:https://fadeu-old.urantiacos.cl/agenda/evento/1377-charla-arte-textil-c
 ontemporaneo-el-nuevo-escenario
END:VEVENT
BEGIN:VEVENT
UID:20260421T081121UTC-6852VKd0VK@https://fadeu-old.urantiacos.cl/
DTSTAMP:20260421T081121Z
DESCRIPTION:WORKSHOP INTERNACIONAL: Como imaginar la construcci&oacute\;n d
 e vivienda en sitio propioCharla inaugural: Darinka Czischke y Rodrigo Tap
 ia\nCharla inaugural del Workshop internacional: Como imaginar la construc
 ci&oacute\;n de vivienda en sitio propio\, llevado a cabo en colaboraci&oa
 cute\;n con la universidad TU Delft\, Holanda. Los conferencistas ser&aacu
 te\;n Rodrigo Tapia\, especialista en vivienda social en Santiago de Chile
  y profesor de la UC y Darinka Czischke\, representante de la TU Delft esp
 ecialista en Collaborative Housing.\nDarinka Czischke es especialista en p
 ol&iacute\;ticas de vivienda social\, as&iacute\; como en temas de regener
 aci&oacute\;n urbana y desarrollo urbano sostenible. Desde 2015\, Darinka 
 se desempe&ntilde\;a como profesora asistente en la Faculty of Architectur
 e and the Built Environment\, Delft University of Technology (TU Delft)\, 
 Pa&iacute\;ses Bajos. En 2014 obtuvo la &trade\;Delft Technology Fellowshi
 p&int\;\, que le permite investigar sobre collaborative housing.\nRodrigo 
 Tapia es arquitecto y Mag&iacute\;ster en Desarrollo Urbano de la Pontific
 ia Universidad Cat&oacute\;lica de Chile\, Profesor Asociado de la Escuela
  de Arquitectura PUC. Su principal l&iacute\;nea de inter&eacute\;s se ref
 iere a la Habitabilidad en Territorios Vulnerables\, particularmente en el
  campo de la llamada vivienda social y el mejoramiento de asentamientos ur
 banos populares. Es integrante del taller 9x18.\nFecha_Jueves 2 de noviemb
 re 15.00 - 17.00 hrs.\nLugar_Sala doctorado. Escuela de Arquitectura UC.  
 El Comendador 1936\, Providencia\nInvitan_Arquitectura UC\nParticipa_TU De
 lftMPURFundaci&oacute\;n Junto Al Barrio\nOrganiza_Laboratorio 9 x 18\n ht
 tps://fadeu-old.urantiacos.cl/agenda/evento/1349-workshop-internacional-co
 mo-imaginar-la-construccion-de-vivienda-en-sitio-propio
DTSTART:20171102T200000Z
DTEND:20171102T210000Z
LOCATION:Sala Doctorado (El Comendador 1970\, Providencia\, Región Metropol
 itana\, Chile)
SUMMARY:WORKSHOP INTERNACIONAL: Como imaginar la construcción de vivienda e
 n sitio propio
URL:https://fadeu-old.urantiacos.cl/agenda/evento/1349-workshop-internacion
 al-como-imaginar-la-construccion-de-vivienda-en-sitio-propio
END:VEVENT
BEGIN:VEVENT
UID:20260421T081121UTC-6859KaO0cx@https://fadeu-old.urantiacos.cl/
DTSTAMP:20260421T081121Z
DESCRIPTION:Preservaci&oacute\;n vs Conservaci&oacute\;n: intervenciones en
  el patrimonioConferencia de Jos&eacute\; Morales de MGM\nEl jueves 2 de n
 oviembre Jos&eacute\; Morales\, de la oficina espa&ntilde\;ola Morales Gil
 es Mariscal se presentar&aacute\; en fromato charla magistral entregando s
 u visi&oacute\;n sobre 2 de las m&aacute\;s recurrentes implicaciones a la
  hora de intervenir en el patrimonio: la preservaci&oacute\;n y la conserv
 aci&oacute\;n. Mientras la primera tiene como objetivo mantener el patrimo
 nio en su estado actual sin permitir ning&uacute\;n tipo de acci&oacute\;n
 \, la segunda actitud pone en valor aquellas intervenciones en el patrimon
 io que permitan transformar el patrimonio para que este pueda ser incorpor
 ado como parte del tejido productivo de la ciudad.\nSe profundizar&aacute\
 ; en estos aspectos a trav&eacute\;s del an&aacute\;lisis de tres casos en
  Espa&ntilde\;a: la rehabilitaci&oacute\;n de viviendas en el barrio del P
 &oacute\;pulo (C&aacute\;diz)\, la rehabilitaci&oacute\;n del Hotel Holos\
 , (Sevilla)\, y la rehabilitaci&oacute\;n del antiguo convento de Santa Ma
 r&iacute\;a de los Reyes (Sevilla).\nConferencia realizada con el aporte d
 e la Vicerrector&iacute\;a de Investigaci&oacute\;n de la Pontificia Unive
 rsidad Cat&oacute\;lica de Chile.\nEntrada liberada. Cupos limitados. Conf
 irmar asistencia al correo magisterpatrimonio(at)uc.cl\nFecha_Jueves 02 de
  noviembre de 2017. 13.30 hrs.\nLugar_Auditorio Fernando Castillo Velasco\
 , Campus Lo Contador. El Comendador 1936\, Providencia\nInvitan_MAPCArquit
 ectura UCVRI\n&nbsp\;\n https://fadeu-old.urantiacos.cl/agenda/evento/1341
 -charla-magistral-jose-morales
DTSTART:20171102T163000Z
DTEND:20171102T173000Z
LOCATION:Auditorio Fernando Castillo Velasco. Edificio ARQ (El Comendador 1
 936\, Providencia\, Región Metropolitana\, Chile)
SUMMARY:Charla Magistral José Morales
URL:https://fadeu-old.urantiacos.cl/agenda/evento/1341-charla-magistral-jos
 e-morales
END:VEVENT
BEGIN:VEVENT
UID:20260421T081121UTC-6866otWk9H@https://fadeu-old.urantiacos.cl/
DTSTAMP:20260421T081121Z
DESCRIPTION:Homenaje al arquitecto Eugene Joannon Crozier (1860-1938) y a l
 a Postulaci&oacute\;n al Consejo de Monumentos Nacionales\, de una serie d
 e sus obras construidas entre 1891 y 1936.\nEl acto de homenaje se realiza
 r&aacute\; el jueves 2 de noviembre\, a las 18:30 horas\, seguido de un vi
 no de honor en la Facultad de Arquitectura de la Pontificia Universidad Ca
 t&oacute\;lica de Chile. El Comendador 1916\, sala la Capilla\, Providenci
 a.\n&nbsp\; https://fadeu-old.urantiacos.cl/agenda/evento/1315-homenaje-a-
 eugene-joannon-crozier
DTSTART:20171102T030000Z
LOCATION:Sala La Capilla\, campus Lo Contador (El Comendador 1916\, Provide
 ncia\, Región Metropolitana\, Chile)
SUMMARY:Homenaje a Eugéne Joannon Crozier
URL:https://fadeu-old.urantiacos.cl/agenda/evento/1315-homenaje-a-eugene-jo
 annon-crozier
END:VEVENT
BEGIN:VEVENT
UID:20260421T081121UTC-6869WzndAd@https://fadeu-old.urantiacos.cl/
DTSTAMP:20260421T081121Z
DESCRIPTION:Seminario Patrimonio y Transformaci&oacute\;n\, obra del arquit
 ecto espa&ntilde\;ol Jos&eacute\; Morales. https://fadeu-old.urantiacos.cl
 /agenda/evento/1317-seminario-patrimonio-y-transformacion-obra-del-arquite
 cto-espanol-jose-morales
DTSTART:20171102T030000Z
LOCATION:Campus Lo Contador (El Comendador 1916\, Providencia\, Providencia
 \, Región Metropolitana\, Chile)
SUMMARY:Seminario Patrimonio y Transformación\, obra del arquitecto español
  José Morales
URL:https://fadeu-old.urantiacos.cl/agenda/evento/1317-seminario-patrimonio
 -y-transformacion-obra-del-arquitecto-espanol-jose-morales
END:VEVENT
END:VCALENDAR
