BEGIN:VCALENDAR
VERSION:2.0
PRODID:-//https://fadeu-old.urantiacos.cl///NONSGML kigkonsult.se iCalcreator 2.10.15//
METHOD:PUBLISH
BEGIN:VEVENT
UID:20260421T081121UTC-9955GRzuaI@https://fadeu-old.urantiacos.cl/
DTSTAMP:20260421T081121Z
DESCRIPTION:El pr&oacute\;ximo viernes 3 de noviembre se realizar&aacute\; 
 el lanzamiento del libro de Raquel Rolnik 'La guerra de los lugares'.\nCom
 entan\nFrancisco Sabatini\, Acad&eacute\;mico del Instituto de Estudios Ur
 banos y Territoriales UCLuis Fuentes\, Director del Instituto de Estudios 
 Urbanos y Territoriales UCAna Sugranyes\, Secretaria General de H&aacute\;
 bitat International Coalition (HIC)Felipe S&aacute\;ez\, Comit&eacute\; ed
 itorial LOM Arquitectura\n&nbsp\;\n https://fadeu-old.urantiacos.cl/agenda
 /evento/1381-lanzamiento-del-libro-de-raquel-rolnik-la-guerra-de-los-lugar
 es
DTSTART:20171103T210000Z
DTEND:20171103T220000Z
LOCATION:Auditorio FADEU\, Campus Lo Contador PUC (El Comendador 1916\, Pro
 videncia\, Providencia\, Región Metropolitana\, Chile)
SUMMARY:Lanzamiento del libro de Raquel Rolnik 'La Guerra de los Lugares'
URL:https://fadeu-old.urantiacos.cl/agenda/evento/1381-lanzamiento-del-libr
 o-de-raquel-rolnik-la-guerra-de-los-lugares
END:VEVENT
BEGIN:VEVENT
UID:20260421T081121UTC-9959zrTXGC@https://fadeu-old.urantiacos.cl/
DTSTAMP:20260421T081121Z
DESCRIPTION:Instalaci&oacute\;n en el Museo de la Memoria y los DDHH del pa
 nel KPD firmado por el Presidente Salvador Allende y adaptaci&oacute\;n de
  la muestra con que el Pabell&oacute\;n de Chile gan&oacute\; el Le&oacute
 \;n de Plata de la Biennale di Venezia 2014.\nLa actividad se realizar&aac
 ute\; el viernes 3 de noviembre a las 11:45 horas\, contar&aacute\; con la
  participaci&oacute\;n de Ernesto Ottone\, Ministro de Cultura\, y Maurici
 o Vi&ntilde\;ambres\, Alcalde Quilpu&eacute\;\, junto a los ex trabajadore
 s de la planta de viviendas pre fabricadas KPD\, adem&aacute\;s de Pedro A
 lonso y Hugo Palmarola\, curadores del pabell&oacute\;n.\n&nbsp\;\n https:
 //fadeu-old.urantiacos.cl/agenda/evento/1351-instalacion-panel-kpd
DTSTART:20171103T144500Z
DTEND:20171103T154500Z
LOCATION:Museo de la Memoria y Derechos Humanos (Matucana 501\, Santiago\, 
 Región Metropolitana\, Chile)
SUMMARY:Instalación Panel KPD
URL:https://fadeu-old.urantiacos.cl/agenda/evento/1351-instalacion-panel-kp
 d
END:VEVENT
BEGIN:VEVENT
UID:20260421T081121UTC-9963MXEhrv@https://fadeu-old.urantiacos.cl/
DTSTAMP:20260421T081121Z
DESCRIPTION:MGM Arquitectos: Obra RecientePor Jos&eacute\; Morales S&aacute
 \;nchez\nCuando se revisa la obra del estudio Morales-De Giles-Mariscal (M
 GM) llama la atenci&oacute\;n la cantidad de obra realizada o en v&iacute\
 ;as de realizaci&oacute\;n producto de concursos. Como bien lo explican el
 los mismos\, esto les ha permitido continuar trabajando en una l&iacute\;n
 ea de experimentaci&oacute\;n\, mucho m&aacute\;s problem&aacute\;tica y r
 estringida para aquellos cuyo quehacer depende pura y exclusivamente del m
 ercado. Incluso los vaivenes pol&iacute\;ticos y econ&oacute\;micos\, que 
 han llevado al atraso considerable de numerosas obras\, han sido aprovecha
 dos por el estudio para seguir reflexionando y transformando sus proyectos
 .\nAhora bien\, esta experimentaci&oacute\;n se sustenta en ciertos objeti
 vos y determinadas estrategias proyectuales que motivan una reflexi&oacute
 \;n particular: las b&uacute\;squedas siguiendo lineamientos y operaciones
  provenientes de las artes pl&aacute\;sticas\, una concepci&oacute\;n del 
 habitar centrada en la experiencia cotidiana y la problem&aacute\;tica del
  espacio p&uacute\;blico en la sociedad contempor&aacute\;nea.\nFecha_Vier
 nes 03 de Noviembre de 2017\, 10:00 hrs.\nLugar_Auditorio Fernando Castill
 o Velasco\, El Comendador 1936\, Providencia.\nInvitan_MAPC\n&nbsp\;\n htt
 ps://fadeu-old.urantiacos.cl/agenda/evento/1369-mgm-arquitectos-obra-recie
 nte-por-jose-morales-sanchez
DTSTART:20171103T130000Z
DTEND:20171103T140000Z
LOCATION:Auditorio Fernando Castillo Velasco. Edificio ARQ (El Comendador 1
 936\, Providencia\, Región Metropolitana\, Chile)
SUMMARY:MGM Arquitectos: Obra Reciente Por José Morales Sánchez
URL:https://fadeu-old.urantiacos.cl/agenda/evento/1369-mgm-arquitectos-obra
 -reciente-por-jose-morales-sanchez
END:VEVENT
END:VCALENDAR
