BEGIN:VCALENDAR
VERSION:2.0
PRODID:-//https://fadeu-old.urantiacos.cl///NONSGML kigkonsult.se iCalcreator 2.10.15//
METHOD:PUBLISH
BEGIN:VEVENT
UID:20260421T081122UTC-4448wbUW1t@https://fadeu-old.urantiacos.cl/
DTSTAMP:20260421T081122Z
DESCRIPTION:Los invitamos cordialmente al lanzamiento de la publicaci&oacut
 e\;n ''Un di&aacute\;logo permanente con la arquitectura'' a realizarse en
  Espacio Dinamarca ( Dinamarca 399-Cerro Pante&oacute\;n Valpara&iacute\;s
 o)\, a las 19.00 hrs del s&aacute\;bado 04 de noviembre.\nLa publicaci&oac
 ute\;n ser&aacute\; repartida entre los asistentes al evento y aquellos pr
 ofesores que hayan colaborado con el libro podr&aacute\;n retirar sus copi
 as de cortes&iacute\;a.\nLes informamos adem&aacute\;s\, que el mismo s&aa
 cute\;bado 04 de noviembre\, la Escuela dispondr&aacute\; de un bus para t
 ransportar a todos quienes deseen asistir al evento (solo profesores)\, qu
 e partir&aacute\; desde Lo Contador a mediod&iacute\;a y regresar&aacute\;
  a medianoche al mismo campus (confirmar asistencia con Felipe De Ferrari)
 .\nPresentaci&oacute\;n de la publicaci&oacute\;n audiovisual e impresa 'D
 i&aacute\;logo permanente con la Arquitectura' editado por la Escuela de A
 rquitectura UC y Ediciones ARQ.Fecha: 04 de NoviembreHora: 19.00hLugar: Di
 namarca 399Co-produce: EARQ UC + Ediciones ARQ + FADEU\n https://fadeu-old
 .urantiacos.cl/agenda/evento/1379-dialogo-permanente-con-la-arquitectura
DTSTART:20171104T220000Z
DTEND:20171104T230000Z
LOCATION:Dinamarca 399\, Valparaíso (Dinamarca 399\, Valparaíso)
SUMMARY:Diálogo permanente con la Arquitectura
URL:https://fadeu-old.urantiacos.cl/agenda/evento/1379-dialogo-permanente-c
 on-la-arquitectura
END:VEVENT
END:VCALENDAR
