BEGIN:VCALENDAR
VERSION:2.0
PRODID:-//https://fadeu-old.urantiacos.cl///NONSGML kigkonsult.se iCalcreator 2.10.15//
METHOD:PUBLISH
BEGIN:VEVENT
UID:20260420T124217UTC-2115CMv4mH@https://fadeu-old.urantiacos.cl/
DTSTAMP:20260420T124217Z
DESCRIPTION:La provincia de Cha&ntilde\;aral fue afectada por dos aluviones
  en los &uacute\;ltimos a&ntilde\;os. El primero\, en marzo 2015\, toma or
 igen en lluvias en la cordillera y produjo da&ntilde\;os todav&iacute\;a n
 o resueltos en toda la regi&oacute\;n\; el segundo\, en mayo 2017\, trajo 
 lluvias que activaron las quebradas costeras que hab&iacute\;an afectado a
  la poblaci&oacute\;n el 2015.\nEste territorio&nbsp\; presenta la aparent
 e contradicci&oacute\;n de estar en el desierto m&aacute\;s &aacute\;rido 
 del mundo\; y a la vez requerir estar preparado para los aluviones. Esta p
 odr&iacute\;a ser la tarea m&aacute\;s desafiante planteada a la disciplin
 a de los planificadores y al dise&ntilde\;o urbano. Por estas razones\, el
  Programa de Planes y Proyectos Urbanos de la Universidad Cat&oacute\;lica
  y otros centros de investigaci&oacute\;n nacionales e internacionales se 
 han interesado en este territorio. Los trabajos de estudiantes que se pres
 entan y que han sido parte de los talleres de Aula\, de Investigaci&oacute
 \;n y de Especialidad de los profesores Roberto Moris (MPUR)\, Renato D&rs
 quo\;Alen&ccedil\;on (MASE)\, Pilar Garc&iacute\;a (MAPA)\, Arturo Scheide
 gger (MARQ) e Ignacio Garc&iacute\;a (MARQ) dan cuenta de los logros y apr
 endizajes que se pueden obtener del trabajo en terreno y la investigaci&oa
 cute\;n de largo plazo en un mismo territorio.&nbsp\;\nFecha exposici&oacu
 te\;n: 5 al 16 noviembre\n https://fadeu-old.urantiacos.cl/agenda/evento/1
 731-exposicion-territorio-atacama-investigacion-talleres-y-experiencias
DTSTART:20181105T220000Z
DTEND:20181105T230000Z
LOCATION:Hall Arquitectura UC (El Comendador 1936\, Providencia\, Región Me
 tropolitana\, Chile)
SUMMARY:Exposición 'Territorio Atacama. Investigación\, Talleres y Experien
 cias'
URL:https://fadeu-old.urantiacos.cl/agenda/evento/1731-exposicion-territori
 o-atacama-investigacion-talleres-y-experiencias
END:VEVENT
BEGIN:VEVENT
UID:20260420T124217UTC-2123lmRvOX@https://fadeu-old.urantiacos.cl/
DTSTAMP:20260420T124217Z
DESCRIPTION:Conferencia 'Interiores Subversivos' |&nbsp\;Alfredo Thiermann 
 Riesco\nWorkshop TES MARQ | nov. 05-09\n&nbsp\;\n&nbsp\;\n\nConferencia de
 l arquitecto Alfredo Thiermann en el marco del tercer Workshop TES que dir
 igir&aacute\; en el programa de Magister en Arquitectura UC. La charla ser
 &aacute\; abierta a todo p&uacute\;blico el pr&oacute\;ximo 05 de noviembr
 e en el auditorio Fernando Castillo Velazco. La presentaci&oacute\;n final
  del workshop se realizar&aacute\; el viernes 09 de noviembre\,&nbsp\; en 
 el T&uacute\;nel Poniente desde las 15:00hrs.\n&ldquo\;Interiores Subversi
 vos&rdquo\; expondr&aacute\; el trabajo realizado por el arquitecto Alfred
 o Thiermann Riesco en los &uacute\;ltimos a&ntilde\;os. A trav&eacute\;s d
 el an&aacute\;lisis de referentes hist&oacute\;ricos y de proyectos constr
 uidos\, la charla ahondar&aacute\; en la relaci&oacute\;n e intersecci&oac
 ute\;n del proyecto de arquitectura con otros medios\, poniendo en relevan
 cia la importancia de la cultura material en el mundo en el que todo parec
 e tender a lo virtual.\nAlfredo Thiermann Riesco&nbsp\;\nAlfredo es arquit
 ecto y doctorando por el ETH en Zurich. Su trabajo ha sido publicado en Th
 ersholds Journal of Architecture\, ARQ\, Potlatch\, GTA Papers y Real Revi
 ew\; y exhibido en el Museo Nacional de Bellas Artes\, Museo de Arte Moder
 no de Nueva York (MoMA)\, el Teatro Municipal de Santiago y la Bienal de D
 ise&ntilde\;o de Estambul\, entre otros medios e instituciones. En 2016 fu
 nd&oacute\; la oficina ThiermannCruz junto a Sebasti&aacute\;n Cruz. Alfre
 do vive con su esposa Michelle Gravel y sus hijos Pedro Trist&aacute\;n y 
 Juan Nataniel y trabaja entre las ciudades de Berl&iacute\;n\, Zurich y Sa
 ntiago\, desarrollando su pr&aacute\;ctica y una investigaci&oacute\;n tit
 ulada &ldquo\;Radio-Activities: The Architecture of Broadcasting in Berlin
 '.\nPrograma workshop_\n\nFecha_\nLunes 05 de noviembre de 2018\, 18.30 h
 \nLugar_\nAuditorio FCV\, campus Lo Contador. El Comendador 1936\, Provide
 ncia\nOrganizan_\nMag&iacute\;ster en Arquitectura UC\n&nbsp\;\n\n&nbsp\;
 \n&nbsp\; https://fadeu-old.urantiacos.cl/agenda/evento/1724-conferencia-a
 lfredo-thiermann-marq-uc
DTSTART:20181105T213000Z
DTEND:20181105T223000Z
LOCATION:Auditorio Fernando Castillo Velasco. Edificio ARQ (El Comendador 1
 936\, Providencia\, Región Metropolitana\, Chile)
SUMMARY:Conferencia Alfredo Thiermann | MARQ UC
URL:https://fadeu-old.urantiacos.cl/agenda/evento/1724-conferencia-alfredo-
 thiermann-marq-uc
END:VEVENT
BEGIN:VEVENT
UID:20260420T124217UTC-21325SzvHe@https://fadeu-old.urantiacos.cl/
DTSTAMP:20260420T124217Z
DESCRIPTION:\nEl Workshop Internacional&nbsp\;'An&aacute\;lisis de ciclo de
  vida en el ambiente construido: Hacia el uso sostenible de energ&iacute\;
 a y agua'\,&nbsp\;&nbsp\;est&aacute\; dirigido a estudiantes de pregrado y
  postgrado\,&nbsp\;organizado por CEDEUS y cuenta con la colaboraci&oacute
 \;n de la Vicerrector&iacute\;a de Investigaci&oacute\;n de la UC&nbsp\;y 
 del Mag&iacute\;ster en Arquitectura Sustentable y Energ&iacute\;a&nbsp\;d
 e la Escuela de Arquitectura UC\, se realizar&aacute\; en el marco de la v
 isita de los acad&eacute\;micos:\n - Dr. Robert H. Crawford\, Profesor de 
 Construccion y Evaluacion Ambiental de la&nbsp\;Facultad de Arquitectura\,
  Construcci&oacute\;n&nbsp\;y Planificaci&oacute\;n&nbsp\;de la Universida
 d de Melbourne- Dr. Andr&eacute\; Stephan\, Profesor en Ingenier&iacute\;a
  de la Edificaci&oacute\;n de la&nbsp\;Facultad de Arquitectura\, Construc
 ci&oacute\;n&nbsp\;y Planificaci&oacute\;n&nbsp\;de la Universidad de Melb
 ourne- Dr. V&iacute\;ctor Bunster\, investigador postdoctoral FONDECYT de 
 CEDEUS&nbsp\;&nbsp\;Escuela de Arquitectura de la Pontificia Universidad C
 at&oacute\;lica de Chile.\n&nbsp\;Los invitados\, expertos en la materia\,
  acompa&ntilde\;ar&aacute\;n las actividades del Workshop y expondr&aacute
 \;n en el&nbsp\;Seminario Internacional que&nbsp\; se realizar&aacute\; el
 &nbsp\;mi&eacute\;rcoles 7 de noviembre\, en el Sal&oacute\;n de Honor\, d
 e la Casa Central&nbsp\;&nbsp\;de la Pontificia Universidad Cat&oacute\;li
 ca de Chile de 8:30 a 13:00h.&nbsp\;INSCRIPCIONES SEMINARIO&nbsp\;&nbsp\;&
 nbsp\;mayor informaci&oacute\;n:&nbsp\;Seminario Internacional_CEDEUS\n&nb
 sp\;\nWorkshop Internacional:\nFecha:&nbsp\;5 - 8 noviembreLugar:&nbsp\; S
 al&oacute\;n Sergio Larra&iacute\;n\, Campus Lo Contador FADEU UC\nProgram
 a&nbsp\;Workshop:MON &nbsp\; 5 | 14:00 TO &nbsp\;18:00&nbsp\; &nbsp\; &nbs
 p\; &nbsp\; &nbsp\; &nbsp\; General introduction and task\n\nTUE&nbsp\; &n
 bsp\; 6&nbsp\;| 15:30 TO&nbsp\; 18:30&nbsp\; &nbsp\; &nbsp\; &nbsp\; &nbsp
 \; &nbsp\; &nbsp\;Feedback session 1&nbsp\;\n\n\nWED&nbsp\; &nbsp\;7&nbsp\
 ;| 16:00 TO&nbsp\; 18:00&nbsp\; &nbsp\; &nbsp\; &nbsp\; &nbsp\; &nbsp\; &n
 bsp\;Feedback session 2&nbsp\;\n\n\nTHU&nbsp\; &nbsp\; 8&nbsp\;|&nbsp\; 09
 :00 TO 12:30&nbsp\; &nbsp\; &nbsp\; &nbsp\; &nbsp\; &nbsp\; &nbsp\;Final p
 resentations and closing session\n\n\n\nCupos limitados\, pre&nbsp\;inscri
 pci&oacute\;n&nbsp\;abierta&nbsp\;en:&nbsp\;INSCRIPCIONES WORKSHOP\n https
 ://fadeu-old.urantiacos.cl/agenda/evento/1717-workshop-internacional-anali
 sis-de-ciclo-de-vida-en-el-ambiente-construido-hacia-el-uso-sostenible-de-
 energia-y-agua
DTSTART:20181105T030000Z
LOCATION:Salón Sergio Larraín\, Campus Lo Contador ()
SUMMARY:Workshop Internacional 'Análisis de ciclo de vida en el ambiente co
 nstruido: Hacia el uso sostenible de energía y agua'
URL:https://fadeu-old.urantiacos.cl/agenda/evento/1717-workshop-internacion
 al-analisis-de-ciclo-de-vida-en-el-ambiente-construido-hacia-el-uso-sosten
 ible-de-energia-y-agua
END:VEVENT
BEGIN:VEVENT
UID:20260420T124217UTC-2142gc8TgD@https://fadeu-old.urantiacos.cl/
DTSTAMP:20260420T124217Z
DESCRIPTION:Workshop 'Interiores Subversivos' |&nbsp\;Alfredo Thiermann Rie
 sco\nWorkshop TES MARQ | nov. 05-09\n&nbsp\;\n\nEl tercer&nbsp\;Workshop T
 ES&nbsp\;de este semestre&nbsp\;del&nbsp\;programa de Magister en Arquitec
 tura UC&nbsp\;ser&aacute\; dirigido por&nbsp\;el arquitecto Alfredo Thierm
 ann\, quien dictar&aacute\; una charla magistral abierta a todo p&uacute\;
 blico el pr&oacute\;ximo 05 de noviembre en el auditorio Fernando Castillo
  Velasco.&nbsp\;La presentaci&oacute\;n final del workshop se realizar&aac
 ute\; el viernes 09 de noviembre&nbsp\;en el t&uacute\;nel poniente de la 
 casona del Campus Lo Contador\, 15.00 h.\nEl workshop &ldquo\;Interiores S
 ubversivos&rdquo\; plantea estudiar el interior dom&eacute\;stico como un 
 proyecto de arquitectura\, entendiendo &eacute\;ste en una doble medida. E
 n primer lugar\, como un sensor sobre el cual se pueden interrogar y estud
 iar conflictos y posiciones culturales existentes. En un segundo lugar\, c
 omo un agente\, el cual puede ser modificado y re dise&ntilde\;ado con el 
 objeto de subvertir e intervenir sobre dichas condiciones pre-existentes. 
 Durante estas tres semanas buscaremos interrogar las relaciones pol&iacute
 \;ticas\, econ&oacute\;micas\, tecnol&oacute\;gicas\, sociales y disciplin
 ares inherentes al dise&ntilde\;o del interior dom&eacute\;stico. A trav&e
 acute\;s del estudio minucioso y cr&iacute\;tico de casos existentes\, los
  estudiantes buscar&aacute\;n\, en primer lugar\, descifrar dichas relacio
 nes o conflictos materializados en cada caso\, para luego intervenir sobre
  ellos.\nEl taller propone un material de estudio que consiste en ocho fot
 ograf&iacute\;as de interiores y ocho textos o ensayos. Las fotograf&iacut
 e\;as provienen de interiores can&oacute\;nicos construidos durante el sig
 lo XX. Lo que une a todos los casos de estudio\, es\, tal vez\, el denomin
 ador com&uacute\;n al tema del interior domestico en el siglo XX: la separ
 aci&oacute\;n dr&aacute\;stica del espacio de producci&oacute\;n del de re
 -producci&oacute\;n. Es decir\, la separaci&oacute\;n dr&aacute\;stica de 
 trabajo y hogar\, construyendo y materializando distinciones sociales\, de
  clase\, g&eacute\;nero\, entre otras. A trav&eacute\;s del estudio de dic
 hos casos\, los estudiantes deber&aacute\;n entender las l&oacute\;gicas y
  mecanismos que motivaron dichos dise&ntilde\;os. Luego\, deber&aacute\;n 
 proponer maneras de subvertir o alterar dichos proyectos\, introduciendo n
 ociones contempor&aacute\;neas de c&oacute\;mo el trabajo y el hogar\, pro
 ducci&oacute\;n y re-producci&oacute\;n\, operan o deber&iacute\;an operar
  en un contexto contempor&aacute\;neo.\n*Workshop para estudiantes de la E
 scuela de Arquitectura UC. Charla Magistral abierta a p&uacute\;blico gene
 ral.\nAlfredo Thiermann Riesco&nbsp\;\nAlfredo es arquitecto y doctorando 
 por el ETH en Zurich. Su trabajo ha sido publicado en Thersholds Journal o
 f Architecture\, ARQ\, Potlatch\, GTA Papers y Real Review\; y exhibido en
  el Museo Nacional de Bellas Artes\, Museo de Arte Moderno de Nueva York (
 MoMA)\, el Teatro Municipal de Santiago y la Bienal de Dise&ntilde\;o de E
 stambul\, entre otros medios e instituciones. En 2016 fund&oacute\; la ofi
 cina ThiermannCruz junto a Sebasti&aacute\;n Cruz. Alfredo vive con su esp
 osa Michelle Gravel y sus hijos Pedro Trist&aacute\;n y Juan Nataniel y tr
 abaja entre las ciudades de Berl&iacute\;n\, Zurich y Santiago\, desarroll
 ando su pr&aacute\;ctica y una investigaci&oacute\;n titulada &ldquo\;Radi
 o-Activities: The Architecture of Broadcasting in Berlin'.&nbsp\;\nProgram
 a workshop_\n\nFecha workshop_\n05 al 09 de noviembre de 2018\n&nbsp\;\nPr
 esentaci&oacute\;n final_\nViernes 09 de noviembre de 2018\,&nbsp\;15.00 h
 .\nT&uacute\;nel poniente de la casona del Campus Lo Contador\nEl Comendad
 or 1916\, Providencia\n\n*abierta a todo p&uacute\;blico\nOrganizan_\nMag&
 iacute\;ster en Arquitectura UC\n&nbsp\;\n\n&nbsp\; https://fadeu-old.uran
 tiacos.cl/agenda/evento/1725-workshop-alfredo-thiermann-marq-uc
DTSTART:20181105T030000Z
LOCATION:Campus Lo Contador (El Comendador 1916\, Providencia\, Providencia
 \, Región Metropolitana\, Chile)
SUMMARY:Workshop Alfredo Thiermann | MARQ UC
URL:https://fadeu-old.urantiacos.cl/agenda/evento/1725-workshop-alfredo-thi
 ermann-marq-uc
END:VEVENT
END:VCALENDAR
