BEGIN:VCALENDAR
VERSION:2.0
PRODID:-//https://fadeu-old.urantiacos.cl///NONSGML kigkonsult.se iCalcreator 2.10.15//
METHOD:PUBLISH
BEGIN:VEVENT
UID:20260421T081136UTC-9003SkvjZK@https://fadeu-old.urantiacos.cl/
DTSTAMP:20260421T081136Z
DESCRIPTION:WORKSHOP INTERNACIONAL: Como imaginar la construcci&oacute\;n d
 e vivienda en sitio propioCharla Magistral Vicent Gruis y Darinka Czischke
 \nEn el marco del workshop organizado por el laboratorio 9 x 18 Vincent Gr
 uis y Darinka Czischke realizar&aacute\;n una charla magistral abierta a t
 odo p&uacute\;blico.\nVincent Gruis es jefe del departamento Management in
  the Built Environment y lidera la c&aacute\;tedra de Housing Management (
 gesti&oacute\;n habitacional) en Delft University of Technology (TU Delft)
 . Vincent Gruis ha trabajado desde 1996 en la Facultad de Arquitectura (Fa
 culty of Atchitecture and the Built Environment)\, donde se gradu&oacute\;
  en 2001 con la tesis ''Financial-economic fundamentals for housing associ
 ations''. Es profesor en cursos de pregrado y en el master 'Maganement in 
 the Built Environment'\, adem&aacute\;s de investigador y consultor en tem
 as de gesti&oacute\;n habitacional y renovaci&oacute\;n urbana.\nDarinka C
 zischke es especialista en pol&iacute\;ticas de vivienda social\, as&iacut
 e\; como en temas de regeneraci&oacute\;n urbana y desarrollo urbano soste
 nible. Desde 2015\, Darinka se desempe&ntilde\;a como profesora asistente 
 en la Faculty of Architecture and the Built Environment\, Delft University
  of Technology (TU Delft)\, Pa&iacute\;ses Bajos. En 2014 obtuvo la &trade
 \;Delft Technology Fellowship&int\;\, que le permite investigar sobre coll
 aborative housing.\nFecha_Lunes 06 de noviembre de 2017. 18.30 hrs.\nLugar
 _Auditorio Fernando Castillo Velasco\, Campus Lo Contador. El Comendador 1
 936\, 4&deg\; piso. Providencia\nInvitan_Arquitectura UC\nParticipa_TU Del
 ftMPURFundaci&oacute\;n Junto Al Barrio\nOrganiza_Laboratorio 9 x 18\n&nbs
 p\;\n https://fadeu-old.urantiacos.cl/agenda/evento/1361-charla-magistral-
 workshop-internacional
DTSTART:20171106T213000Z
DTEND:20171106T223000Z
LOCATION:Auditorio Fernando Castillo Velasco. Edificio ARQ (El Comendador 1
 936\, Providencia\, Región Metropolitana\, Chile)
SUMMARY:Charla Magistral Workshop Internacional
URL:https://fadeu-old.urantiacos.cl/agenda/evento/1361-charla-magistral-wor
 kshop-internacional
END:VEVENT
BEGIN:VEVENT
UID:20260421T081136UTC-9012Tt5Ihw@https://fadeu-old.urantiacos.cl/
DTSTAMP:20260421T081136Z
DESCRIPTION:WORKSHOP INTERNACIONAL: Como imaginar la construcci&oacute\;n d
 e vivienda en sitio propioCharla Magistral Vicent Gruis y Darinka Czischke
 \nEn el marco del workshop organizado por el laboratorio 9 x 18 Vincent Gr
 uis y Darinka Czischke realizar&aacute\;n una charla magistral abierta a t
 odo p&uacute\;blico.\nVincent Gruis es jefe del departamento Management in
  the Built Environment y lidera la c&aacute\;tedra de Housing Management (
 gesti&oacute\;n habitacional) en Delft University of Technology (TU Delft)
 . Vincent Gruis ha trabajado desde 1996 en la Facultad de Arquitectura (Fa
 culty of Atchitecture and the Built Environment)\, donde se gradu&oacute\;
  en 2001 con la tesis ''Financial-economic fundamentals for housing associ
 ations''. Es profesor en cursos de pregrado y en el master 'Maganement in 
 the Built Environment'\, adem&aacute\;s de investigador y consultor en tem
 as de gesti&oacute\;n habitacional y renovaci&oacute\;n urbana.\nDarinka C
 zischke es especialista en pol&iacute\;ticas de vivienda social\, as&iacut
 e\; como en temas de regeneraci&oacute\;n urbana y desarrollo urbano soste
 nible. Desde 2015\, Darinka se desempe&ntilde\;a como profesora asistente 
 en la Faculty of Architecture and the Built Environment\, Delft University
  of Technology (TU Delft)\, Pa&iacute\;ses Bajos. En 2014 obtuvo la &trade
 \;Delft Technology Fellowship&int\;\, que le permite investigar sobre coll
 aborative housing.\nFecha_Lunes 06 de noviembre de 2017. 18.30 hrs.\nLugar
 _Auditorio Fernando Castillo Velasco\, Campus Lo Contador. El Comendador 1
 936\, 4&deg\; piso. Providencia\nInvitan_Arquitectura UC\nParticipa_TU Del
 ftMPURFundaci&oacute\;n Junto Al Barrio\nOrganiza_Laboratorio 9 x 18\n&nbs
 p\;\n https://fadeu-old.urantiacos.cl/agenda/evento/1371-charla-magistral-
 vicent-gruis-y-darinka-czischke
DTSTART:20171106T213000Z
DTEND:20171106T223000Z
LOCATION:Auditorio Fernando Castillo Velasco. Edificio ARQ (El Comendador 1
 936\, Providencia\, Región Metropolitana\, Chile)
SUMMARY:Charla Magistral Vicent Gruis y Darinka Czischke
URL:https://fadeu-old.urantiacos.cl/agenda/evento/1371-charla-magistral-vic
 ent-gruis-y-darinka-czischke
END:VEVENT
BEGIN:VEVENT
UID:20260421T081136UTC-9019uNVaCx@https://fadeu-old.urantiacos.cl/
DTSTAMP:20260421T081136Z
DESCRIPTION:Charla: Arjan Van Timmeren CITY+PEOPLE+TECNOLOGY .D&oacute\;nde
 _ Auditorio Fernando Castillo VelascoHora_ 11:00 horas\n&nbsp\;\n https://
 fadeu-old.urantiacos.cl/agenda/evento/1387-charla-arjan-van-timmeren-city-
 people-tecnology
DTSTART:20171106T140000Z
DTEND:20171106T150000Z
LOCATION:Auditorio Fernando Castillo Velasco. Edificio ARQ (El Comendador 1
 936\, Providencia\, Región Metropolitana\, Chile)
SUMMARY:Charla Arjan Van Timmeren CITY+PEOPLE+TECNOLOGY 
URL:https://fadeu-old.urantiacos.cl/agenda/evento/1387-charla-arjan-van-tim
 meren-city-people-tecnology
END:VEVENT
END:VCALENDAR
