BEGIN:VCALENDAR
VERSION:2.0
PRODID:-//https://fadeu-old.urantiacos.cl///NONSGML kigkonsult.se iCalcreator 2.10.15//
METHOD:PUBLISH
BEGIN:VEVENT
UID:20260420T135959UTC-98371DJXdz@https://fadeu-old.urantiacos.cl/
DTSTAMP:20260420T135959Z
DESCRIPTION:Conferencia Alejandro Guti&eacute\;rrez (ARUP):&nbsp\;Hacer Ciu
 dad\n&nbsp\;\n&nbsp\;\nAlejandro Guti&eacute\;rrez dictar&aacute\; la conf
 erencia 'Hacer Ciudad' en el marco del workshop denominado &ldquo\;Constru
 ir Ciudad&rdquo\; que dirigir&aacute\; en el taller de especialidad del pr
 ograma de Magister en Proyecto Urbano UC (MPUR)\, de los profesores Antoni
 o Lipthay y Nicole Rochette. El evento se llevar&aacute\; a cabo el martes
  06 de noviembre en el auditorio FCV del edificio de Arquitectura UC y ser
 &aacute\; abierto al p&uacute\;blico general.\n&nbsp\;\n&nbsp\;\nAlejandro
  Guti&eacute\;rrez\n&nbsp\;\n&nbsp\;\nAlejandro es Director del equipo de 
 planificaci&oacute\;n urbana&nbsp\;ARUP\, en Londres. Previo a ello\, fue 
 Director Ejecutivo de CREO Antofagasta\, una iniciativa p&uacute\;blico-pr
 ivada para desarrollar e implementar un plan urbano estrat&eacute\;gico pa
 ra la capital minera de Chile\; tambi&eacute\;n fue Presidente Ejecutivo d
 e Construye 2025\, otra iniciativa p&uacute\;blico-privada dirigida por el
  gobierno para mejorar la sostenibilidad ambiental y la productividad en t
 oda la industria de la construcci&oacute\;n en Chile.\n&nbsp\;\n&nbsp\;\nE
 ntre 2002 y 2012 particip&oacute\; como Director asociado del equipo de pl
 anificaci&oacute\;n ARUP en Europa y el Reino Unido\, y dirigi&oacute\; un
 a serie de proyectos de alto perfil a nivel mundial para agencias gubernam
 entales\, empresas privadas y asociaciones p&uacute\;blico-privadas.\n&nbs
 p\;\n&nbsp\;\nExperto en sustentabilidad y desarrollo urbano\, sus fortale
 zas incluyen el dise&ntilde\;o integrado y el liderazgo\; entendiendo los 
 intereses de los clientes y el compromiso de las partes involucradas\, la 
 gesti&oacute\;n de grandes equipos de profesionales para desarrollar proye
 ctos complejos a tiempo y dentro del presupuesto\; con fuerte conciencia c
 omercial y experiencia\, y una importante red internacional de empresas\, 
 instituciones y particulares.\n&nbsp\;\n&nbsp\;\nComo l&iacute\;der intele
 ctual en su campo de experiencia\, ha sido orador y profesor invitado en v
 arias instituciones\, entre ellas la London School of Economics\, la Said 
 Business School - Oxford University\, la Architectural Association-UK\, el
  Royal Institute of British Architects\, la UCL Bartlett School of Archite
 cture\, y el Imperial College of London.\nAlejandro tiene experiencia inte
 rnacional asesorando a clientes p&uacute\;blicos y privados en iniciativas
  nacionales\, tanto a escala de ciudad como de barrio\, donde ambas requie
 ren liderazgo y participaci&oacute\;n de las m&uacute\;ltiples partes inte
 resadas.\n&nbsp\;\nFecha_\nMartes 06 de noviembre de 2018\, 19.00 h.\n&nbs
 p\;\n&nbsp\;\nLugar_\nAuditorio FCV\, campus Lo Contador. El Comendador 19
 36\, Providencia\n&nbsp\;\n&nbsp\;\nOrganizan_\nMagister en Proyecto Urban
 o UC (MPUR)\n&nbsp\;\n\n&nbsp\;\n&nbsp\; https://fadeu-old.urantiacos.cl/a
 genda/evento/1723-conferencia-alejandro-gutierrez-arup-mpur-uc
DTSTART:20181106T220000Z
DTEND:20181106T230000Z
LOCATION:Auditorio Fernando Castillo Velasco. Edificio ARQ (El Comendador 1
 936\, Providencia\, Región Metropolitana\, Chile)
SUMMARY:Conferencia Alejandro Gutiérrez (ARUP) | MPUR UC
URL:https://fadeu-old.urantiacos.cl/agenda/evento/1723-conferencia-alejandr
 o-gutierrez-arup-mpur-uc
END:VEVENT
BEGIN:VEVENT
UID:20260420T135959UTC-9847opRgfO@https://fadeu-old.urantiacos.cl/
DTSTAMP:20260420T135959Z
DESCRIPTION:Workshop Internacional Alejandro Guti&eacute\;rrez: ARUP | MPUR
  UC\n&ldquo\;Construir Ciudad&rdquo\;\, cuarto y &uacute\;ltimo workshop d
 el Taller de especialidad del Magister en Proyecto Urbano UC dictado por l
 os profesores Antonio Lipthay y Nicole Rochette\, que ser&aacute\; liderad
 o por Alejandro Guti&eacute\;rrez\, director de la oficina&nbsp\;ARUP.\nEl
  workshop se concentrar&aacute\; en ejercitar y reforzar la factibilidad d
 e implementaci&oacute\;n de diversas propuestas en el dise&ntilde\;o de pr
 oyectos de arquitectura que sean capaces de ser ejecutados. Desde la premi
 sa de que el valor de los proyectos est&aacute\; asociado a la percepci&oa
 cute\;n que los diversos actores tengan de ellos - sean estos usuarios\, a
 fectados\, aportantes p&uacute\;blicos o privados &ndash\; se enfocar&aacu
 te\;n en realizar un dise&ntilde\;o que intente generar la soluci&oacute\;
 n m&aacute\;s &oacute\;ptima y flexible en funci&oacute\;n de los interese
 s involucrados.\nEl formato del workshop ser&aacute\; bajo la modalidad de
  concurso privado\, donde cada estudiante deber&aacute\; preparar un plan 
 maestro con un horizonte temporal de 10 a&ntilde\;os en el &aacute\;rea de
  estudio del taller\, Sanhattan\, un conjunto de torres de oficinas ubicad
 as en la parte noreste de Santiago. El mandante ser&aacute\; el grupo inte
 rnacional de propiedades e infraestructuras\, l&iacute\;der mundial en ges
 ti&oacute\;n de proyectos y construcci&oacute\;n\, Lend Lease\, que ha com
 prado gran parte de los edificios de Sanhattan\; seg&uacute\;n su evaluaci
 &oacute\;n\, el sector presenta un alto nivel de deterioro y una p&eacute\
 ;rdida de competitividad relativa a los otros polos de oficinas de Santiag
 o\, que se traduce en la devaluaci&oacute\;n de los precios de venta y arr
 iendo\, as&iacute\; como un aumento de la vacancia en las oficinas en los 
 &uacute\;ltimos 5 a&ntilde\;os.\nEl concurso de ideas tiene como principal
  objetivo revertir esta tendencia y propone solo fijar &lsquo\;outcomes&rs
 quo\; y no definir un encargo especifico\; el ejercicio ser&aacute\; orien
 tado al entendimiento de los intereses de innovaci&oacute\;n y sustentabil
 idad del cliente\, la identificaci&oacute\;n de problem&aacute\;ticas seg&
 uacute\;n cuatro hip&oacute\;tesis preestablecidas: Mala accesibilidad &nd
 ash\; Obsolescencia de los edificios - Sobre oferta de oficinas clase A nu
 evas &ndash\; Espacio urbano de mala calidad\, la definici&oacute\;n de ac
 tores clave\, el planteamiento de un dise&ntilde\;o integrado y un plan de
  implementaci&oacute\;n de las iniciativas por etapas.\nEl cierre del work
 shop se llevar&aacute\; a cabo el d&iacute\;a jueves 08 de noviembre.\nFec
 ha_\nMartes 06 de noviembre de 2018\, 19.00 h.\n&nbsp\;\n&nbsp\;\nLugar_\n
 Auditorio FCV\, campus Lo Contador. El Comendador 1936\, Providencia\n&nbs
 p\;\n&nbsp\;\nOrganizan_\nMagister en Proyecto Urbano UC (MPUR)\n&nbsp\;\n
 &nbsp\;\n&nbsp\;\nAlejandro Guti&eacute\;rrez\nAlejandro es Director del E
 quipo de planificaci&oacute\;n urbana ARUP\, en Londres. Previo a ello\, f
 ue Director Ejecutivo de CREO Antofagasta\, una iniciativa p&uacute\;blico
 -privada para desarrollar e implementar un plan urbano estrat&eacute\;gico
  para la capital minera de Chile\; tambi&eacute\;n fue Presidente Ejecutiv
 o de Construye 2025\, otra iniciativa p&uacute\;blico-privada dirigida por
  el gobierno para mejorar la sostenibilidad ambiental y la productividad e
 n toda la industria de la construcci&oacute\;n en Chile.\nEntre 2002 y 201
 2 particip&oacute\; como Director asociado del equipo de planificaci&oacut
 e\;n ARUP en Europa y el Reino Unido\, y dirigi&oacute\; una serie de proy
 ectos de alto perfil a nivel mundial para agencias gubernamentales\, empre
 sas privadas y asociaciones p&uacute\;blico-privadas.\nExperto en sustenta
 bilidad y desarrollo urbano\, sus fortalezas incluyen el dise&ntilde\;o in
 tegrado y el liderazgo\; entendiendo los intereses de los clientes y el co
 mpromiso de las partes involucradas\, la gesti&oacute\;n de grandes equipo
 s de profesionales para desarrollar proyectos complejos a tiempo y dentro 
 del presupuesto\; con fuerte conciencia comercial y experiencia\, y una im
 portante red internacional de empresas\, instituciones y particulares.\nCo
 mo l&iacute\;der intelectual en su campo de experiencia\, ha sido orador y
  profesor invitado en varias instituciones\, entre ellas la London School 
 of Economics\, la Said Business School - Oxford University\, la Architectu
 ral Association-UK\, el Royal Institute of British Architects\, la UCL Bar
 tlett School of Architecture\, y el Imperial College of London.\nAlejandro
  tiene experiencia internacional asesorando a clientes p&uacute\;blicos y 
 privados en iniciativas nacionales\, tanto a escala de ciudad como de barr
 io\, donde ambas requieren liderazgo y participaci&oacute\;n de las m&uacu
 te\;ltiples partes interesadas.\nImagen:&nbsp\;'ARUP\, City as a Living Fa
 ctory of Ecology (c_life)\, Jätkäsaari harbor\, Helsinki'&nbsp\; https:/
 /fadeu-old.urantiacos.cl/agenda/evento/1726-workshop-alejandro-gutierrez-a
 rup-mpur-uc
DTSTART:20181106T220000Z
DTEND:20181106T230000Z
LOCATION:Auditorio Fernando Castillo Velasco. Edificio ARQ (El Comendador 1
 936\, Providencia\, Región Metropolitana\, Chile)
SUMMARY:Workshop Alejandro Gutiérrez: ARUP | MPUR UC
URL:https://fadeu-old.urantiacos.cl/agenda/evento/1726-workshop-alejandro-g
 utierrez-arup-mpur-uc
END:VEVENT
BEGIN:VEVENT
UID:20260420T135959UTC-9861T9DBZH@https://fadeu-old.urantiacos.cl/
DTSTAMP:20260420T135959Z
DESCRIPTION:El pr&oacute\;ximo martes 06 de noviembre a las 19.00 hrs en el
  Auditorio FADEU se presentar&aacute\; el libro 'Anales de Arquitectura 20
 17-2018&rsquo\;&rsquo\;\n&nbsp\;\n&nbsp\;\n\nAnales es una iniciativa de l
 a Subdirecci&oacute\;n de Investigaci&oacute\;n y Desarrollo que busca mos
 trar lo mejor de la producci&oacute\;n acad&eacute\;mica realizada tanto p
 or profesores como estudiantes de pregrado\, posgrado y doctorado de la Es
 cuela de Arquitectura UC. Se busca\, a trav&eacute\;s de esta nueva public
 aci&oacute\;n impresa\, difundir y poner a disposici&oacute\;n de la comun
 idad universitaria y acad&eacute\;mica la diversidad y riqueza del acervo 
 de la escuela en sus distintos ciclos durante el periodo 2017-2018.\nPrese
 ntar&aacute\;n el libro sus editores Pedro Ignacio Alonso y Pedro Correa\,
  junto a los comentarios de los acad&eacute\;micos internacionales invitad
 os\, Alessandra Ponte\, Andr&eacute\; Tavares y Thomas Weaver.\n\nFecha_\n
 Martes 06 de noviembre de 2018\, 19.00h.\n&nbsp\;\nLugar_\nAuditorio FADEU
 \, campus Lo Contador. El Comendador 1916\, Providencia\n&nbsp\;\nOrganiza
 _\nEdiciones ARQ\nEscuela de Postgrados de la Escuela de Arquitectura UC\n
 &nbsp\;\n\n&nbsp\;\nArquitectura UCContacto:&nbsp\;redesarq@uc.cl&nbsp\;| 
 +56 2 2354 7747www.arquitectura.uc.cl https://fadeu-old.urantiacos.cl/agen
 da/evento/1734-lanzamiento-arq-anales-de-arquitectura-2017-2018
DTSTART:20181106T220000Z
DTEND:20181106T230000Z
LOCATION:Auditorio FADEU\, Campus Lo Contador PUC (El Comendador 1916\, Pro
 videncia\, Providencia\, Región Metropolitana\, Chile)
SUMMARY:Lanzamiento ARQ: 'Anales de Arquitectura 2017-2018'
URL:https://fadeu-old.urantiacos.cl/agenda/evento/1734-lanzamiento-arq-anal
 es-de-arquitectura-2017-2018
END:VEVENT
BEGIN:VEVENT
UID:20260420T135959UTC-9866aUAOU9@https://fadeu-old.urantiacos.cl/
DTSTAMP:20260420T135959Z
DESCRIPTION:Conferencia 'The anatomy of the architectural book' | Andr&eacu
 te\; Tavares\nInstitute for the History and Theory of Architecture\, gta-E
 TH\, ZurichNov 06 | 13:30h. | Auditorio FCV\n&nbsp\;&nbsp\;\n\n'The Anatom
 y of the Architectural Book' examines the relationships between book cultu
 re and building culture\, making visible the axes along which architectura
 l knowledge circulates through books into buildings and back. Using five c
 onceptual tools&mdash\;texture\, surface\, rhythm\, structure\, and scale&
 mdash\;this lecture analyzes the material qualities of a wide range of boo
 ks in order to assess these dynamics and intersections. This investigation
  confronts us with the rise of the industrialized book\, and thus of the e
 ditor as an important intermediary between the author and the printer\, as
  well as with the configuration of the book as a unique visual device (wit
 h the designer taking part in a progressively more complex chain of decisi
 on-making).\nAndr&eacute\; Tavares\nEs arquitecto y editor\, actualmente i
 nvestigador postdoctoral en el Instituto de Historia y Teor&iacute\;a de l
 a Arquitectura\, gta-ETH\, Zurich. Desde 2006\, dirige&nbsp\;Dafne Editora
 \, explorando la publicaci&oacute\;n como una forma de pr&aacute\;ctica cu
 ltural y arquitect&oacute\;nica. Con Diogo Seixas Lopes fue editor en jefe
  de la revista&nbsp\;Jornal Arquitectos&nbsp\;(2013-2015) y co-comisario d
 e la 4&ordf\; Trienal de Arquitectura de Lisboa\, &ldquo\;La forma de la f
 orma&rdquo\;. En el Museo de Serralves cur&oacute\; las exposiciones &ldqu
 o\;El cliente como arquitecto y Material en bruto: una vista sobre el arch
 ivo de &Aacute\;lvaro Siza&rdquo\;. Es autor de varios libros\, entre ello
 s&nbsp\;Arquitectura Antituberculose&nbsp\;(Faup-publica&ccedil\;&otilde\;
 es\, 2005)\,&nbsp\;Os fantasmas de Serralves&nbsp\;(Dafne\, 2007)\,&nbsp\;
 Novela Bufa do Ufanismo em Concreto&nbsp\;(Dafne\, 2009)\,&nbsp\;Duas obra
 s de Janu&aacute\;rio Godinho&nbsp\;(Dafne\, 2012)\, y en franc&eacute\;s&
 nbsp\;L'&eacute\;toile filante Charles Siclis&nbsp\;(&eacute\;ditons B2\, 
 2016). Su &uacute\;ltimo libro\,&nbsp\;La anatom&iacute\;a del libro de ar
 quitectura&nbsp\;(Lars M&uuml\;ller / Canadian Centre for Architecture\, 2
 016)\, aborda los cruces entre la cultura del libro y la cultura de la con
 strucci&oacute\;n.\n\nFecha_\nMartes 06 de noviembre de 2018\, 13.30h.\n&n
 bsp\;\nLugar_\nAuditorio FCV\, campus Lo Contador. El Comendador 1936\, Pr
 ovidencia\n&nbsp\;\nOrganiza_\nEscuela de Postgrados de la Escuela de Arqu
 itectura UC\n&nbsp\;\n\nImage caption: Claude Perrault\, Architecture gene
 rale de Vitruve\, Paris\, 1681. Photo Andr&eacute\; Cepeda\n&nbsp\;\nNotic
 iasContacto:&nbsp\;redesarq@uc.cl&nbsp\;| +56 2 2354 7747www.arquitectura.
 uc.cl https://fadeu-old.urantiacos.cl/agenda/evento/1733-conferencia-the-a
 natomy-of-the-architectural-book-andre-tavares
DTSTART:20181106T163000Z
DTEND:20181106T173000Z
LOCATION:Auditorio Fernando Castillo Velasco. Edificio ARQ (El Comendador 1
 936\, Providencia\, Región Metropolitana\, Chile)
SUMMARY:Conferencia 'The anatomy of the architectural book' | André Tavares
URL:https://fadeu-old.urantiacos.cl/agenda/evento/1733-conferencia-the-anat
 omy-of-the-architectural-book-andre-tavares
END:VEVENT
BEGIN:VEVENT
UID:20260420T135959UTC-9875LC2MlR@https://fadeu-old.urantiacos.cl/
DTSTAMP:20260420T135959Z
DESCRIPTION:Tenemos el agrado de invitarlos a la sesi&oacute\;n n&ordm\;12 
 de la&nbsp\;Serie : Jornadas de Investigaci&oacute\;n en el Instituto.&nbs
 p\;\nEn esta ocasi&oacute\;n el acad&eacute\;mico y director del Instituto
  de Estudios Urbanos y Territoriales\,&nbsp\;Luis Fuentes\,&nbsp\;dictar&a
 acute\; la charla:&nbsp\;Las clases medias y la representaci&oacute\;n sub
 jetiva del espacio urbano en Santiago de Chile.\nLa actividad se realizar&
 aacute\; el d&iacute\;a&nbsp\;martes 6 de noviembre a partir de las 13:00 
 h.&nbsp\;en el Sal&oacute\;n Sergio Larra&iacute\;n.&nbsp\;El Comendador 1
 916\, Providencia.\nCupos limitados e inscripciones&nbsp\;aqu&iacute\;.Se 
 compartir&aacute\; un almuerzo liviano con los asistentes\, previa inscrip
 ci&oacute\;n&nbsp\;hasta el lunes 5 de noviembre.\n&nbsp\;\n https://fadeu
 -old.urantiacos.cl/agenda/evento/1730-sesion-n-12-de-la-serie-jornadas-de-
 investigacion
DTSTART:20181106T160000Z
DTEND:20181106T170000Z
LOCATION:Salón Sergio Larraín\, Campus Lo Contador ()
SUMMARY:Sesión nº12 de la Serie: Jornadas de Investigación 
URL:https://fadeu-old.urantiacos.cl/agenda/evento/1730-sesion-n-12-de-la-se
 rie-jornadas-de-investigacion
END:VEVENT
END:VCALENDAR
