BEGIN:VCALENDAR
VERSION:2.0
PRODID:-//https://fadeu-old.urantiacos.cl///NONSGML kigkonsult.se iCalcreator 2.10.15//
METHOD:PUBLISH
BEGIN:VEVENT
UID:20260421T081137UTC-2220NohZnV@https://fadeu-old.urantiacos.cl/
DTSTAMP:20260421T081137Z
DESCRIPTION:WORKSHOP INTERNACIONAL: Como imaginar la construcci&oacute\;n d
 e vivienda en sitio propioCharla de Luz Mar&iacute\;a Vergara\nLuz Maria V
 ergara es arquitecta titulada con Master en Arquitectura en la Universidad
  Cat&oacute\;lica de Chile. Actualmente desarrolla un PhD en el Department
  of Management in the Built Environment en la universidad TU Delft\, Holan
 da\, sobre gesti&oacute\;n de vivienda en entornos econ&oacute\;micamente 
 deprimidos enfocada principalmente en condominios sociales y su l&iacute\;
 nea de investigaci&oacute\;n explora el campo de las organizaciones que de
 sarrollan proyectos urbanos y de habitabilidad en entornos vulnerables.\nF
 echa_Martes 07 de noviembre 18.30 hrs.\nLugar_Sala 10. Escuela de Arquitec
 tura UC.  El Comendador 1916\, Providencia\nInvitan_Arquitectura UC\nParti
 cipa_TU DelftMPURFundaci&oacute\;n Junto Al Barrio\nOrganiza_Laboratorio 9
  x 18\n&nbsp\;\n https://fadeu-old.urantiacos.cl/agenda/evento/1373-charla
 -magistral-luz-maria-vergara
DTSTART:20171107T213000Z
DTEND:20171107T223000Z
LOCATION:Sala 10\, Campus Lo Contador (El Comendador 1916\, Providencia\, R
 egión Metropolitana\, Chile)
SUMMARY:Charla Magistral Luz María Vergara
URL:https://fadeu-old.urantiacos.cl/agenda/evento/1373-charla-magistral-luz
 -maria-vergara
END:VEVENT
BEGIN:VEVENT
UID:20260421T081137UTC-2226MUdkGW@https://fadeu-old.urantiacos.cl/
DTSTAMP:20260421T081137Z
DESCRIPTION:El Programa de Mag&iacute\;ster en Patrimonio Cultural de la Po
 ntificia Universidad Cat&oacute\;lica de Chile invita al Seminario Interdi
 sciplinario Museolog&iacute\;a y Patrimonio. El rol del Arte\, la Arquitec
 tura y los discursos de la creatividad en la preformance de los museos y e
 l patrimonio'.\nMartes 07 de Noviembre de 2017\, 9:00 - 13:00 hrs.\, Prime
 r Bloque\, 15:00 - 19:30 hrs.\, Segundo Bloque\, en el Sal&oacute\;n Sergi
 o Larra&iacute\;n del campus Lo Contador\, El Comendador 1936\, Providenci
 a.\nLa presente actividad pretende constituirse en un &aacute\;mbito de re
 flexi&oacute\;n interdisciplinaria donde analizar la relaci&oacute\;n de l
 os museos con el patrimonio cultural desde la perspectiva de la historia\,
  la arquitectura y el arte\; debatir el rol de los discursos creativos del
  arte y la arquitectura en la interacci&oacute\;n de los museos con su con
 texto\, considerando las actuales demandas de reconocimiento\, inclusi&oac
 ute\;n y participaci&oacute\;n de las ciudadan&iacute\;as\; y ahondar en l
 as nuevas ofertas de acci&oacute\;n cultural de los museos\, tomando en cu
 enta el dinamismo de las industrias creativas contempor&aacute\;neas\, en 
 torno a la producci&oacute\;n de conocimiento de frontera en torno a los H
 eritage Studies y los Museum Studies.\nConferencia realizada con el aporte
  de la Vicerrector&iacute\;a de Investigaci&oacute\;n de la Pontificia Uni
 versidad Cat&oacute\;lica de Chile.\nEntrada liberada. Cupos limitados.\n 
 https://fadeu-old.urantiacos.cl/agenda/evento/1311-seminario-interdiscipli
 nario-museologia-y-patrimonio
DTSTART:20171107T120000Z
DTEND:20171107T223000Z
LOCATION:Salón Sergio Larraín (El Comendador 1916\, providencia)
SUMMARY:Seminario Interdisciplinario MUSEOLOGÍA Y PATRIMONIO
URL:https://fadeu-old.urantiacos.cl/agenda/evento/1311-seminario-interdisci
 plinario-museologia-y-patrimonio
END:VEVENT
END:VCALENDAR
