BEGIN:VCALENDAR
VERSION:2.0
PRODID:-//https://fadeu-old.urantiacos.cl///NONSGML kigkonsult.se iCalcreator 2.10.15//
METHOD:PUBLISH
BEGIN:VEVENT
UID:20260420T135913UTC-547548H2Mz@https://fadeu-old.urantiacos.cl/
DTSTAMP:20260420T135913Z
DESCRIPTION:Elvira P&eacute\;rez\, Jefa del programa de Mag&iacute\;ster en
  Patrimonio Cultural\, Jos&eacute\; Rosas\, jefe de programa del Doctorado
  en Arquitectura y Estudios Urbanos\, y Umberto Bonomo\, Director del Cent
 ro del Patrimonio Cultural de la Pontificia Universidad Cat&oacute\;lica d
 e Chile\, invitan a la&nbsp\;Charla Magistral 'Econom&iacute\;a de la expe
 riencia y nuevas comunidades emocionales: una geopol&iacute\;tica de la ar
 quitectura desde el sur global'&nbsp\;de la&nbsp\;Dra. Johanna Lozoya.\n&n
 bsp\;\n\nEn esta conferencia se compartir&aacute\; el trabajo de investiga
 ci&oacute\;n interdisciplinaria que el Laboratorio GEE-MX desarrolla sobre
 &nbsp\; arquitectura en la globalizaci&oacute\;n\, espacialidad afectiva y
  comunidades emocionales\, a partir de los avances del proyecto en desarro
 llo &ldquo\;Estrategias territoriales de la firma Gensler: Cartograf&iacut
 e\;as de expulsi&oacute\;n y territorializaci&oacute\;n afectiva en el Sur
  Global&rdquo\;.&nbsp\;\n&nbsp\;\nSe discutir&aacute\; sobre el registro a
 fectivo multifactorial de la presencia territorial de retails y dise&ntild
 e\;o de experiencia de la firma de arquitectura Gensler en ciudades latino
 americanas\, y la construcci&oacute\;n de nuevas comunidades emocionales/i
 dentitarias\nYohanna Lozoya Meckes\, quien escribe como&nbsp\;Johanna Lozo
 ya\, es escritora\, historiadora cultural\, arquitecta e investigadora aca
 d&eacute\;mica titular mexicana en el Centro de Investigaci&oacute\;n en A
 rquitectura\, Urbanismo y Paisaje (CIAUP) de la Universidad Nacional Aut&o
 acute\;noma de M&eacute\;xico (UNAM). Trabaja en temas que incluyen histor
 ia cultural de la arquitectura\, estudios culturales sobre las emociones y
  espacio\, teor&iacute\;a pol&iacute\;tica\, literatura\, estudios sociale
 s sobre tecnolog&iacute\;a y ciencia\, geopol&iacute\;tica de la arquitect
 ura y sociolog&iacute\;a de la globalizaci&oacute\;n. En 2014 fund&oacute\
 ; el Laboratorio Grupo Estudio de las Emociones: Espacio\, Territorio\, Em
 ociones (GEE-MX) en el CIUAP.\nEntrada liberada\, cupos limitados. Inscrip
 ci&oacute\;n al correo&nbsp\;magisterpatrimonio@uc.cl\n\n\n\n https://fade
 u-old.urantiacos.cl/agenda/evento/1732-charla-magistral-dra-johanna-lozoya
 -economia-de-la-experiencia-y-nuevas-comunidades-emocionales-una-geopoliti
 ca-de-la-arquitectura-desde-el-sur-global
DTSTART:20181107T223000Z
DTEND:20181107T233000Z
LOCATION:Salón Sergio Larraín\, Campus Lo Contador ()
SUMMARY:Charla Magistral Dra. Johanna Lozoya 'Economía de la experiencia y 
 nuevas comunidades emocionales: una geopolítica de la arquitectura desde e
 l sur global'.
URL:https://fadeu-old.urantiacos.cl/agenda/evento/1732-charla-magistral-dra
 -johanna-lozoya-economia-de-la-experiencia-y-nuevas-comunidades-emocionale
 s-una-geopolitica-de-la-arquitectura-desde-el-sur-global
END:VEVENT
BEGIN:VEVENT
UID:20260420T135913UTC-54845NGpo6@https://fadeu-old.urantiacos.cl/
DTSTAMP:20260420T135913Z
DESCRIPTION:Creatividad\, cultura y cambio son las palabras claves para ent
 ender la historia del Museo de Dise&ntilde\;o de Londres. Un relato &eacut
 e\;pico que involucr&oacute\; la comprensi&oacute\;n del fen&oacute\;meno 
 de las Industrias Creativas en Reino Unido\, la relaci&oacute\;n con autor
 idades locales\, as&iacute\; como el v&iacute\;nculo con actores fuera del
  &aacute\;mbito cultural.\nPresenta: Alice Black\, Directora del Museo de 
 Dise&ntilde\;o de Londres.\nFue jefa de estrategia y planificaci&oacute\;n
  en el Museo Imperial de la Guerra y curadora del Museo Churchill y de las
  Salas de Guerra del Gabinete.En septiembre de 2007\, Alice fue nombrada s
 ubdirectora del Museo de Dise&ntilde\;o de Londres. De 2008 a 2016\, Alice
  dirigi&oacute\; el proyecto de remodelaci&oacute\;n del museo para transf
 ormar el antiguo Instituto de la Commonwealth en Kensington en el nuevo ho
 gar del Museo del Dise&ntilde\;o. Alice fue nombrada Directora del Museo d
 e Dise&ntilde\;o de Londres en diciembre de 2016.\n7 de noviembre\, 19:00 
 hrs.Auditorio FADEU\, Campus Lo Contador\n&nbsp\;\n https://fadeu-old.uran
 tiacos.cl/agenda/evento/1712-charla-alice-black-museo-de-diseno-de-londres
 -historia-de-un-cambio
DTSTART:20181107T220000Z
DTEND:20181107T230000Z
LOCATION:Auditorio FADEU\, Campus Lo Contador PUC (El Comendador 1916\, Pro
 videncia\, Providencia\, Región Metropolitana\, Chile)
SUMMARY: Charla: Alice Black: Museo de Diseño de Londres\, historia de un c
 ambio
URL:https://fadeu-old.urantiacos.cl/agenda/evento/1712-charla-alice-black-m
 useo-de-diseno-de-londres-historia-de-un-cambio
END:VEVENT
BEGIN:VEVENT
UID:20260420T135913UTC-5489g8olu6@https://fadeu-old.urantiacos.cl/
DTSTAMP:20260420T135913Z
DESCRIPTION:Conferencia 'Matters of Extraction: From the Margin of Empire(s
 )' |&nbsp\;Alessandra Ponte\n&Eacute\;cole d&rsquo\;architecture\, Univers
 it&eacute\; de Montr&eacute\;al\nNov 07 | 19.00h. | Auditorio FCV\nCanada 
 is home to 75% of all global prospecting and mining companies. Because of 
 such staggering presence of the mining industry\, Canada has been named an
  extraction empire. Nevertheless\, the Premier of Qu&eacute\;bec\, Philipp
 e Couillard\, guilty of brazenly inviting foreign companies to take advant
 age of the potentially rich mineral deposits in the North of the Province\
 , has recently been reproached of acting as a &ldquo\;colonized&rdquo\;. H
 istorically\, Canada&rsquo\;s economy has been based on the extraction and
  exportation of natural resources: beaver pelts beginning in the seventeen
 th century\; fish\, timber\, pulp and paper\, in the eighteenth and ninete
 enth century\; minerals\, hydro-power\, and oil during the twentieth and t
 wenty-first century. Already in the 1930s\, political economist Harold Inn
 is\, one of Canada&rsquo\;s greatest thinkers\, proposed the &ldquo\;stapl
 es thesis&rdquo\; to explain the specificity of Canadian economic developm
 ent and its heavy dependence on foreign markets and Imperial control. Inni
 s developed the staple thesis when Canadians began to realize that after b
 eing subjects to the colonial dominion first of the French and than of Bri
 tish Empire\, they were under threat of being crushed by the Empire south 
 of their border: the USA markets and economy now dictating the kind of sta
 ple to be extracted and the rhythm of exploitation. One may safely say tha
 t Canadians have systematically been confronted with (and reflected upon) 
 relations between centers and peripheries\, international market trends\, 
 unbalanced system of power\, and colonization strategies. Innis&rsquo\; st
 aple thesis permits to address in rich geographical\, historical\, politic
 al and economic terms the character of the &ldquo\;matter&rdquo\; extracte
 d from specific locations and distributed worldwide. The lecture outlines 
 and explores the complex Canadian experience taking as starting point gold
  mining in the Abitibi region of Qu&eacute\;bec.\nAlessandra Ponte\nProfes
 ora titular en la &Eacute\;cole d&rsquo\;architecture\, Universit&eacute\;
  de Montr&eacute\;al. Tambi&eacute\;n ha ense&ntilde\;ado en las escuelas 
 de arquitectura de la Universidad de Princeton\, la Universidad de Cornell
 \, el Instituto Pratt de Nueva York\, la ETH Zurich y en el Instituto Univ
 ersitario de Arquitectura de Venecia. Durante diez a&ntilde\;os ha sido re
 sponsable de la concepci&oacute\;n y organizaci&oacute\;n del Seminario In
 ternacional 'Phyllis Lambert'\, coloquios anuales que se celebran en la Un
 iversit&eacute\; de Montr&eacute\;al y que abordan temas actuales de paisa
 je y arquitectura. Cur&oacute\; la exposici&oacute\;n 'Entorno total: Mont
 real 1965-1975' (Centro Canadiense de Arquitectura\, Montreal\, 2009) y co
 labor&oacute\; en la exposici&oacute\;n y el cat&aacute\;logo 'God &amp\; 
 Co: Fran&ccedil\;ois Dallegret Beyond the Bubble' (con Laurent Stalder y T
 homas Weaver\, Londres: Architectural Association Publications\, 2011). Ha
  publicado numerosos art&iacute\;culos que incluyen recientemente una cole
 cci&oacute\;n de ensayos sobre paisajes de Am&eacute\;rica del Norte titul
 ados&nbsp\;The House of Light and Entropy&nbsp\;(Londres: AA Publications\
 , 2014). Contribuy&oacute\; al Pabell&oacute\;n de Canad&aacute\; en la Bi
 enal de Arquitectura de Venecia en 2014 ('Adaptaciones del &Aacute\;rtico'
 ) y 2016 ('Extracci&oacute\;n'). En 2014\, 2015 y 2016\, junto con estudia
 ntes de maestr&iacute\;a en arquitectura y colaboradores\, investig&oacute
 \; actividades mineras y asentamientos en tres regiones geol&oacute\;gicas
  de la provincia de Quebec: el Labrador Through (hierro)\, Cadillac Fault 
 (oro\, cobre y n&iacute\;quel) y el distrito de Thetford Mines (amianto\, 
 pizarra y granito). Durante los &uacute\;ltimos dos a&ntilde\;os\, siempre
  en colaboraci&oacute\;n con estudiantes de maestr&iacute\;a\, ha realizad
 o investigaciones sobre tecnolog&iacute\;as de la informaci&oacute\;n y ar
 quitectura. El trabajo de investigaci&oacute\;n se ha recopilado en dos vo
 l&uacute\;menes titulados&nbsp\;Arquitectura y informaci&oacute\;n 2.0&nbs
 p\;(2017\, 2018).\n\nFecha_\nMi&eacute\;rcoles 07 de noviembre de 2018\, 1
 9.00h.\n&nbsp\;\nLugar_\nAuditorio FCV\, campus Lo Contador. El Comendador
  1936\, Providencia\n&nbsp\;\nOrganiza_\nEscuela de Postgrados de la Escue
 la de Arquitectura UC\n&nbsp\;\n\n&nbsp\;\nNoticiasContacto:&nbsp\;redesar
 q@uc.cl&nbsp\;| +56 2 2354 7747www.arquitectura.uc.cl https://fadeu-old.ur
 antiacos.cl/agenda/evento/1735-conferencia-matters-of-extraction-from-the-
 margin-of-empire-s-alessandra-ponte
DTSTART:20181107T220000Z
DTEND:20181107T230000Z
LOCATION:Auditorio Fernando Castillo Velasco. Edificio ARQ (El Comendador 1
 936\, Providencia\, Región Metropolitana\, Chile)
SUMMARY:Conferencia 'Matters of Extraction: From the Margin of Empire(s)' |
  Alessandra Ponte
URL:https://fadeu-old.urantiacos.cl/agenda/evento/1735-conferencia-matters-
 of-extraction-from-the-margin-of-empire-s-alessandra-ponte
END:VEVENT
BEGIN:VEVENT
UID:20260420T135913UTC-5503WUt7sU@https://fadeu-old.urantiacos.cl/
DTSTAMP:20260420T135913Z
DESCRIPTION:Mario Ubilla\, Decano de la Facultad de Arquitectura\, Dise&nti
 lde\;o y Estudios Urbanos y&nbsp\;Luis Fuentes\, Director del Instituto de
  Estudios Urbanos y Territoriales de la Pontificia Universidad Cat&oacute\
 ;lica de Chile\, invitan a usted al lanzamiento del proyecto&nbsp\;Proyect
 o Explora-UC Conciencia Urbana.&nbsp\;\n&Eacute\;sta es una plataforma edu
 cacional interactiva de uso abierto\, que permite la visualizaci&oacute\;n
  de experiencias urbanas y la posibilidad de compartirlas a trav&eacute\;s
  del empleo de datos y mapas.\nEsta actividad se realizar&aacute\; el&nbsp
 \;mi&eacute\;rcoles 7 de noviembre a las 18:30 h.\, en el Auditorio Sur\, 
 del Campus Lo Contador UC. El Comendador 1916\, Providencia\, Santiago.\nI
 nscripciones&nbsp\;aqu&iacute\;\n\n https://fadeu-old.urantiacos.cl/agenda
 /evento/1720-lanzamiento-del-proyecto-explora-uc-conciencia-urbana
DTSTART:20181107T213000Z
DTEND:20181107T223000Z
LOCATION:Auditorio sur\, Campus Lo Contador (El Comendador 1916\, Providenc
 ia\, Región Metropolitana\, Chile)
SUMMARY:Lanzamiento del Proyecto Explora-UC Conciencia Urbana
URL:https://fadeu-old.urantiacos.cl/agenda/evento/1720-lanzamiento-del-proy
 ecto-explora-uc-conciencia-urbana
END:VEVENT
BEGIN:VEVENT
UID:20260420T135913UTC-5511aTx0Ge@https://fadeu-old.urantiacos.cl/
DTSTAMP:20260420T135913Z
DESCRIPTION:El Instituto de Estudios Urbanos y Territoriales UC invita a to
 dos los interesados en sus programas de&nbsp\;Mag&iacute\;ster en Desarrol
 lo Urbano y Mag&iacute\;ster en Asentamientos Humanos y Medio Ambiente&nbs
 p\;al&nbsp\;Caf&eacute\; de Mag&iacute\;ster 2018. En esta instancia la Je
 fa de Programas de Mag&iacute\;ster IEUT\,&nbsp\;Macarena Ibarra\, present
 ar&aacute\; ambos programas en profundidad. Se contar&aacute\; tambi&eacut
 e\;n con la presencia de profesores y ex-alumnos quienes contar&aacute\;n 
 su experiencia en el programa\, as&iacute\; como actuales proyecto y se da
 r&aacute\; orientaci&oacute\;n para el proceso de Admisi&oacute\;n 2018. T
 odo esto acompa&ntilde\;ado de un rico caf&eacute\;.\nEl caf&eacute\; se r
 ealizar&aacute\; el d&iacute\;a&nbsp\;7 de noviembre a las 18:30 hrs. en l
 a Sala de Consejo del Instituto de Estudios Urbanos y Territoriales. El Co
 mendador 1916\, Providencia.\nInteresados inscribirse al correo&nbsp\;magi
 sterieu@uc.cl\n&nbsp\;\n https://fadeu-old.urantiacos.cl/agenda/evento/173
 8-cafe-informativo-sobre-magister-ieut-uc
DTSTART:20181107T213000Z
DTEND:20181107T223000Z
LOCATION:Sala Consejo Estudios Urbanos (Los Navegantes 1919\, Providencia\,
  Región Metropolitana\, Chile)
SUMMARY:Café informativo sobre Magíster IEUT-UC
URL:https://fadeu-old.urantiacos.cl/agenda/evento/1738-cafe-informativo-sob
 re-magister-ieut-uc
END:VEVENT
BEGIN:VEVENT
UID:20260420T135913UTC-5516x5BWKM@https://fadeu-old.urantiacos.cl/
DTSTAMP:20260420T135913Z
DESCRIPTION:El Seminario Internacional 'Agua y Energ&iacute\;a: An&aacute\;
 lisis en el ciclo de vida del ambiente construido'&nbsp\;organizado por CE
 DEUS se realizar&aacute\; en el marco de la visita de los acad&eacute\;mic
 os:\n&nbsp\;\n&nbsp\;\n- Dr. Robert H. Crawford\, Profesor de Construccion
  y Evaluacion Ambiental de la&nbsp\;Facultad de Arquitectura\, Construcci&
 oacute\;n y Planificaci&oacute\;n de la Universidad de Melbourne\n- Dr. An
 dr&eacute\; Stephan\, Profesor en Ingenier&iacute\;a de la Edificaci&oacut
 e\;n de la&nbsp\;Facultad de Arquitectura\, Construcci&oacute\;n y Planifi
 caci&oacute\;n de la Universidad de Melbourne\n- Dr. V&iacute\;ctor Bunste
 r\,&nbsp\;investigador postdoctoral FONDECYT de CEDEUS&nbsp\;Escuela de Ar
 quitectura de la Pontificia Universidad Cat&oacute\;lica de Chile.\n&nbsp\
 ;\n&nbsp\;\nFecha_\n07 de noviembre de 2018\, 8.30 - 13.00 h.\n&nbsp\;\nLu
 gar_\nSal&oacute\;n de Honor Casa Central\, Pontificia Universidad Cat&oac
 ute\;lica de Chile.\n&nbsp\;\n&nbsp\;\n*Mayor informaci&oacute\;n_\nSemina
 rio Internacional_CEDEUS\n&nbsp\;\n&nbsp\;\n***Traducci&oacute\;n Simult&a
 acute\;neaEntrada liberada\, previa inscripci&oacute\;n\, cupos limitados:
 Inscripciones en este&nbsp\;link&nbsp\;\n&nbsp\;\n&nbsp\;\n&nbsp\;\n\n&nbs
 p\; https://fadeu-old.urantiacos.cl/agenda/evento/1718-seminario-internaci
 onal-agua-y-energia-analisis-en-el-ciclo-de-vida-del-ambiente-construido
DTSTART:20181107T113000Z
DTEND:20181107T160000Z
LOCATION:Salón de Honor de Casa Central (Av Libertador Bernardo O'Higgins 3
 40\, Santiago\, Región Metropolitana\, Chile)
SUMMARY:Seminario Internacional 'Agua y Energía: Análisis en el ciclo de vi
 da del ambiente construido'
URL:https://fadeu-old.urantiacos.cl/agenda/evento/1718-seminario-internacio
 nal-agua-y-energia-analisis-en-el-ciclo-de-vida-del-ambiente-construido
END:VEVENT
BEGIN:VEVENT
UID:20260420T135913UTC-5521pT6v5x@https://fadeu-old.urantiacos.cl/
DTSTAMP:20260420T135913Z
DESCRIPTION:Hugo Palmarola\,&nbsp\; Coordinador desde Dise&ntilde\;o UC del
  material disciplinar de la Biblioteca\, en conjunto con el equipo de la B
 iblioteca Lo Contador\, est&aacute\;n organizando la muestra&nbsp\;&ldquo\
 ;Ficci&oacute\;n e imaginario del Dise&ntilde\;o&rdquo\;.&nbsp\;&nbsp\;Se 
 trata de la recopilaci&oacute\;n de 124 libros y material audiovisual de p
 ublicaciones de dise&ntilde\;o y arquitectura\, donde se destaca la evoluc
 i&oacute\;n de la historia de la animaci&oacute\;n y del cine. Lo atractiv
 o del material que se exhibir&aacute\;\, radica en que gran parte de esta 
 selecci&oacute\;n va acompa&ntilde\;ada de dibujos animados\, caricaturas\
 , pinturas\, comics e ilustraciones\, que permiten al lector reflexionar\,
  investigar y desafiar los casi 100 a&ntilde\;os de influencia cultural oc
 cidental\, adem&aacute\;s de abordar pasajes sobre la estrategia intelectu
 al&nbsp\;sovi&eacute\;tica durante el siglo XX.\nLa muestra tambi&eacute\;
 n hace un recorrido por los avances en la carrera espacial\, la ficci&oacu
 te\;n\, la sociedad\, la modernidad\, las artes y la cultura.\nDesde el 7 
 al 9 de noviembre.\n&nbsp\;\n https://fadeu-old.urantiacos.cl/agenda/event
 o/1729-exposicion-ficcion-e-imaginario-del-diseno
DTSTART:20181107T030000Z
LOCATION:Biblioteca Lo Contador (El Comendador 1916\, Providencia\, Región 
 Metropolitana\, Chile)
SUMMARY:Exposición “Ficción e imaginario del Diseño'
URL:https://fadeu-old.urantiacos.cl/agenda/evento/1729-exposicion-ficcion-e
 -imaginario-del-diseno
END:VEVENT
END:VCALENDAR
