BEGIN:VCALENDAR
VERSION:2.0
PRODID:-//https://fadeu-old.urantiacos.cl///NONSGML kigkonsult.se iCalcreator 2.10.15//
METHOD:PUBLISH
BEGIN:VEVENT
UID:20260421T081136UTC-7090TSDvSL@https://fadeu-old.urantiacos.cl/
DTSTAMP:20260421T081136Z
DESCRIPTION:Lanzamiento y charla abierta 'How to Play With Letters de Rylse
 e'D&oacute\;nde_Sal&oacute\;n Sergio Larra&iacute\;nInscripciones aqu&iacu
 te\;.&nbsp\;Cyril Vouilloz\, Rylsee\, artista suizo radicado en Berlin\, e
 specializado en Hand Lettering\, visitar&aacute\; Dise&ntilde\;o UC para h
 ablarnos de su &uacute\;ltima publicaci&oacute\;n editada por Moleskine\, 
 How to play with letters.Una invitaci&oacute\;n para todos los amantes de 
 la tipograf&iacute\;a\, caligraf&iacute\;a y lettering a romper los esquem
 as. https://fadeu-old.urantiacos.cl/agenda/evento/1391-lanzamiento-y-charl
 a-abierta-how-to-play-with-letters-de-rylsee
DTSTART:20171108T220000Z
DTEND:20171108T230000Z
LOCATION:Salón Sergio Larraín\, Campus Lo Contador ()
SUMMARY:Lanzamiento y charla abierta 'How to Play With Letters de Rylsee'
URL:https://fadeu-old.urantiacos.cl/agenda/evento/1391-lanzamiento-y-charla
 -abierta-how-to-play-with-letters-de-rylsee
END:VEVENT
BEGIN:VEVENT
UID:20260421T081136UTC-7095IpAV40@https://fadeu-old.urantiacos.cl/
DTSTAMP:20260421T081136Z
DESCRIPTION:Serie de Discusi&oacute\;n y Cr&iacute\;tica de Edificios14 | R
 EMAKE\nEn la edici&oacute\;n n&uacute\;mero 14 de la sere de Discusi&oacut
 e\;n y Cr&iacute\;tica de Edificios\, Pedro Alonso y Francisco D&iacute\;a
 z traen a colaci&oacute\;n los casos de las intervenciones Homeless is Mor
 e\, de Manuel Peralta\, y el Comedor UNCTAD del Grupo TOMA\, bajo el tema 
 &ldquo\;Remake&rdquo\;. Completan el panel Alejandra Celed&oacute\;n\, Ped
 ro Correa\, Francisco D&iacute\;az\, Cristi&aacute\;n Izquierdo\, Nicol&aa
 cute\;s Stutzin y Max Nu&ntilde\;ez.\nFecha_\nMi&eacute\;rcoles 8 de novie
 mbre de 2017. 18:30 hrs\nLugar_\nAuditorio Fernando Castillo Velasco\, Cam
 pus Lo Contador. El Comendador 1936.\nProvidencia\nInvitan_\nMARQ UCArquit
 ectura UC\n&nbsp\;\n https://fadeu-old.urantiacos.cl/agenda/evento/1389-se
 rie-discusion-y-critica-de-edificios
DTSTART:20171108T213000Z
DTEND:20171108T223000Z
LOCATION:Auditorio Fernando Castillo Velasco. Edificio ARQ (El Comendador 1
 936\, Providencia\, Región Metropolitana\, Chile)
SUMMARY:Serie Discusión y Crítica de Edificios
URL:https://fadeu-old.urantiacos.cl/agenda/evento/1389-serie-discusion-y-cr
 itica-de-edificios
END:VEVENT
BEGIN:VEVENT
UID:20260421T081136UTC-7100gVxg8t@https://fadeu-old.urantiacos.cl/
DTSTAMP:20260421T081136Z
DESCRIPTION:II Simposio Internacional Arquitectura e Ingenier&iacute\;aProf
 esor Waldo Bustamante ser&aacute\; uno de los expositores\nEl II Simposio 
 Internacional Arquitectura e Ingenier&iacute\;a de Envolventes de Edificio
 s\, a realizarse en el Sal&oacute\;n de Honor de Casa Central Durante los 
 d&iacute\;as 8 y 9 de Noviembre contar&aacute\; con la participaci&oacute\
 ;n del profesor de nuestra Escuela Waldo Bustanmante\, qui&eacute\;n adem&
 aacute\;s de ser uno de los expositores\, ser&aacute\; el encargado de abr
 ir el simposio y presentar el primer modulo ''Desaf&iacute\;os de las envo
 lventes complejas de edificios''.\nPara conocer el programa completo aqu&i
 acute\;.&nbsp\;\n&nbsp\;\n https://fadeu-old.urantiacos.cl/agenda/evento/1
 367-ii-simposio-internacional-arquitectura-e-ingenieria
DTSTART:20171108T030000Z
LOCATION:Salón de Honor Casa Central (Av Libertador Bernardo O'Higgins 340\
 , Santiago\, Región Metropolitana\, Chile)
SUMMARY:II Simposio Internacional Arquitectura e Ingeniería
URL:https://fadeu-old.urantiacos.cl/agenda/evento/1367-ii-simposio-internac
 ional-arquitectura-e-ingenieria
END:VEVENT
END:VCALENDAR
