BEGIN:VCALENDAR
VERSION:2.0
PRODID:-//https://fadeu-old.urantiacos.cl///NONSGML kigkonsult.se iCalcreator 2.10.15//
METHOD:PUBLISH
BEGIN:VEVENT
UID:20260420T140036UTC-2878SJ8ONE@https://fadeu-old.urantiacos.cl/
DTSTAMP:20260420T140036Z
DESCRIPTION:'The second digital turn: the style of artificial intelligence'
  |&nbsp\;Mario Carpo\n&nbsp\;\n&nbsp\;\nConferencia del historiador y cr&i
 acute\;tico de arquitectura\, actualmente profesor en University College\,
  Londres\, Mario Carpo\,&nbsp\;realizada en el contexto del seminario &lsq
 uo\;Curves\, Fishes and Dogs&rsquo\; del Mag&iacute\;ster en Arquitectura 
 UC (MARQ).\n&nbsp\;\n&nbsp\;\nMario Carpo\nHistoriador de la arquitectura 
 y tecnolog&iacute\;as. Dr. Arch University of Florence\; PhD European Univ
 ersity Institute. Ha sido docente en la Universit&eacute\; de Gen&egrave\;
 ve\, School of Architecture of Saint-Etienne\, School of Architecture of P
 aris-La Villette\; Professor\, Georgia Institute of Technology (2009-2012)
 \; Vincent Scully Visiting Professor of Architectural History\, Yale Schoo
 l of Architecture (2010-2014)\; Reyner Banham Professor of Architectural H
 istory and Theory en Bartlett\, UCL (2014-) y director del Canadian Centre
  for Architecture (CCA)\, Montr&eacute\;al (2002-2005). Su investigaci&oac
 ute\;n se centra en la relaci&oacute\;n entre teor&iacute\;a de la arquite
 ctura\, historia cultural\, e historia de los medios y tecnolog&iacute\;a 
 de la informaci&oacute\;n. Es autor de Architecture in the Age of Printing
  (MIT Press\, 2001)\, The Alphabet and the Algorithm (MIT Press\, 2011)\, 
 The Second Digital Turn (MIT Press\, 2017) y numerosos art&iacute\;culos e
 n Log\, Grey Room\, E-flux journal\, Perspecta\, Domus\, AD\, etc.\n&nbsp\
 ;\n&nbsp\;\nFecha_Jueves 08 de noviembre de 201819.00 h.\n&nbsp\;\n&nbsp\;
 \nLugar_Sal&oacute\;n Sergio Larra&iacute\;nEscuela de Arquitectura UCEl C
 omendador 1936\, Providencia\n&nbsp\;\n&nbsp\;\nInvitan_Pontificia Univers
 idad Cat&oacute\;lica de ChileEscuela de Arquitectura UCMag&iacute\;ster e
 n Arquitectura UC (MARQ)\n&nbsp\;\n&nbsp\;\n\nStephen Wolfram\, cellular a
 utomaton number 30\, from A New Kind of Science (Champaign IL: Wolfram Med
 ia\, 2002)\n&nbsp\;\n&nbsp\;\nNoticiasContacto:&nbsp\;redesarq@uc.cl&nbsp\
 ;| +56 2 2354 7747www.arquitectura.uc.cl https://fadeu-old.urantiacos.cl/a
 genda/evento/1736-conferencia-mario-carpo-marq-uc
DTSTART:20181108T220000Z
DTEND:20181108T230000Z
LOCATION:Salón Sergio Larraín\, Campus Lo Contador ()
SUMMARY:Conferencia Mario Carpo | MARQ UC
URL:https://fadeu-old.urantiacos.cl/agenda/evento/1736-conferencia-mario-ca
 rpo-marq-uc
END:VEVENT
BEGIN:VEVENT
UID:20260420T140036UTC-2885mTmOwT@https://fadeu-old.urantiacos.cl/
DTSTAMP:20260420T140036Z
DESCRIPTION:\nIain Sinclair\, autor de&nbsp\;La ciudad de las desaparicione
 s\,&nbsp\;es el nuevo invitado al afamado ciclo La Ciudad y las Palabras\,
  del Doctorado en Arquitectura UC\, auspiciado por La Tercera. El autor of
 recer&aacute\; una conferencia el jueves 8 de noviembre a las 18.30 h en e
 l auditorio de la Facultad de Arquitectura UC.\n\n\nSinclair (Cardiff\, 19
 43)\, es un escritor y cineasta gal&eacute\;s\, formado en Dubl&iacute\;n 
 y radicado en Londres. Su obra explora la ciudad de Londres desde la pr&aa
 cute\;ctica de la psicogeograf&iacute\;a\, entrelazando sus lugares\, hist
 orias y leyendas con las emociones y los comportamientos que ah&iacute\; c
 onviven. En algunos de esos textos rastrea los fantasmas de la capital del
  Reino Unido. Su obra fue la base para la serie de Alan Moore&nbsp\;Desde 
 el infierno.Inscripciones_La entrada es liberada\, con cupos limitados y p
 revia inscripci&oacute\;n al correo&nbsp\;lvillarr@uc.clFecha_Jueves 08 de
  Noviembre de 2018\, 18.30 h.Lugar_Auditorio FCV. Campus Lo Contador. El C
 omendador 1936\, Providencia.Invitan_Doctorado en Arquitectura y Estudios 
 Urbanos UC.Organizan_AngloAmericanLa TerceraTironi AsociadosIMELLibrer&iac
 ute\;as UCNoticiasContacto:&nbsp\;redesarq@uc.cl&nbsp\;| +56 2 2354 7747ww
 w.arquitectura.uc.cl\n\n&nbsp\; https://fadeu-old.urantiacos.cl/agenda/eve
 nto/1702-la-ciudad-y-las-palabras-iain-sinclair
DTSTART:20181108T213000Z
DTEND:20181108T223000Z
LOCATION:Auditorio Fernando Castillo Velasco. Edificio ARQ (El Comendador 1
 936\, Providencia\, Región Metropolitana\, Chile)
SUMMARY:La Ciudad y Las Palabras | Iain Sinclair
URL:https://fadeu-old.urantiacos.cl/agenda/evento/1702-la-ciudad-y-las-pala
 bras-iain-sinclair
END:VEVENT
BEGIN:VEVENT
UID:20260420T140036UTC-2890Il9XGM@https://fadeu-old.urantiacos.cl/
DTSTAMP:20260420T140036Z
DESCRIPTION:Instancia en donde organizaciones y empresas expondr&aacute\;n 
 proyectos que ya se han realizado con alumnos de Dise&ntilde\;o y Arquitec
 tura\, para invitarlos a postular a trabajar con ellos. &nbsp\;&nbsp\;\nOr
 ganizada por: Consejeria Superior\, Consejer&iacute\;a Acad&eacute\;mica d
 e Dise&ntilde\;o y Arquitectura\, Puentes UC y Coordinaci&oacute\;n de pr&
 aacute\;cticas de la Escuela de Dise&ntilde\;o y Arquitectura\n8 de Noviem
 bre\, de 11:00 a 14:00 hrs.\, Patio de Madera\, Campus Lo Contador.\n&nbsp
 \;\n https://fadeu-old.urantiacos.cl/agenda/evento/1728-feria-practicas-de
 -servicio
DTSTART:20181108T140000Z
DTEND:20181108T170000Z
LOCATION:Patio de madera\, Campus Lo Contador (El Comendador 1916\, Provide
 ncia\, Providencia\, Región Metropolitana\, Chile)
SUMMARY: Feria: 'Prácticas de Servicio'
URL:https://fadeu-old.urantiacos.cl/agenda/evento/1728-feria-practicas-de-s
 ervicio
END:VEVENT
BEGIN:VEVENT
UID:20260420T140036UTC-2893u2F6Tv@https://fadeu-old.urantiacos.cl/
DTSTAMP:20260420T140036Z
DESCRIPTION:Vivimos en un mundo repleto de ideas. Gracias a la web y a pode
 rosos procesos de ideaci&oacute\;n como la innovaci&oacute\;n abierta\, el
  Design thinking o el crowdsourcing\, las organizaciones hoy cuentan con u
 na gran cantidad de conceptos a su disposici&oacute\;n. En este contexto\,
  lo que les falta a las organizaciones no es &ldquo\;una idea m&aacute\;s&
 rdquo\;\, sino la capacidad de encontrar el sentido a esta abundancia de o
 portunidades. Necesitan una nueva visi&oacute\;n que sea significativa\, u
 n nuevo lente o mapa que les indique qu&eacute\; direcci&oacute\;n tomar. 
 Sin una visi&oacute\;n que les haga sentido\, las organizaciones tienden a
  seleccionar lo que mejor soluciona los problemas que hoy est&aacute\;n pr
 esentes\, desechando soluciones con un mayor potencial.\nInscripci&oacute\
 ;n gratuita: &nbsp\;https://welcu.com/diseno-para-innovar-uc/-jrm?utm_sour
 ce=directory\n8 noviembre\, &nbsp\;8:30-11.00 hrs.Auditorio FADEU\,Campus 
 Lo Contador UC\, El Comendador 1916\n&nbsp\;\n https://fadeu-old.urantiaco
 s.cl/agenda/evento/1713-charla-roberto-verganti
DTSTART:20181108T113000Z
DTEND:20181108T140000Z
LOCATION:Auditorio FADEU\, Campus Lo Contador PUC (El Comendador 1916\, Pro
 videncia\, Providencia\, Región Metropolitana\, Chile)
SUMMARY:Charla: Roberto Verganti
URL:https://fadeu-old.urantiacos.cl/agenda/evento/1713-charla-roberto-verga
 nti
END:VEVENT
END:VCALENDAR
