BEGIN:VCALENDAR
VERSION:2.0
PRODID:-//https://fadeu-old.urantiacos.cl///NONSGML kigkonsult.se iCalcreator 2.10.15//
METHOD:PUBLISH
BEGIN:VEVENT
UID:20260420T140913UTC-5081fPWd6x@https://fadeu-old.urantiacos.cl/
DTSTAMP:20260420T140913Z
DESCRIPTION:El proximo viernes 9 de noviembre a las 19.00 h. se realizar&aa
 cute\; en el Auditorio Fernando Castillo Velasco el lanzamiento del tercer
  ARQDOC de 2018\, escrito por Thomas Weaver y editado por Ediciones&nbsp\;
 ARQ.&nbsp\;El lanzamiento ser&aacute\; acompa&ntilde\;ado por la charla ma
 gistral del propio autor.\n&nbsp\;\n&nbsp\;\nThomas Weaver&nbsp\;es escrit
 or\, profesor y editor de arquitectura. Estudi&oacute\; en Bartlett School
  of Architecture\, UCL\, Londres y en la Universidad de Princeton\, Estado
 s Unidos. Posteriormente trabaj&oacute\; en Nueva York como editor de la r
 evista ANY (Architecture New York) y como profesor de teor&iacute\;a y tal
 ler de arquitectura en Cooper Union. Establecido en Londres desde 2002\, c
 ombin&oacute\; la docencia con trabajo editorial en publicaciones para Dav
 id Chipperfield Architects y Foster + Partners\, antes de trabajar en la A
 rchitectural Association entre 2007-2017. All&iacute\; edit&oacute\; la ga
 lardonada revista AA FILES\, fue editor de todas las otras publicaciones d
 e la AA y ense&ntilde\;&oacute\; taller de arquitectura e historia y teor&
 iacute\;a en los programas de pre y posgrado de la misma escuela escuela. 
 Actualmente es profesor visitante en el centro Berlage de Estudios Avanzad
 os en Arquitectura y Dise&ntilde\;o Urbano\, de la TU Delft en Holanda.\n&
 nbsp\;\n&nbsp\;\nFecha_Viernes 09 de noviembre de 2018\, 19.00 h.\n&nbsp\;
 \n&nbsp\;\nLugar_Auditorio Fernando Castillo Velasco. El Comendador 1936\,
  Providencia\n&nbsp\;\n&nbsp\;\nInvitan_Ediciones ARQ\nEscuela de Arquitec
 tura UC\n&nbsp\;\n&nbsp\;\n\n&nbsp\;\n&nbsp\;\nNoticiasContacto:&nbsp\;red
 esarq@uc.cl&nbsp\;| +56 2 2354 7747www.arquitectura.uc.cl https://fadeu-ol
 d.urantiacos.cl/agenda/evento/1737-lanzamiento-arq-docs-thomas-weaver
DTSTART:20181109T220000Z
DTEND:20181109T230000Z
LOCATION:Auditorio Fernando Castillo Velasco. Edificio ARQ (El Comendador 1
 936\, Providencia\, Región Metropolitana\, Chile)
SUMMARY:Lanzamiento ARQ DOCS: Thomas Weaver
URL:https://fadeu-old.urantiacos.cl/agenda/evento/1737-lanzamiento-arq-docs
 -thomas-weaver
END:VEVENT
END:VCALENDAR
