BEGIN:VCALENDAR
VERSION:2.0
PRODID:-//https://fadeu-old.urantiacos.cl///NONSGML kigkonsult.se iCalcreator 2.10.15//
METHOD:PUBLISH
BEGIN:VEVENT
UID:20260421T081120UTC-8440CuNIGW@https://fadeu-old.urantiacos.cl/
DTSTAMP:20260421T081120Z
DESCRIPTION:Seminario Plan regulador Metropolitano de Santiago. Aprendizaje
 s y desaf&iacute\;os de la planificaci&oacute\;n regional.Expone: Aldo Ram
 aciotti (Seremi Minvu Metropolitano)\nCon el motivo de distintas situacion
 es que se han dado en la ciudad de Santiago\, como es la localizaci&oacute
 \;n de los mal llamados 'Guettos Verticales&rdquo\; o la aprobaci&oacute\;
 n de proyectos contaminantes en la comuna de Til Til\, se ha iniciado un c
 uestionamiento respecto de la efectividad del Plan Regulador Metropolitano
  de Santiago (PRMS)\, para hacer frente a las problem&aacute\;ticas urbana
 s actuales.\nEn ese marco\, el Seminario busca hacerse cargo de generar un
 a discusi&oacute\;n actualizada sobre los desaf&iacute\;os y oportunidades
  que plantea la elaboraci&oacute\;n de un nuevo PRMS. Por un lado\, un deb
 ate sobre el diagnostico actual respecto del instrumento de planificaci&oa
 cute\;n regional. Por otro\, una discusi&oacute\;n prospectiva\, respecto 
 de los temas que se debiesen considerar a futuro\, pero tambi&eacute\;n re
 specto de los nuevos enfoques y miradas en planificaci&oacute\;n que se de
 ben considerar.\nLo anterior adem&aacute\;s se dar&aacute\; en el contexto
  del lanzamiento de dos libros de la Colecci&oacute\;n Estudios Urbanos UC
 \, elaborada en conjunto por el Instituto de Estudios Urbanos y RiL Editor
 es\, que corresponden a 'Cambio Clim&aacute\;tico\, Vulnerabilidad Urbana 
 y Adaptaci&oacute\;n a Nivel Municipal\, Santiago de Chile y Otras Ciudade
 s de Am&eacute\;rica Latina&rdquo\; y 'Santiago 2030\, Escenarios para la 
 Planificaci&oacute\;n Estr&aacute\;tegica&rdquo\;.\nConversatorio:Ra&uacut
 e\;l Torrealba / Alcalde de VitacuraJavier Hurtado / Jefe de Estudios de l
 a C&aacute\;mara Chilena de la Construcci&oacute\;nJonathan Barton / Acad&
 eacute\;mico del Instituto de Estudios Urbanos y TerritorialesPeter Muck /
  Experto internacional en Adaptaci&oacute\;n\, Ministerio del Medio Ambien
 te\n&nbsp\;\n https://fadeu-old.urantiacos.cl/agenda/evento/1393-seminario
 -plan-regulador-metropolitano-de-santiago
DTSTART:20171114T210000Z
DTEND:20171114T220000Z
LOCATION:Salón Sergio Larraín\, Campus Lo Contador ()
SUMMARY:Seminario Plan Regulador Metropolitano de Santiago
URL:https://fadeu-old.urantiacos.cl/agenda/evento/1393-seminario-plan-regul
 ador-metropolitano-de-santiago
END:VEVENT
END:VCALENDAR
