BEGIN:VCALENDAR
VERSION:2.0
PRODID:-//https://fadeu-old.urantiacos.cl///NONSGML kigkonsult.se iCalcreator 2.10.15//
METHOD:PUBLISH
BEGIN:VEVENT
UID:20260421T081144UTC-2061wCTPkv@https://fadeu-old.urantiacos.cl/
DTSTAMP:20260421T081144Z
DESCRIPTION:Abel Erazo / Presentaci&oacute\;n de Casa &uml\;Gen an (1975)&u
 ml\; de Osamu Ishiyama (1944-)\nEn esta ocasi&oacute\;n\, en el marco del 
 curso del Magister de Arquitectura PUC sobre viviendas japonesas desde la 
 posguerra dictado por Yuji Harada y Diego Grass\, el arquitecto chileno Ab
 el Erazo presenta la casa &uml\;Gen an (1975)&uml\; de Osamu Ishiyama\, su
  primera obra y que expresa en su forma m&aacute\;s pura su filisof&iacute
 \;a de dise&ntilde\;o. Una mezcla de los preceptos de Buck Minster Fuller 
 sobre arquitectura m&oacute\;vil y sus propios conceptos de tecnolog&iacut
 e\;a abierta y arquitectura y ficci&oacute\;n.\nAbel Erazo nace en 1975. E
 n 2001 se titula en la Universidad de Chile. Luego viajaria becado a Japon
  para realizar estudios de postgrado\, donde desarrolla y construye junto 
 a su profesor Osamu Ishiyama (1944-) el proyecto &ldquo\;Hoshinoko&rdquo\;
  a las afueras de Tokio. En 2006 termina su master en dise&ntilde\;o arqui
 tectonico. En 2009 culmina sus estudios de Doctorado en la Universidad de 
 Waseda. En 2017 abre su propio estudio en Pekin\, AE Architects\, donde de
 sarrolla proyectos de arquitectura\, paisajismo e interiorismo.\nFecha_15 
 de noviembre de 2017\, 10:00 hrs.\nLugar_Sala 104 Edificio Escuela Dise&nt
 ilde\;o y Estudios Urbanos (1er Piso) / Escuela de Arquitectura UC El Come
 ndador 1936\, Providencia.\nInvita_Arquitectura UC\n&nbsp\;\n https://fade
 u-old.urantiacos.cl/agenda/evento/1403-osamu-ishiyama-segun-abel-erazo
DTSTART:20171115T130000Z
DTEND:20171115T140000Z
LOCATION:Sala 104 - Escuela de Diseño (El Comendador 1916\, Providencia\, R
 egión Metropolitana\, Chile)
SUMMARY:Osamu Ishiyama según Abel Erazo
URL:https://fadeu-old.urantiacos.cl/agenda/evento/1403-osamu-ishiyama-segun
 -abel-erazo
END:VEVENT
END:VCALENDAR
