BEGIN:VCALENDAR
VERSION:2.0
PRODID:-//https://fadeu-old.urantiacos.cl///NONSGML kigkonsult.se iCalcreator 2.10.15//
METHOD:PUBLISH
BEGIN:VEVENT
UID:20260421T081016UTC-9619V62RzM@https://fadeu-old.urantiacos.cl/
DTSTAMP:20260421T081016Z
DESCRIPTION:A partir de conversaciones\, materiales de archivo y filmacione
 s recientes\, la pel&iacute\;cula aborda los hechos y fundamentos de Amere
 ida\, una traves&iacute\;a po&eacute\;tica y un poema-libro realizado en 1
 965 por artistas\, arquitectos\, poetas e intelectuales latinoamericanos y
  europeos\; los que partiendo desde Tierra del Fuego\, se propusieron re-d
 escubrir el sentido de Am&eacute\;rica y su destino en el mundo\, para de 
 esa manera\, re-fundar el continente desde la poes&iacute\;a y proponer un
  modo de habitar po&eacute\;tico.\nEl documental ''Amereida. S&oacute\;lo 
 las huellas descubren el mar''. Contar&aacute\; con el acomentarios y la p
 articipaci&oacute\;n de su realizador Javier Correa\, Ernesto Rodr&iacute\
 ;guez y el destacado cineasta nacional Igancio Aguero. Moderar&aacute\; la
  discusi&oacute\;n Fernando P&eacute\;rez Oyarzun.\nInscripciones con Lore
 to Villarroel a lvillarr(at)uc.cl\nFecha_Jueves 16 de noviembre\, 18.30 hr
 s\nLugar_Auditorio FADEU. El comendador 1916. Providencia\n https://fadeu-
 old.urantiacos.cl/agenda/evento/1395-amereida-solo-las-huellas-descubren-e
 l-mar
DTSTART:20171116T213000Z
DTEND:20171116T223000Z
LOCATION:Auditorio FADEU\, Campus Lo Contador PUC (El Comendador 1916\, Pro
 videncia\, Providencia\, Región Metropolitana\, Chile)
SUMMARY:Amereida\, solo las huellas descubren el mar
URL:https://fadeu-old.urantiacos.cl/agenda/evento/1395-amereida-solo-las-hu
 ellas-descubren-el-mar
END:VEVENT
END:VCALENDAR
