BEGIN:VCALENDAR
VERSION:2.0
PRODID:-//https://fadeu-old.urantiacos.cl///NONSGML kigkonsult.se iCalcreator 2.10.15//
METHOD:PUBLISH
BEGIN:VEVENT
UID:20260421T081122UTC-2169F9iEma@https://fadeu-old.urantiacos.cl/
DTSTAMP:20260421T081122Z
DESCRIPTION:DSE 2017:Simposio Webinar en Desarrollo Sustentable y Energ&iac
 ute\;aRed INVECA / Red IN-NL / MASE\nLa Red de Investigadores Chilenos en 
 Alemania (Red INVECA - www.redinveca.de)\, la Red de Investigadores Chilen
 os en los Pa&iacute\;ses Bajos (http://www.in-nl.net/) y el Magister en Ar
 quitectura Sustentable y Energ&iacute\;a (MASE - (http://magisterarq.cl/ma
 gister-en-arquitectura-sustentable-y-energia-mase/) de la PUC organizan Si
 mposio Webinar en Desarrollo Sustentable y Energ&iacute\;a\, que se realiz
 ar&aacute\; simult&aacute\;neamente en Santiago y en Bonn el 17 de Noviemb
 re de 2017 con el apoyo de Chile Global Este evento provee un foro para el
  intercambio de nuevos estudios y trabajos de investigaci&oacute\;n\, tant
 o desde un enfoque t&eacute\;cnico como social\, relacionados con el desar
 rollo y uso en Chile de tecnolog&iacute\;as de generaci&oacute\;n\, eficie
 ncia energ&eacute\;tica y medio ambiente\, as&iacute\; como con aspectos s
 ocio-pol&iacute\;ticos relacionados con el uso de la energ&iacute\;a.\nObj
 etivo\nEl principal prop&oacute\;sito del evento es reunir a investigadore
 s\, estudiantes y profesionales para discutir y compartir nuevos avances y
  desarrollos en &aacute\;reas relacionadas con tecnolog&iacute\;as de gene
 raci&oacute\;n\, uso eficiente y sustentable de la energ&iacute\;a\, as&ia
 cute\; tambi&eacute\;n como con aspectos sociopol&iacute\;ticos y econ&oac
 ute\;micos y su impacto en la sociedad.\nParticipantes\nNuestro principal 
 p&uacute\;blico objetivo son los investigadores\, profesionales y estudian
 tes que se encuentren desarrollando investigaci&oacute\;n en temas de ener
 g&iacute\;a y &aacute\;reas afines. Al mismo tiempo\, el evento est&aacute
 \; dirigido a la comunidad cient&iacute\;fica y los investigadores en gene
 ral est&aacute\;n invitados a participar con la presentaci&oacute\;n de un
  trabajo t&eacute\;cnico.\nFecha_\nViernes 17 de noviembre de 2017. 9.00 h
 rs sesi&oacute\;n Chile - 13.00 hrs sesi&oacute\;n Alemania\nLugar_Sal&oac
 ute\;n Sergio Larra&iacute\;n. El Comendador 1936\, Providencia. TH K&ouml
 \;ln &ndash\; Institute for Technology and Resources Management in the Tro
 pics and Subtropics (el streaming se realizar&aacute\; a trav&eacute\;s de
  https://www.facebook.com/extensionarquitecturauc/)\nOrganiza_Red INVECARe
 d IN-NLMASE\n&nbsp\;\n https://fadeu-old.urantiacos.cl/agenda/evento/1399-
 simposio-web-red-inveca-red-in-nl-mase
DTSTART:20171117T120000Z
DTEND:20171117T170000Z
LOCATION:Salón Sergio Larraín\, Campus Lo Contador ()
SUMMARY:Simposio Web Red INVECA / Red IN-NL / MASE
URL:https://fadeu-old.urantiacos.cl/agenda/evento/1399-simposio-web-red-inv
 eca-red-in-nl-mase
END:VEVENT
END:VCALENDAR
