BEGIN:VCALENDAR
VERSION:2.0
PRODID:-//https://fadeu-old.urantiacos.cl///NONSGML kigkonsult.se iCalcreator 2.10.15//
METHOD:PUBLISH
BEGIN:VEVENT
UID:20260421T081143UTC-9746MH4cTk@https://fadeu-old.urantiacos.cl/
DTSTAMP:20260421T081143Z
DESCRIPTION:El Instituto de Estudios Urbanos y Territoriales UC invita a to
 dos los interesados en sus programas de Mag&iacute\;ster en Desarrollo Urb
 ano y Mag&iacute\;ster en Asentamientos Humanos y Medio Ambiente al Caf&ea
 cute\; de Mag&iacute\;ster 2017. Esta actividad se realizar&aacute\; el ma
 rtes 21 de noviembre a las 18:30 hrs. en la Sala de Consejo del Instituto 
 de Estudios Urbanos y Territoriales UC. El Comendador 1916\, Providencia.
 \nEn esta instancia la Jefa de Programas de Mag&iacute\;ster IEUT\, Macare
 na Ibarra\, presentar&aacute\; ambos programas en profundidad. Se contar&a
 acute\; tambi&eacute\;n con la presencia de profesores y ex-alumnos quiene
 s contar&aacute\;n su experiencia en el programa\, as&iacute\; como actual
 es proyecto y se dar&aacute\; orientaci&oacute\;n para el proceso de Admis
 i&oacute\;n 2018. Todo esto acompa&ntilde\;ado de un rico caf&eacute\;.\n 
 https://fadeu-old.urantiacos.cl/agenda/evento/1417-cafe-informativo-sobre-
 magister-ieut-uc
DTSTART:20171121T213000Z
DTEND:20171121T223000Z
LOCATION:Sala Consejo Instituto de Estudios Urbanos (El Comendador 1916\, P
 rovidencia\, Región Metropolitana\, Chile)
SUMMARY:Café informativo sobre Magíster IEUT-UC
URL:https://fadeu-old.urantiacos.cl/agenda/evento/1417-cafe-informativo-sob
 re-magister-ieut-uc
END:VEVENT
BEGIN:VEVENT
UID:20260421T081143UTC-9751juDRfe@https://fadeu-old.urantiacos.cl/
DTSTAMP:20260421T081143Z
DESCRIPTION:CONFERENCIA DE CELIA LURY:&nbsp\;'PEOPLE LIKE YOU': ALGORITHMIC
  PERSONALISATION AS A MODE OF INDIVIDUATION\nEsta conferencia\, dictada po
 r Celia Lury &mdash\;directora del Centre for Interdisciplinary Methodolog
 ies de la Universidad de Warwick (UK)&mdash\; indaga en formas at&iacute\;
 picas personalizaci&oacute\;n algor&iacute\;tmica\, que permiten comprende
 r las econom&iacute\;as contempor&aacute\;neas del 'compartir&rdquo\;\, en
  las que la pol&iacute\;tica de los colectivos\, la propiedad y el uso se 
 reconfiguran como 'sociales' por default.\nFecha: Martes 21 de noviembre d
 e 2017Horario: 17:00 horasLugar: Sal&oacute\;n Sergio Larra&iacute\;n G.M.
 \, Campus Lo Contador UCPresentan: Mart&iacute\;n Tironi\, Renato Bernasco
 ni\, Mat&iacute\;as Valderrama\, Pablo HermansenInscripciones aqu&iacute\;
 .&nbsp\; https://fadeu-old.urantiacos.cl/agenda/evento/1413-conferencia-de
 -celia-lury
DTSTART:20171121T200000Z
DTEND:20171121T210000Z
LOCATION:Salón Sergio Larraín\, Campus Lo Contador ()
SUMMARY:Conferencia de Celia Lury 
URL:https://fadeu-old.urantiacos.cl/agenda/evento/1413-conferencia-de-celia
 -lury
END:VEVENT
BEGIN:VEVENT
UID:20260421T081143UTC-9776Evmx0l@https://fadeu-old.urantiacos.cl/
DTSTAMP:20260421T081143Z
DESCRIPTION:Tras su presentaci&oacute\;n en la XX Bienal de Arquitectura y 
 Urbanismo\, la exposici&oacute\;n 'Archivo Provisional'\, inicia una serie
  de instalaciones en Santiago\, con su presencia en Estudio Com&uacute\;n 
 entre el 21 de Noviembre y el 1 de Diciembre.\nLa exposici&oacute\;n corre
 sponde a la primera salida expositiva de una investigaci&oacute\;n centrad
 a en la historia de la bienal de arquitectura y urbanismo\, la cual ha sid
 o desarrollada por Fernando Portal en conjunto con Fernando Carvajal\, Ped
 ro Correa y Rayna Razmilic. Esta investigaci&oacute\;n\, ha tenido como ba
 se el trabajo desarrollado en conjunto con los estudiantes del taller de i
 nvestigaci&oacute\;n 'Exponer Arquitectura en Chile. Bienales de Arquitect
 ura 1977 - 201X'\, durante los a&ntilde\;os 2014\, 2015 y 2017.\nLa exposi
 ci&oacute\;n tiene como objetivos construir un cuerpo documental en base a
  la bienal de arquitectura - el cual permita entender a esta como un sujet
 o de investigaci&oacute\;n hist&oacute\;rica - y compartir con audiencias 
 generales y espec&iacute\;ficas\, esta documentaci&oacute\;n\, entendiendo
  la acci&oacute\;n de exponer como la construcci&oacute\;n de bienes comun
 es para investigaciones colectivas sobre la intersecci&oacute\;n entre arq
 uitectura y esfera p&uacute\;blica.\nPara eso\, Archivo Provisional re&uac
 ute\;ne en un &uacute\;nico volumen de mas de 19.000 p&aacute\;ginas prove
 nientes de distintos tipos de documentos producidos por una amplia varieda
 d agentes y medios\, en torno a las bienales desde su partida en 1977. Est
 a documentaci&oacute\;n\, proviene de distintas fuentes\, tales como medio
 s de prensa\, medios especializados\, archivos propios del Colegio de Arqu
 itectos\, el Fondo Documental de la Revista CA\, perteneciente al Archivo 
 de Originales de la Facultad\, incluyendo tambi&eacute\;n las publicacione
 s y cat&aacute\;logos propios de cada bienal.\nEntender el exponer como un
  medio para fomentar investigaciones colectivas por parte de una comunidad
  espec&iacute\;fica\, llev&oacute\; a activar esta exposici&oacute\;n en l
 a pasada bienal\, por medio de invitaciones puntuales a distintos agentes 
 - arquitectos\, historiadores\, estudiantes\, y artistas - cada uno de los
  cuales agreg&oacute\; desde su lectura\, una nueva capa de informaci&oacu
 te\;n sobre los documentos. Durante esta segunda instalaci&oacute\;n\, la 
 exposici&oacute\;n ser&aacute\; activada desde su consulta cotidiana y des
 de la organizaci&oacute\;n de un conversatorio el pr&oacute\;ximo martes 2
 8\, centrado en el intercambio desde la presentaci&oacute\;n de una serie 
 de selecciones.\nArchivo Provisional es un proyecto financiado por el Fond
 o Nacional de Desarrollo Cultural y de artes\, Convocatoria 2017\, y fue p
 arte de la muestra de la XX Bienal de Arquitectura y Urbanismo de Chile\, 
 organizada por el Colegio de Arquitectos.\n&nbsp\;\n\n&nbsp\;\n https://fa
 deu-old.urantiacos.cl/agenda/evento/1418-inauguracion-expo-archivo-provisi
 onal
DTSTART:20171121T163000Z
DTEND:20171121T173000Z
LOCATION:Hall Acceso Edificio escuela de Arquitectura UC (El Comendador 193
 6\, Providencia\, Región Metropolitana\, Chile)
SUMMARY:Inauguración expo Archivo Provisional
URL:https://fadeu-old.urantiacos.cl/agenda/evento/1418-inauguracion-expo-ar
 chivo-provisional
END:VEVENT
END:VCALENDAR
