BEGIN:VCALENDAR
VERSION:2.0
PRODID:-//https://fadeu-old.urantiacos.cl///NONSGML kigkonsult.se iCalcreator 2.10.15//
METHOD:PUBLISH
BEGIN:VEVENT
UID:20260421T081136UTC-0994A1TmGW@https://fadeu-old.urantiacos.cl/
DTSTAMP:20260421T081136Z
DESCRIPTION:En el marco del lanzamiento del nuevo programa &ldquo\;Diplomad
 o en Pol&iacute\;ticas de Vivienda y Ciudad. Desaf&iacute\;os de la vivien
 da de inter&eacute\;s social y de las pol&iacute\;ticas urbanas en el Chil
 e del siglo XXI&rdquo\; conversaremos sobre las pol&iacute\;ticas habitaci
 onales y los modelos de ciudad y sociedad que ellas proponen as&iacute\; c
 omo de los desaf&iacute\;os que se abren entorno a ellas. participar&aacut
 e\;n de la discusi&oacute\;n:\nClaudio Orrego / Intendente de SantiagoLuis
  Eduardo Bresciani / Presidente del Consejo Nacional de Desarrollo UrbanoM
 agdalena Vicu&ntilde\;a / Investigadora y docente del Instituto de Estudio
 s Urbanos y Territoriales\nModera: Umberto Bonomo (jefe de Programa)\nLos 
 asistentes podr&aacute\;n acceder a un 10% de descuento en el arancel del 
 programa para su versi&oacute\;n 2018.\nInteresados escribir a Francisco W
 alker (Coordinador del programa) a fjwalker(at)uc.cl\nFecha_Mi&eacute\;rco
 les 22 de noviembre\, 18.30 hrs.\nLugar_Auditorio Fernando Castillo. El Co
 mendador 1936\, 4&deg\; piso. Providencia\nOrganiza_Educaci&oacute\;n Cont
 inua Arquitectura UCInstituto de Estudios Urbanos y Territoriales UC\n&nbs
 p\;\n https://fadeu-old.urantiacos.cl/agenda/evento/1397-lanzamiento-diplo
 mado-en-politicas-de-vivienda-y-ciudad
DTSTART:20171122T213000Z
DTEND:20171122T223000Z
LOCATION:Auditorio Fernando Castillo Velasco. Edificio ARQ (El Comendador 1
 936\, Providencia\, Región Metropolitana\, Chile)
SUMMARY:Lanzamiento Diplomado en Políticas de Vivienda y Ciudad
URL:https://fadeu-old.urantiacos.cl/agenda/evento/1397-lanzamiento-diplomad
 o-en-politicas-de-vivienda-y-ciudad
END:VEVENT
BEGIN:VEVENT
UID:20260421T081136UTC-1000Hrpsnj@https://fadeu-old.urantiacos.cl/
DTSTAMP:20260421T081136Z
DESCRIPTION:Tenemos el agrado de invitarlo(a) a ud. al SEMINARIO | El lugar
  del arriendo en la pol&iacute\;tica habitacional: Desaf&iacute\;os y prop
 uestas\, a realizarse el mi&eacute\;rcoles 22 de noviembre de 8:45 a 11:00
  hrs en el Auditorio FADEU\, Campus Lo Contador UC. El Comendador 1916\, P
 rovidencia.\nExponen en el Seminario Adriana Mar&iacute\;n Toro (Coordinad
 ora de investigaci&oacute\;n\, Facultad de Arquitectura y Urbanismo\, PUCV
 ) y Alejandra de la Mora (Consultora M&aacute\;ster del Centro de Investig
 aci&oacute\;n para el Desarrollo Sostenible del Infonavit\, M&eacute\;xico
 ).\nComentan Jos&eacute\; Luis Sep&uacute\;lveda (Jefe Divisi&oacute\;n Po
 l&iacute\;tica Habitacional Minvu)\, Luis Valdivieso A. (Programa 'REVIVE 
 SANTIAGO&rdquo\; I.Municipalidad de Santiago-SUBDERE-BID)\, Daniella Innoc
 enti (Investigadora del Centro de Pol&iacute\;ticas P&uacute\;blicas UC) y
  Javier Ruiz-Tagle (Acad&eacute\;mico Instituto de Estudios Urbanos y Terr
 itoriales UC).\n&nbsp\;\n https://fadeu-old.urantiacos.cl/agenda/evento/13
 63-seminario-el-lugar-del-arriendo-en-la-politica-habitacional-desafios-y-
 propuestas
DTSTART:20171122T114500Z
DTEND:20171122T140000Z
LOCATION:Auditorio FADEU\, Campus Lo Contador PUC (El Comendador 1916\, Pro
 videncia\, Providencia\, Región Metropolitana\, Chile)
SUMMARY:SEMINARIO | El lugar del arriendo en la política habitacional: Desa
 fíos y propuestas
URL:https://fadeu-old.urantiacos.cl/agenda/evento/1363-seminario-el-lugar-d
 el-arriendo-en-la-politica-habitacional-desafios-y-propuestas
END:VEVENT
END:VCALENDAR
