BEGIN:VCALENDAR
VERSION:2.0
PRODID:-//https://fadeu-old.urantiacos.cl///NONSGML kigkonsult.se iCalcreator 2.10.15//
METHOD:PUBLISH
BEGIN:VEVENT
UID:20260421T081016UTC-0551UU38X9@https://fadeu-old.urantiacos.cl/
DTSTAMP:20260421T081016Z
DESCRIPTION:El pr&oacute\;ximo jueves 23 de noviembre la escritora\, urbani
 sta y profesora de la escuela de arquitectura de la Universidad de Yale Ke
 ller Easterling\, que visit&oacute\; la facultad el a&ntilde\;o pasado en 
 el marco del congreso Intersecciones\, realizar&aacute\; la charla magistr
 al ''Medium Design'' en el lanzamiento del &uacute\;ltimo libro de la seri
 e ARQDOCS.\nFecha_Jueves 23 de noviembre\, 18.30 hrs\nLugar_Auditorio Fern
 ando Castillo\, El Comendador 1936\, 4&deg\; piso. Providencia.\nInvita_Ed
 iciones ARQArquitectura UC\n&nbsp\;\n https://fadeu-old.urantiacos.cl/agen
 da/evento/1415-lanzamiento-arqdocs-keller-easterling
DTSTART:20171123T213000Z
DTEND:20171123T223000Z
LOCATION:Auditorio Fernando Castillo Velasco. Edificio ARQ (El Comendador 1
 936\, Providencia\, Región Metropolitana\, Chile)
SUMMARY:Lanzamiento ARQDOCS Keller Easterling
URL:https://fadeu-old.urantiacos.cl/agenda/evento/1415-lanzamiento-arqdocs-
 keller-easterling
END:VEVENT
BEGIN:VEVENT
UID:20260421T081016UTC-055514PtFI@https://fadeu-old.urantiacos.cl/
DTSTAMP:20260421T081016Z
DESCRIPTION:En el contexto de la tercera venida del arquitecto franc&egrave
 \;s Fr&eacute\;d&eacute\;ric Druot (www.druot.net)\, el equipo del proyect
 o PLUS Chile organiza una mesa redonda sobre la problematica de la rehabil
 itaci&oacute\;n de conjuntos de viviendas sociales\, con la participacion 
 de distintos actores del Ministerio de Vivienda y Urbanismo. La discusion 
 se dara el proximo Jueves 23 de Noviembre\, a las 15.00\, en el Salon Serg
 io Larrain de la Escuela de Arquitectura UC.\nPara mas informacion sobre e
 l proyecto PLUS Chile : pluschile.tumblr.com\nFecha_Jueves 23 de noviembre
 . 15.00 hrs\nLugar_Sal&oacute\;n Sergio Larra&iacute\;n\, El comendador 19
 36. Providencia.\nOrganiza_Proyecto PLUS Chile https://fadeu-old.urantiaco
 s.cl/agenda/evento/1419-nunca-demoler-con-frederic-druot
DTSTART:20171123T180000Z
DTEND:20171123T190000Z
LOCATION:Salón Sergio Larraín\, Campus Lo Contador ()
SUMMARY:'Nunca Demoler' con Frederic Druot
URL:https://fadeu-old.urantiacos.cl/agenda/evento/1419-nunca-demoler-con-fr
 ederic-druot
END:VEVENT
BEGIN:VEVENT
UID:20260421T081016UTC-05595V7pXU@https://fadeu-old.urantiacos.cl/
DTSTAMP:20260421T081016Z
DESCRIPTION:Cuarto Seminario Intenacional Cigiden: Desastres y Desarrollo e
 n Latinoam&eacute\;rica: Barreras\, Contrastes y Oportunidades.\nCu&aacute
 \;ndo: Jueves 23 de noviembreHora: desde 8:30 hasta las 14:00 horasD&oacut
 e\;nde: Sal&oacute\;n de Honor (Casa Central).\nM&aacute\;s info aqu&iacut
 e\;\n https://fadeu-old.urantiacos.cl/agenda/evento/1405-cuarto-seminario-
 internacional-cigiden
DTSTART:20171123T113000Z
DTEND:20171123T170000Z
LOCATION:Salón de honor\, Casa Central (Alameda 340\, Santiago)
SUMMARY:Cuarto Seminario Internacional CIGIDEN
URL:https://fadeu-old.urantiacos.cl/agenda/evento/1405-cuarto-seminario-int
 ernacional-cigiden
END:VEVENT
END:VCALENDAR
