BEGIN:VCALENDAR
VERSION:2.0
PRODID:-//https://fadeu-old.urantiacos.cl///NONSGML kigkonsult.se iCalcreator 2.10.15//
METHOD:PUBLISH
BEGIN:VEVENT
UID:20260421T081015UTC-6803eUbHKN@https://fadeu-old.urantiacos.cl/
DTSTAMP:20260421T081015Z
DESCRIPTION:Tenemos el agrado de invitarlos a la Charla: La pol&iacute\;tic
 a p&uacute\;blica de ordenamiento y su territorializaci&oacute\;n en el co
 rredor universitario entre Barranquilla y Puerto Colombia (1990-2016)\, di
 ctada por Jos&eacute\; Luis Farelo\, estudiante de Doctorado Universidad d
 e Caldas\, Colombia.\nLa charla se realizar&aacute\; el viernes 24 de novi
 embre\, 12:00 h en la Sala de Consejo IEUT.\n&nbsp\; https://fadeu-old.ura
 ntiacos.cl/agenda/evento/1420-charla-la-politica-publica-de-ordenamiento-y
 -su-territorializacion-en-el-corredor-universitario-entre-barranquilla-y-p
 uerto-colombia-1990-2016
DTSTART:20171124T150000Z
DTEND:20171124T160000Z
LOCATION:Sala de Consejo\, 4to piso Instituto de Estudios Urbanos y Territo
 riales\, Campus Lo Contador (El Comendador 1916\, Providencia\, Región Met
 ropolitana\, Chile)
SUMMARY:Charla: 'La política pública de ordenamiento y su territorializació
 n en el corredor universitario entre Barranquilla y Puerto Colombia (1990-
 2016)
URL:https://fadeu-old.urantiacos.cl/agenda/evento/1420-charla-la-politica-p
 ublica-de-ordenamiento-y-su-territorializacion-en-el-corredor-universitari
 o-entre-barranquilla-y-puerto-colombia-1990-2016
END:VEVENT
BEGIN:VEVENT
UID:20260421T081015UTC-6812NGDoSj@https://fadeu-old.urantiacos.cl/
DTSTAMP:20260421T081015Z
DESCRIPTION:Esta conferencia\,&nbsp\;dictada&nbsp\;por Celia Lury &mdash\;d
 irectora del Centre for Interdisciplinary Methodologies de la Universidad 
 de Warwick (UK)&mdash\;&nbsp\;se inspira en&nbsp\;Verb List\, obra del esc
 ultor Richard Serra. A partir de dicha obra\, Lury reflexiona sobre el pot
 encial de los m&eacute\;todos interdisciplinarios para componer problemas 
 en un tiempo de rendici&oacute\;n (o restituci&oacute\;n).\nFecha: Viernes
  24 de noviembre de 2017Horario: 11:00 amLugar: Sal&oacute\;n Sergio Larra
 &iacute\;n G.M.\, Campus Lo Contador UCPresentan: Mart&iacute\;n Tironi\, 
 Renato Bernasconi\, Mat&iacute\;as Valderrama\, Pablo HermansenInscripcion
 es aqu&iacute\;.&nbsp\;\n&nbsp\;\n&nbsp\; https://fadeu-old.urantiacos.cl/
 agenda/evento/1411-conferencia-de-celia-lury
DTSTART:20171124T140000Z
DTEND:20171124T150000Z
LOCATION:Salón Sergio Larraín\, Campus Lo Contador ()
SUMMARY:Conferencia de Celia Lury 
URL:https://fadeu-old.urantiacos.cl/agenda/evento/1411-conferencia-de-celia
 -lury
END:VEVENT
END:VCALENDAR
