BEGIN:VCALENDAR
VERSION:2.0
PRODID:-//https://fadeu-old.urantiacos.cl///NONSGML kigkonsult.se iCalcreator 2.10.15//
METHOD:PUBLISH
BEGIN:VEVENT
UID:20260419T163055UTC-4937OAPUNP@https://fadeu-old.urantiacos.cl/
DTSTAMP:20260419T163055Z
DESCRIPTION:En esta ocasi&oacute\;n el acad&eacute\;mico e investigador doc
 torando\,&nbsp\;Felipe Valenzuela\, dictar&aacute\; la Charla:&nbsp\;Persi
 stencia de la informalidad urbana en el Chile neoliberal: El caso del &aac
 ute\;rea metropolitana de Valpara&iacute\;so.\nLa actividad se realizar&aa
 cute\; el d&iacute\;a&nbsp\;martes 26 de noviembre a partir de las 13:00 h
 .&nbsp\;en la Biblioteca Sergio Larra&iacute\;n.&nbsp\;El Comendador 1916\
 , Providencia.\nCupos limitados e inscripciones&nbsp\;aqu&iacute\;.Se comp
 artir&aacute\; un almuerzo liviano con los asistentes\, previa inscripci&o
 acute\;n&nbsp\;hasta el lunes 25 de noviembre.\nOrganiza: Instituto de Est
 udios Urbanos y Territoriales UC\n https://fadeu-old.urantiacos.cl/agenda/
 evento/2047-serie-jornadas-de-investigacion-en-el-instituto-2019-dialogos-
 para-debatir-y-repensar-el-territorio
DTSTART:20191126T160000Z
DTEND:20191126T170000Z
LOCATION:Biblioteca Sergio Larraín (El Comendador 1916\, Providencia\, Prov
 idencia\, Región Metropolitana\, Chile)
SUMMARY:Serie: Jornadas de Investigación en el Instituto - 2019: Diálogos p
 ara debatir y repensar el territorio
URL:https://fadeu-old.urantiacos.cl/agenda/evento/2047-serie-jornadas-de-in
 vestigacion-en-el-instituto-2019-dialogos-para-debatir-y-repensar-el-terri
 torio
END:VEVENT
END:VCALENDAR
