BEGIN:VCALENDAR
VERSION:2.0
PRODID:-//https://fadeu-old.urantiacos.cl///NONSGML kigkonsult.se iCalcreator 2.10.15//
METHOD:PUBLISH
BEGIN:VEVENT
UID:20260419T162042UTC-0847R7Vrog@https://fadeu-old.urantiacos.cl/
DTSTAMP:20260419T162042Z
DESCRIPTION:Invitado_ Rodrigo Vald&eacute\;s\, ex Ministro de Hacienda y pr
 ofesor de la Escuela de Gobierno UC.12:00 horasAuditorio FADEU\n&nbsp\;\n 
 https://fadeu-old.urantiacos.cl/agenda/evento/2051-quinta-jornada-de-dialo
 gos-en-crisis-arq-uc
DTSTART:20191127T150000Z
DTEND:20191127T160000Z
LOCATION:Auditorio FADEU\, Campus Lo Contador PUC (El Comendador 1916\, Pro
 videncia\, Providencia\, Región Metropolitana\, Chile)
SUMMARY:Quinta Jornada de Diálogos en Crisis | ARQ UC
URL:https://fadeu-old.urantiacos.cl/agenda/evento/2051-quinta-jornada-de-di
 alogos-en-crisis-arq-uc
END:VEVENT
END:VCALENDAR
