BEGIN:VCALENDAR
VERSION:2.0
PRODID:-//https://fadeu-old.urantiacos.cl///NONSGML kigkonsult.se iCalcreator 2.10.15//
METHOD:PUBLISH
BEGIN:VEVENT
UID:20260421T063929UTC-2963zKokPU@https://fadeu-old.urantiacos.cl/
DTSTAMP:20260421T063929Z
DESCRIPTION:Dise&ntilde\;ada originalmente para la vig&eacute\;sima Bienal 
 de Arquitectura y Urbanismo de Chile\, la muestra Archivo Provisional tend
 r&aacute\; una segunda iteraci&oacute\;n en el Campus Lo Contador\, instan
 cia en la que se realizar&aacute\; un conversatorio que busca ahondar en e
 l problema de la bienal entendida como una instituci&oacute\;n con 40 a&nt
 ilde\;os de historia.\nEn este contexto\,se ha invitado a Fernando P&eacut
 e\;rez\, Humberto Eliash y Horacio Torrent a levantar un episodio de su in
 ter&eacute\;s a partir de la selecci&oacute\;n de un m&aacute\;ximo de tre
 s im&aacute\;genes del libro\, para luego presentar su selecci&oacute\;n e
 n el conversatorio. El evento consistir&aacute\; de presentaciones muy bre
 ves (de m&aacute\;ximo 10 minutos)\, seguido de una conversaci&oacute\;n m
 oderada por el equipo curatorial del proyecto.\nSi durante la bienal\, el 
 material compilado en Archivo Provisional fue sometido a una lectura p&uac
 ute\;blica y al escrutinio de una mir&iacute\;ada de arquitectos\, investi
 gadores y estudiantes invitados\, esta segunda etapa se presenta como una 
 oportunidad para abordar la bienal como sujeto hist&oacute\;rico desde mir
 adas m&aacute\;s atentas y espec&iacute\;ficas.\nFecha_Martes 28 de noviem
 bre\, 18.30 hrs.\nLugar_Hall de Acceso Edificio Escuela de Arquitectura UC
 . El Comendador 1936\, Providencia.\nInvita_Espacio Com&uacute\;nArquitect
 ura UC https://fadeu-old.urantiacos.cl/agenda/evento/1422-conversatorio-pe
 rez-o-torrent-eliash
DTSTART:20171128T213000Z
DTEND:20171128T223000Z
LOCATION:Hall Acceso Edificio escuela de Arquitectura UC (El Comendador 193
 6\, Providencia\, Región Metropolitana\, Chile)
SUMMARY:Conversatorio Pérez O.-Torrent-Eliash
URL:https://fadeu-old.urantiacos.cl/agenda/evento/1422-conversatorio-perez-
 o-torrent-eliash
END:VEVENT
END:VCALENDAR
