BEGIN:VCALENDAR
VERSION:2.0
PRODID:-//https://fadeu-old.urantiacos.cl///NONSGML kigkonsult.se iCalcreator 2.10.15//
METHOD:PUBLISH
BEGIN:VEVENT
UID:20260419T163055UTC-3126n647R8@https://fadeu-old.urantiacos.cl/
DTSTAMP:20260419T163055Z
DESCRIPTION:&nbsp\;Tenemos el agrado de invitarlos al Seminario 'Accesibili
 dad para la Recreaci&oacute\;n\, el Ocio y el Deporte'\, en el marco de la
  XXI Bienal de Arquitectura y Urbanismo\, que se realizar&aacute\; entre l
 os d&iacute\;as 28 y 29 de noviembre en el auditorio de Las Condes Design 
 ubicado en calle Av. Las Condes 9765\, Santiago.\n&nbsp\;\nEl objetivo del
  seminario es contribuir a una reflexi&oacute\;n y discusi&oacute\;n sobre
  la habilitaci&oacute\;n de espacios p&uacute\;blico y deportivos\, con fo
 co con la accesibilidad inclusiva\, donde presentar&aacute\;n actores fund
 amentales\, como: dise&ntilde\;adores\, arquitectos y paisajistas del mund
 o de la academia\, como del sector p&uacute\;blico y privado.\n&nbsp\;\n\n
 &nbsp\;\n\n&nbsp\;\n\n&nbsp\; https://fadeu-old.urantiacos.cl/agenda/event
 o/2049-seminario-accesibilidad-para-la-recreacion-el-ocio-y-el-deporte
DTSTART:20191128T030000Z
LOCATION:Las Condes Design (Av. Las Condes 9765\, Las Condes)
SUMMARY:Seminario 'Accesibilidad para la recreación\, el ocio y el deporte'
URL:https://fadeu-old.urantiacos.cl/agenda/evento/2049-seminario-accesibili
 dad-para-la-recreacion-el-ocio-y-el-deporte
END:VEVENT
END:VCALENDAR
