BEGIN:VCALENDAR
VERSION:2.0
PRODID:-//https://fadeu-old.urantiacos.cl///NONSGML kigkonsult.se iCalcreator 2.10.15//
METHOD:PUBLISH
BEGIN:VEVENT
UID:20260424T000511UTC-0945pJ9Pzp@https://fadeu-old.urantiacos.cl/
DTSTAMP:20260424T000511Z
DESCRIPTION:Última charla del Ciclo Inspirados por la NaturalezaVolvamos la
  mirada hacia nuestras plantas: Flora e ilustración botánica\nPara la char
 la de cierre del exitoso ciclo Inspirados por la Naturaleza se volverá a l
 as raíces y se hablará del estrato básico que define naturaleza: las plant
 as.\nEl próximo miércoles 30 de noviembre 4 profesionales que trabajan est
 rechamente con las plantas desde diversas aristas que van desde la propaga
 ción de nuestra flora nativa hasta el diseño\, la decoración e incluso art
 e con fines científicos hablarán de ellas desde sus respectivos campos de 
 interés.\nExpositoresGeraldine Mackinnon: artista visual y connotada ilust
 radora botánica chilena. Hablará sobre su experiencia en este rubro con cr
 ecientes adeptos en el país y el mundo y sus esfuerzos por formar una comu
 nidad de ilustración botánica en Chile y América Latina.\nIsabel Infante: 
 diseñadora y creadora de la marca “Flor de Chile”. Para la charla explicar
 á cuál es la visión y misión de su proyecto\, especialmente en relación a 
 la biodiversidad de Chile. Hablará de cómo estas dan las directrices para 
 el desarrollo de las colecciones inspiradas en ecosistemas de nuestro país
  y como se traducen en ilustraciones y patrones.\nJosefina Hepp: agrónoma 
 de profesión\, se ha dedicado a trabajar con semillas de plantas nativas d
 e Chile. Expondrá sobre la importancia y el lado artístico de propagar nue
 stra flora nativa.\nDaniela Fabres: artista plástica\, creó la empresa Mis
 e en Scène que ofrece servicios de puesta en escena para eventos y de dise
 ño floral. Imparte clases de floristería en todo Chile.\nInvitanLadera Sur
 Magíster en Arquitectura del PaisajePlataforma UrbanaEnterreno Chile\n&nbs
 p\;\n https://fadeu-old.urantiacos.cl/agenda/evento/657-ciclo-inspirados-p
 or-la-naturaleza-volvamos-la-mirada-hacia-nuestras-plantas-flora-e-ilustra
 cion-botanica
DTSTART:20161130T220000Z
DTEND:20161130T233000Z
LOCATION:Auditorio FADEU\, Campus Lo Contador PUC (El Comendador 1916\, Pro
 videncia\, Providencia\, Región Metropolitana\, Chile)
SUMMARY:Ciclo Inspirados por la Naturaleza 'Volvamos la mirada hacia nuestr
 as plantas: Flora e ilustración botánica'
URL:https://fadeu-old.urantiacos.cl/agenda/evento/657-ciclo-inspirados-por-
 la-naturaleza-volvamos-la-mirada-hacia-nuestras-plantas-flora-e-ilustracio
 n-botanica
END:VEVENT
END:VCALENDAR
