BEGIN:VCALENDAR
VERSION:2.0
PRODID:-//https://fadeu-old.urantiacos.cl///NONSGML kigkonsult.se iCalcreator 2.10.15//
METHOD:PUBLISH
BEGIN:VEVENT
UID:20260421T063813UTC-6066Ox0zrF@https://fadeu-old.urantiacos.cl/
DTSTAMP:20260421T063813Z
DESCRIPTION:Tenemos el agrado de invitarlos(as) a la Charla | Gesti&oacute\
 ;n del patrimonio cultural a trav&eacute\;s de la aproximaci&oacute\;n de 
 Paisaje Urbano Hist&oacute\;rico (PUH)\, la cual ser&aacute\; dictada por 
 Andrea Ortega\, candidata a Doctora\, Facultad de Arquitectura y Planifica
 ci&oacute\;n\, University of Melbourne. Arquitecta y Mag&iacute\;ster en D
 esarrollo Urbano IEUT UC.\nLa invitaci&oacute\;n es para el Jueves 30 de N
 oviembre a las 15:00 h. en la Sala de Consejo IEUT. Campus Lo Contador UC\
 , Providencia. https://fadeu-old.urantiacos.cl/agenda/evento/1421-charla-g
 estion-del-patrimonio-cultural-a-traves-de-la-aproximacion-de-paisaje-urba
 no-historico-puh
DTSTART:20171130T180000Z
DTEND:20171130T190000Z
LOCATION:Sala Consejo Instituto de Estudios Urbanos (El Comendador 1916\, P
 rovidencia\, Región Metropolitana\, Chile)
SUMMARY: Charla: Gestión del patrimonio cultural a través de la aproximació
 n de Paisaje Urbano Histórico (PUH)
URL:https://fadeu-old.urantiacos.cl/agenda/evento/1421-charla-gestion-del-p
 atrimonio-cultural-a-traves-de-la-aproximacion-de-paisaje-urbano-historico
 -puh
END:VEVENT
BEGIN:VEVENT
UID:20260421T063813UTC-6079239ENZ@https://fadeu-old.urantiacos.cl/
DTSTAMP:20260421T063813Z
DESCRIPTION:Una nueva versi&oacute\;n del Open Day de Dise&ntilde\;o UC se 
 realizar&aacute\; el pr&oacute\;ximo jueves 30 de noviembre. En esta insta
 ncia\, que busca sacar los trabajos de los estudiantes de las salas de cla
 ses para generar discusi&oacute\;n en torno a las problem&aacute\;ticas de
 l dise&ntilde\;o\, participan todos los talleres de la escuela\, as&iacute
 \; como algunos cursos y programas.\n+ info aqu&iacute\;\n. https://fadeu-
 old.urantiacos.cl/agenda/evento/1407-open-day
DTSTART:20171130T150000Z
DTEND:20171130T223000Z
LOCATION:Patio Diseño\, Campus Lo Contador (El Comendador 1916\, Providenci
 a\, Región Metropolitana\, Chile)
SUMMARY:Open Day
URL:https://fadeu-old.urantiacos.cl/agenda/evento/1407-open-day
END:VEVENT
END:VCALENDAR
