BEGIN:VCALENDAR
VERSION:2.0
PRODID:-//https://fadeu-old.urantiacos.cl///NONSGML kigkonsult.se iCalcreator 2.10.15//
METHOD:PUBLISH
BEGIN:VEVENT
UID:20260424T000608UTC-5934vBXzlj@https://fadeu-old.urantiacos.cl/
DTSTAMP:20260424T000608Z
DESCRIPTION:Como galería para artistas emergentes\, Galería de Emergencia s
 e complace en invitarlos a la primera exposición individual de Macarena So
 to Vargas: 'Muñecas'. Desde el año pasado la Galería ha querido mostrar el
  trabajo de Macarena y en cuanto la invitó -en marzo- a participar en la c
 onvocatoria de este ciclo se puso de lleno a preparar la exhibición. En el
 la se mostrará por primera vez todo el proceso detrás de sus célebres muñe
 cas de papel\, sus investigaciones de la piel y las heridas en el retrato 
 femenino.\nLa invitación es para la inauguración el jueves 1 de diciembre 
 a las 20.30 hrs. Habrá vino de honor y\, a las 21.30 hrs.\, música en vivo
  con el grupo taquilla del momento\, Cortejo Tinto. La exposición estará a
 bierta hasta el 14 de diciembre de 2016.\nMacarena Soto VargasEstudiante d
 e Arte PUC. Ha centrado toda su carrera artística - que empezó mucho antes
  de entrar a la facultad de arte- en reflexionar en torno a qué es lo que 
 define a la mujer. Sus exploraciones la han llevado a enfocarse en la piel
  como la máscara pública de una identidad que ha sido impuesta por factore
 s externos y que hoy en día están siendo cuestionados más mediáticamente q
 ue nunca. Su talento en cada técnica por la que ha pasado - ya sea pintura
 \, collage\, grabado o dibujo- ha sido celebrado tanto por profesores como
  por sus numerosos seguidores en las redes sociales. Es por esta potencia 
 de su trabajo y la influencia de su discurso que hace que con 'Muñecas'\, 
 Soto Vargas de presenta como una artista que no podemos dejar de ver.\nCol
 aboranCEARQCED\n&nbsp\;\n https://fadeu-old.urantiacos.cl/agenda/evento/66
 1-inauguracion-exposicion-munecas-por-macarena-soto-vargas
DTSTART:20161201T233000Z
DTEND:20161202T010000Z
LOCATION:Galería de Emergencia\, escaleras de emergencia Edificio de Diseño
  UC\, Campus Lo Contador (El Comendador 1916\, Providencia\, Región Metrop
 olitana\, Chile)
SUMMARY:Inauguración exposición Muñecas\, por Macarena Soto Vargas
URL:https://fadeu-old.urantiacos.cl/agenda/evento/661-inauguracion-exposici
 on-munecas-por-macarena-soto-vargas
END:VEVENT
BEGIN:VEVENT
UID:20260424T000608UTC-5954n83uLv@https://fadeu-old.urantiacos.cl/
DTSTAMP:20260424T000608Z
DESCRIPTION:La obra del arquitecto Louis Kahn\, apartada de la crítica inme
 diata y llevada a cabo con una dedicación absoluta\, es un ejemplo del pod
 er de la obra arquitectónica.&nbsp\;Fernando Pérez Oyarzún nos mostrará un
  conocimiento de lo esencial en la obra de Kahn. Se recomienda ver previam
 ente el documental Mi Arquitecto: El Viaje de un Hijo.\nInvitanCentro de E
 studios Públicos - CEP\n&nbsp\;\n https://fadeu-old.urantiacos.cl/agenda/e
 vento/663-conferencia-louis-kahn-por-fernando-perez-o
DTSTART:20161201T220000Z
DTEND:20161201T233000Z
LOCATION:Centro de Estudios Públicos. Monseñor Sótero Sanz 162\, Providenci
 a. (Monseñor Nuncio Sotero Sanz de Villalba 162\, Providencia\, Región Met
 ropolitana\, Chile)
SUMMARY:Conferencia Louis Kahn\, por Fernando Pérez O.
URL:https://fadeu-old.urantiacos.cl/agenda/evento/663-conferencia-louis-kah
 n-por-fernando-perez-o
END:VEVENT
BEGIN:VEVENT
UID:20260424T000608UTC-5964fNb3Oi@https://fadeu-old.urantiacos.cl/
DTSTAMP:20260424T000608Z
DESCRIPTION:Diseño UC está participando en la realización de este encuentro
  que reúne a los Laboratorios Chilenos de Fabricación Digital consolidados
  y emergentes\, junto con varios líderes latinoamericanos (México\, Perú\,
  Costa Rica\, Ecuador\, Brasil y Colombia) además del director del Center 
 for Bits and Atoms del M.I.T.\, y fundador de la red internacional de Fab 
 Labs\, junto con la directora de la Fab Foundation del M.I.T.\,y su coordi
 nador mundial\, quienes ayudarán a crear los lineamientos estratégicos de 
 la Red Chilena de Plataformas de Fabricación Digital\, posteriormente se r
 ealizará el lanzamiento del Fab 13 y una “Fabatón” en el marco de la Telet
 ón.\nPrograma\nJueves 1 de diciembrePresentaciones Chile/Lat | Escuela de 
 Diseño UCPresentaciones Chile/Lat | Escuela de Diseño UC\nViernes 2 de dic
 iembrePresentaciones Chile/Lat | Escuela de Diseño UCTaller de co-creación
  de la Red Chilena | Escuela de Diseño UCCharla Sherry Lassiter / Tomas Di
 ez / Lanzamiento Fab13 Fabricating Society | Espacio IF\nSábado 3 de dicie
 mbreOpen Day_ Fabatón | Fab Lab SantiagoEse día es la Teletón y realizarem
 os un Open Day en el Fab Lab para realizar talleres familiares para la inc
 lusión\, será gratuito pero se solicitará una contribución económica volun
 taria la que será donada a la Teletón\n+ Asiste de manera gratuita inscrib
 iéndote en este formulario.\n+ Más información en info@fablabsantiago.org
 \n&nbsp\;\n https://fadeu-old.urantiacos.cl/agenda/evento/631-encuentro-la
 tinoamericano-de-fabricacion-digital-fabricando-chile
DTSTART:20161201T030000Z
LOCATION:Auditorio sur\, Campus Lo Contador (El Comendador 1916\, Providenc
 ia\, Región Metropolitana\, Chile)
SUMMARY:Encuentro Latinoamericano de fabricación digital: Fabricando Chile
URL:https://fadeu-old.urantiacos.cl/agenda/evento/631-encuentro-latinoameri
 cano-de-fabricacion-digital-fabricando-chile
END:VEVENT
END:VCALENDAR
