BEGIN:VCALENDAR
VERSION:2.0
PRODID:-//https://fadeu-old.urantiacos.cl///NONSGML kigkonsult.se iCalcreator 2.10.15//
METHOD:PUBLISH
BEGIN:VEVENT
UID:20260421T063802UTC-9136te7Ru6@https://fadeu-old.urantiacos.cl/
DTSTAMP:20260421T063802Z
DESCRIPTION:&ldquo\;Violeta Artesana&rdquo\; es el tema central de la 44 Mu
 estra de Artesan&iacute\;a UC que se llevar&aacute\; a cabo entre el 1 y 1
 0 de diciembre en el Parque Bustamante en Providencia. Un escenario que po
 r cuatro a&ntilde\;os consecutivos ha albergado a la Muestra y que ya se a
 pronta a exhibir y vender la producci&oacute\;n artesanal de m&aacute\;s d
 e 100 cultores a lo largo de Chile y el extranjero. Este a&ntilde\;o adem&
 aacute\;s\, respondiendo a la tem&aacute\;tica central\, bordadoras de tod
 os los rincones llegar&aacute\;n para compartir sus t&eacute\;cnicas.\n&nb
 sp\;\n https://fadeu-old.urantiacos.cl/agenda/evento/1409-feria-artesania-
 uc
DTSTART:20171201T030000Z
LOCATION:Parque Bustamante\, Providencia (Parque Bustamante\, Providencia)
SUMMARY:Feria Artesanía UC
URL:https://fadeu-old.urantiacos.cl/agenda/evento/1409-feria-artesania-uc
END:VEVENT
END:VCALENDAR
