BEGIN:VCALENDAR
VERSION:2.0
PRODID:-//https://fadeu-old.urantiacos.cl///NONSGML kigkonsult.se iCalcreator 2.10.15//
METHOD:PUBLISH
BEGIN:VEVENT
UID:20260424T000509UTC-8231ws5eE6@https://fadeu-old.urantiacos.cl/
DTSTAMP:20260424T000509Z
DESCRIPTION: https://fadeu-old.urantiacos.cl/agenda/evento/629-open-day-dis
 eno-uc
DTSTART:20161202T150000Z
DTEND:20161202T200000Z
LOCATION:Campus Lo Contador (El Comendador 1916\, Providencia\, Providencia
 \, Región Metropolitana\, Chile)
SUMMARY:Open Day Diseño UC
URL:https://fadeu-old.urantiacos.cl/agenda/evento/629-open-day-diseno-uc
END:VEVENT
BEGIN:VEVENT
UID:20260424T000509UTC-82339lukmK@https://fadeu-old.urantiacos.cl/
DTSTAMP:20260424T000509Z
DESCRIPTION:La 43 Muestra de Artesanía UC\, organizada por el Programa de A
 rtesanía de la Escuela de Diseño de la Universidad Católica\, se realizará
  desde el 1 hasta el 11 de diciembre en el Parque Bustamante\, de Providen
 cia.\nEn esta versión se reúnen más de 120 artesanos nacionales e internac
 ionales que mostrarán lo más relevante de su oficio y como tema central se
  destacará el trabajo en Madera\; por lo que se considera la participación
  de artesanos nacionales e internacionales que utilizan esta noble materia
  prima en sus creaciones.\nEn forma paralela se realizarán interesantes ac
 tividades complementarias como presentaciones musicales\, conversatorios\,
  talleres con artesanos\, demostraciones de oficios\, visitas guiadas y un
  entretenido espacio de juegos tradicionales.\nEl evento cuenta con el apo
 yo de la Municipalidad de Providencia a través de su Fundación Cultural\, 
 el Consejo Nacional de la Cultura y las Artes (CNCA)\, el Instituto de Des
 arrollo Agropecuario\, Indap\; generoso compromiso que permite la realizac
 ión de este valioso encuentro con la artesanía tradicional.\nCuándo 02 al 
 11 de diciembre de 2016\nEntradasValores: $3.000.- general\, $2.000.- estu
 diantes\, tercera edad y personas en bicicletas. (según disponibilidad de 
 bicicleteros)De lunes a miércoles todo el público entrada 2 x 1 pagando un
 a entrada general.\nHorario11:00 hrs 21:00 hrs.\nPaíses representadosArgen
 tina\, Bolivia\, Brasil\, Colombia\, Costa Rica\, Ecuador\, El Salvador\, 
 Guatemala\, India\, México\, Nepal\, Perú y Venezuela.\n+ Revisa la inform
 ación completa sobre los artesanos invitados y las actividades en artesaní
 a.uc.cl.\n&nbsp\;\n https://fadeu-old.urantiacos.cl/agenda/evento/653-43-m
 uestra-de-artesania-uc
DTSTART:20161202T140000Z
DTEND:20161212T000000Z
LOCATION:Parque Bustamante\, Providencia (Parque Bustamante\, Providencia)
SUMMARY:43 Muestra de Artesanía UC
URL:https://fadeu-old.urantiacos.cl/agenda/evento/653-43-muestra-de-artesan
 ia-uc
END:VEVENT
BEGIN:VEVENT
UID:20260424T000509UTC-82392ufumJ@https://fadeu-old.urantiacos.cl/
DTSTAMP:20260424T000509Z
DESCRIPTION:Diseño UC está participando en la realización de este encuentro
  que reúne a los Laboratorios Chilenos de Fabricación Digital consolidados
  y emergentes\, junto con varios líderes latinoamericanos (México\, Perú\,
  Costa Rica\, Ecuador\, Brasil y Colombia) además del director del Center 
 for Bits and Atoms del M.I.T.\, y fundador de la red internacional de Fab 
 Labs\, junto con la directora de la Fab Foundation del M.I.T.\,y su coordi
 nador mundial\, quienes ayudarán a crear los lineamientos estratégicos de 
 la Red Chilena de Plataformas de Fabricación Digital\, posteriormente se r
 ealizará el lanzamiento del Fab 13 y una “Fabatón” en el marco de la Telet
 ón.\nPrograma\nJueves 1 de diciembrePresentaciones Chile/Lat | Escuela de 
 Diseño UCPresentaciones Chile/Lat | Escuela de Diseño UC\nViernes 2 de dic
 iembrePresentaciones Chile/Lat | Escuela de Diseño UCTaller de co-creación
  de la Red Chilena | Escuela de Diseño UCCharla Sherry Lassiter / Tomas Di
 ez / Lanzamiento Fab13 Fabricating Society | Espacio IF\nSábado 3 de dicie
 mbreOpen Day_ Fabatón | Fab Lab SantiagoEse día es la Teletón y realizarem
 os un Open Day en el Fab Lab para realizar talleres familiares para la inc
 lusión\, será gratuito pero se solicitará una contribución económica volun
 taria la que será donada a la Teletón\n+ Asiste de manera gratuita inscrib
 iéndote en este formulario.\n+ Más información en info@fablabsantiago.org
 \n&nbsp\;\n https://fadeu-old.urantiacos.cl/agenda/evento/637-encuentro-la
 tinoamericano-de-fabricacion-digital-fabricando-chile
DTSTART:20161202T030000Z
LOCATION:Auditorio sur\, Campus Lo Contador (El Comendador 1916\, Providenc
 ia\, Región Metropolitana\, Chile)
SUMMARY:Encuentro Latinoamericano de fabricación digital: Fabricando Chile
URL:https://fadeu-old.urantiacos.cl/agenda/evento/637-encuentro-latinoameri
 cano-de-fabricacion-digital-fabricando-chile
END:VEVENT
BEGIN:VEVENT
UID:20260424T000509UTC-8245g98tD7@https://fadeu-old.urantiacos.cl/
DTSTAMP:20260424T000509Z
DESCRIPTION:Como galería para artistas emergentes\, Galería de Emergencia s
 e complace en invitarlos a la primera exposición individual de Macarena So
 to Vargas: 'Muñecas'. Desde el año pasado la Galería ha querido mostrar el
  trabajo de Macarena y en cuanto la invitó -en marzo- a participar en la c
 onvocatoria de este ciclo se puso de lleno a preparar la exhibición. En el
 la se mostrará por primera vez todo el proceso detrás de sus célebres muñe
 cas de papel\, sus investigaciones de la piel y las heridas en el retrato 
 femenino.\nLa invitación es para la inauguración el jueves 1 de diciembre 
 a las 20.30 hrs. Habrá vino de honor y\, a las 21.30 hrs.\, música en vivo
  con el grupo taquilla del momento\, Cortejo Tinto. La exposición estará a
 bierta hasta el 14 de diciembre de 2016.\nMacarena Soto VargasEstudiante d
 e Arte PUC. Ha centrado toda su carrera artística - que empezó mucho antes
  de entrar a la facultad de arte- en reflexionar en torno a qué es lo que 
 define a la mujer. Sus exploraciones la han llevado a enfocarse en la piel
  como la máscara pública de una identidad que ha sido impuesta por factore
 s externos y que hoy en día están siendo cuestionados más mediáticamente q
 ue nunca. Su talento en cada técnica por la que ha pasado - ya sea pintura
 \, collage\, grabado o dibujo- ha sido celebrado tanto por profesores como
  por sus numerosos seguidores en las redes sociales. Es por esta potencia 
 de su trabajo y la influencia de su discurso que hace que con 'Muñecas'\, 
 Soto Vargas de presenta como una artista que no podemos dejar de ver.\nCol
 aboranCEARQCED\n&nbsp\;\n https://fadeu-old.urantiacos.cl/agenda/evento/66
 1-inauguracion-exposicion-munecas-por-macarena-soto-vargas
DTSTART:20161201T233000Z
DTEND:20161202T010000Z
LOCATION:Galería de Emergencia\, escaleras de emergencia Edificio de Diseño
  UC\, Campus Lo Contador (El Comendador 1916\, Providencia\, Región Metrop
 olitana\, Chile)
SUMMARY:Inauguración exposición Muñecas\, por Macarena Soto Vargas
URL:https://fadeu-old.urantiacos.cl/agenda/evento/661-inauguracion-exposici
 on-munecas-por-macarena-soto-vargas
END:VEVENT
END:VCALENDAR
