BEGIN:VCALENDAR
VERSION:2.0
PRODID:-//https://fadeu-old.urantiacos.cl///NONSGML kigkonsult.se iCalcreator 2.10.15//
METHOD:PUBLISH
BEGIN:VEVENT
UID:20260419T162042UTC-5786gpizWH@https://fadeu-old.urantiacos.cl/
DTSTAMP:20260419T162042Z
DESCRIPTION:En esta ocasi&oacute\;n la acad&eacute\;mica\,&nbsp\;Alejandra 
 Luneke\, dictar&aacute\; la Charla:&nbsp\;Miedo al otro y estigmas en veci
 ndarios 'peligrosos': an&aacute\;lisis cualitativo de pr&aacute\;cticas de
  segurizaci&oacute\;n en los espacios p&uacute\;blicos.\nCupos limitados e
  inscripciones&nbsp\;aqu&iacute\;.Se compartir&aacute\; un almuerzo livian
 o con los asistentes\, previa inscripci&oacute\;n&nbsp\;hasta el lunes 2 d
 e diciembre.\nOrganiza: Instituto de Estudios Urbanos y Territoriales UC\n
  https://fadeu-old.urantiacos.cl/agenda/evento/2053-serie-jornadas-de-inve
 stigacion-en-el-instituto-2019-dialogos-para-debatir-y-repensar-el-territo
 rio
DTSTART:20191203T160000Z
DTEND:20191203T170000Z
LOCATION:Salón Sergio Larraín\, Campus Lo Contador ()
SUMMARY:Serie: Jornadas de Investigación en el Instituto - 2019: Diálogos p
 ara debatir y repensar el territorio
URL:https://fadeu-old.urantiacos.cl/agenda/evento/2053-serie-jornadas-de-in
 vestigacion-en-el-instituto-2019-dialogos-para-debatir-y-repensar-el-terri
 torio
END:VEVENT
END:VCALENDAR
