BEGIN:VCALENDAR
VERSION:2.0
PRODID:-//https://fadeu-old.urantiacos.cl///NONSGML kigkonsult.se iCalcreator 2.10.15//
METHOD:PUBLISH
BEGIN:VEVENT
UID:20260424T000607UTC-9985u0AU6v@https://fadeu-old.urantiacos.cl/
DTSTAMP:20260424T000607Z
DESCRIPTION:El Programa de Magíster en Patrimonio Cultural de la Pontificia
  Universidad Católica de Chile\, junto al Centro de Patrimonio UC\, tienen
  el agrado de invitarlo al Workshop 'Ciudad Universitaria de Caracas: Patr
 imonio Mundial 2000-2016' a realizar por la docente invitada María Fernand
 a Jaua.\nFecha y horarios de las clasesDel 05 al 16 de diciembre de 201610
 .00 - 13.00 hrs\nInvitanMagíster en Patrimonio CulturalCentro de Patrimoni
 o\n&nbsp\;\n+ Curso equivalente a 5 créditos UC. Cupos limitados. Inscripc
 iones a través del correo&nbsp\;magisterpatrimonio@uc.cl\n+ Descarga el pr
 ograma del workshop aquí.&nbsp\;\n&nbsp\;\n https://fadeu-old.urantiacos.c
 l/agenda/evento/651-workshop-ciudad-universitaria-de-caracas-patrimonio-mu
 ndial-2000-2016
DTSTART:20161205T030000Z
LOCATION:Centro de Patrimonio\, Campus Lo Contador (El Comendador 1916\, Pr
 ovidencia\, Región Metropolitana\, Chile)
SUMMARY:Workshop 'Ciudad Universitaria de Caracas: Patrimonio Mundial 2000-
 2016'
URL:https://fadeu-old.urantiacos.cl/agenda/evento/651-workshop-ciudad-unive
 rsitaria-de-caracas-patrimonio-mundial-2000-2016
END:VEVENT
BEGIN:VEVENT
UID:20260424T000607UTC-9991w8oKV7@https://fadeu-old.urantiacos.cl/
DTSTAMP:20260424T000607Z
DESCRIPTION:La 43 Muestra de Artesanía UC\, organizada por el Programa de A
 rtesanía de la Escuela de Diseño de la Universidad Católica\, se realizará
  desde el 1 hasta el 11 de diciembre en el Parque Bustamante\, de Providen
 cia.\nEn esta versión se reúnen más de 120 artesanos nacionales e internac
 ionales que mostrarán lo más relevante de su oficio y como tema central se
  destacará el trabajo en Madera\; por lo que se considera la participación
  de artesanos nacionales e internacionales que utilizan esta noble materia
  prima en sus creaciones.\nEn forma paralela se realizarán interesantes ac
 tividades complementarias como presentaciones musicales\, conversatorios\,
  talleres con artesanos\, demostraciones de oficios\, visitas guiadas y un
  entretenido espacio de juegos tradicionales.\nEl evento cuenta con el apo
 yo de la Municipalidad de Providencia a través de su Fundación Cultural\, 
 el Consejo Nacional de la Cultura y las Artes (CNCA)\, el Instituto de Des
 arrollo Agropecuario\, Indap\; generoso compromiso que permite la realizac
 ión de este valioso encuentro con la artesanía tradicional.\nCuándo 02 al 
 11 de diciembre de 2016\nEntradasValores: $3.000.- general\, $2.000.- estu
 diantes\, tercera edad y personas en bicicletas. (según disponibilidad de 
 bicicleteros)De lunes a miércoles todo el público entrada 2 x 1 pagando un
 a entrada general.\nHorario11:00 hrs 21:00 hrs.\nPaíses representadosArgen
 tina\, Bolivia\, Brasil\, Colombia\, Costa Rica\, Ecuador\, El Salvador\, 
 Guatemala\, India\, México\, Nepal\, Perú y Venezuela.\n+ Revisa la inform
 ación completa sobre los artesanos invitados y las actividades en artesaní
 a.uc.cl.\n&nbsp\;\n https://fadeu-old.urantiacos.cl/agenda/evento/653-43-m
 uestra-de-artesania-uc
DTSTART:20161202T140000Z
DTEND:20161212T000000Z
LOCATION:Parque Bustamante\, Providencia (Parque Bustamante\, Providencia)
SUMMARY:43 Muestra de Artesanía UC
URL:https://fadeu-old.urantiacos.cl/agenda/evento/653-43-muestra-de-artesan
 ia-uc
END:VEVENT
END:VCALENDAR
