BEGIN:VCALENDAR
VERSION:2.0
PRODID:-//https://fadeu-old.urantiacos.cl///NONSGML kigkonsult.se iCalcreator 2.10.15//
METHOD:PUBLISH
BEGIN:VEVENT
UID:20260424T000529UTC-7948WKRNva@https://fadeu-old.urantiacos.cl/
DTSTAMP:20260424T000529Z
DESCRIPTION:Cacharreos documentalesEtnografía y co-producción de conocimien
 tos\nDictada por Tomás Sánchez Criado\, investigador antropólogo de la cie
 ncia y tecnología\, esta charla abierta tiene como intención mostrar proce
 sos de investigación donde\, más allá de la distancia con el objeto de inv
 estigación o la división disciplinar\, la etnografía se convierte en un es
 pacio para la co-producción de conocimientos a través de intervenciones ma
 teriales (como la organización de eventos o procesos participativos de doc
 umentación y reflexión) para acondicionar y potenciar encuentros o colabor
 aciones. Partiendo de todas estas reflexiones\, se propondrá el concepto d
 e ‘colaboraciones experimentales’ para describir la singularidad de esta m
 anera de practicar la etnografía.\nSobre la charlaNumerosos trabajos en an
 tropología han venido reflexionando sobre las experimentaciones con el mét
 odo que han sufrido al relacionarse con diversas comunidades centradas en 
 la producción de conocimiento (diseñadores\, arquitectos\, científicos\, t
 ecnólogos\, activistas o artistas). Además de revisar estas transformacion
 es en los modos de practicar y llevar a cabo trabajo de campo etnográfico\
 , en esta presentación emplearé mi propia investigación para ejemplificar 
 el tipo de ‘dispositivos de campo’ que este tipo de situaciones plantean. 
 La intención será mostrar procesos de investigación donde\, más allá de la
  distancia con el objeto de investigación o la división disciplinar\, la e
 tnografía se convierte en un espacio para la co-producción de conocimiento
 s a través de intervenciones materiales (como la organización de eventos o
  procesos participativos de documentación y reflexión) para acondicionar y
  potenciar encuentros o colaboraciones. Partiendo de todas estas reflexion
 es\, propondré&nbsp\;el concepto de ‘colaboraciones experimentales’ para d
 escribir la singularidad de esta manera de practicar la etnografía.\nOrgan
 iza y invitaFondecyt\, (Nº 11140042)\; Investigador responsable: Martín Ti
 roni con el apoyo de la VRI Organización de Reuniones Científicas y Semina
 rios (RS160066)\n&nbsp\;\n https://fadeu-old.urantiacos.cl/agenda/evento/6
 65-charla-chacharreos-documentales-etnografia-y-co-produccion-de-conocimie
 ntos-por-tomas-sanchez-criado
DTSTART:20161214T220000Z
DTEND:20161214T233000Z
LOCATION:Sala Lámpara\, Campus Lo Contador (El Comendador 1916\, Providenci
 a\, Providencia\, Región Metropolitana\, Chile)
SUMMARY:Charla: Chacharreos documentales. Etnografía y co-producción de con
 ocimientos\, por Tomás Sánchez Criado
URL:https://fadeu-old.urantiacos.cl/agenda/evento/665-charla-chacharreos-do
 cumentales-etnografia-y-co-produccion-de-conocimientos-por-tomas-sanchez-c
 riado
END:VEVENT
BEGIN:VEVENT
UID:20260424T000529UTC-7957DuWKuv@https://fadeu-old.urantiacos.cl/
DTSTAMP:20260424T000529Z
DESCRIPTION:El congreso INTERSECCIONES\, organizado originalmente por la Fa
 cultad de Arquitectura\, Diseño y Estudios Urbanos de la Pontificia Univer
 sidad Católica de Chile\, bajo la premisa de entablar un diálogo común a l
 os problemas donde estas disciplinas convergen\, amplía en esta segunda ve
 rsión su convocatoria\, co-organizándolo con la Facultad de Arquitectura y
  Urbanismo de la Universidad de Chile e invitando de manera abierta a la F
 acultad de Arquitectura\, Construcción y Diseño de la Universidad del Bío-
 Bío\, la Facultad de Arquitectura y Urbanismo de la Pontificia Universidad
  Católica de Valparaíso\, y la Facultad de Arquitectura\, Arte y Diseño de
  la Universidad Diego Portales\, proponiendo una instancia de reflexión en
 tre universidades diversas.\nFechas importantes\n11 de abril: Cierre de re
 cepción de resúmenes (300 palabras). Plazo Extendido.29 de abril: Notifica
 ción de resúmenes aceptados30 de junio: Cierre recepción de ponencias (1.5
 00 palabras)29 de julio: Notificación de observaciones a ponencias31 de ag
 osto: Cierre recepción de ponencias corregidas13\, 14 y 15 de diciembre 20
 16: Congreso INTERSECCIONES\n+ Revisa la página web del Congreso para más 
 informaciones.\n+&nbsp\;Haz clic aquí para descargar el programa general y
  aquí para el programa con la composición de mesas.\n&nbsp\;\n\n&nbsp\;\n
 \n&nbsp\; https://fadeu-old.urantiacos.cl/agenda/evento/671-ii-congreso-in
 tersecciones-2016
DTSTART:20161214T120000Z
DTEND:20161214T223000Z
LOCATION:Campus Lo Contador y FAU Chile (Santiago\, Región Metropolitana\, 
 Chile)
SUMMARY:II Congreso Intersecciones 2016
URL:https://fadeu-old.urantiacos.cl/agenda/evento/671-ii-congreso-intersecc
 iones-2016
END:VEVENT
END:VCALENDAR
