BEGIN:VCALENDAR
VERSION:2.0
PRODID:-//https://fadeu-old.urantiacos.cl///NONSGML kigkonsult.se iCalcreator 2.10.15//
METHOD:PUBLISH
BEGIN:VEVENT
UID:20260424T000511UTC-1197fuBEF6@https://fadeu-old.urantiacos.cl/
DTSTAMP:20260424T000511Z
DESCRIPTION:Esta instancia tiene como objetivo presentar los hallazgos prel
 iminares del primer año del Proyecto MUEI (Fondecyt N° 11150426) en el cua
 l Javier Ruiz-Tagle es el investigador principal.\nEl seminario se realiza
 rá en el Salón Sergio Larraín García Moreno. El Comendador 1916\, Campus L
 o Contador\, Providencia. Luego de las presentaciones\, desde las 18 hrs.\
 , se ofrecerá un ASADO a los asistentes que se hayan inscrito (colaborar c
 on bebestibles).\nProgramaJavier Ruiz-Tagle /// Investigador PrincipalUna 
 teoría del espacio institucional en barrios marginales.\nGricel Labbé /// 
 Ayudante de InvestigaciónInvestigando la ausencia de instituciones externa
 s en Santo Tomás. Una aproximación al concepto de zona roja.\nMartín Monte
 s /// TesistaDe pobladores organizados a clientes del Estado: La acción es
 tatal en la desorganización social de la Población Yungay (La Granja).\nMa
 rtín Álvarez /// Ayudante de InvestigaciónJuan Carraha /// TesistaEstigmat
 ización territorial y sus efectos en la vida de los habitantes de la Pobla
 ción Santo Tomás (La Pintana).\nMatías Aninat /// Tesista¿Acaso no puedo d
 ecir dónde vivo? Un análisis de la multiplicidad de reacciones frente a la
  estigmatización territorial mediática en Lo Hermida.\nComentanRepresentan
 tes de los tres barrios bajo estudio: Población Lo Hermida (Peñalolén)\, P
 oblación Yungay (La Granja)\, y Población Santo Tomás (La Pintana)\n+ Más 
 información sobre la investigación en www.proyectomuei.com\n+ Inscripcione
 s en mialvare@uc.cl\n&nbsp\;\n https://fadeu-old.urantiacos.cl/agenda/even
 to/675-seminario-marginalidad-urbana-y-efectos-institucionales
DTSTART:20161216T180000Z
DTEND:20161216T210000Z
LOCATION:Salón Sergio Larraín\, Campus Lo Contador ()
SUMMARY:Seminario Marginalidad Urbana y Efectos Institucionales
URL:https://fadeu-old.urantiacos.cl/agenda/evento/675-seminario-marginalida
 d-urbana-y-efectos-institucionales
END:VEVENT
BEGIN:VEVENT
UID:20260424T000511UTC-1204wATd6X@https://fadeu-old.urantiacos.cl/
DTSTAMP:20260424T000511Z
DESCRIPTION:TAV 2016Temporada Académica de Verano\nProfesoresTomás De Iruar
 rizaga\, Francisco Gálvez\, Denisse Montt y Camila Ríos\nEn el contexto de
  un taller de verano que se desarrollará en colaboración con CMPC cartones
 \, adoptamos el desafío de prospectar nuevos usos para un material recient
 emente lanzado en la industrial nacional\, se trata del cartón corrugado h
 idrorrepelente\, el cual presenta una innovación para un producto que ha s
 ido ampliamente utilizado en la industria hortofrutícola en el rubro de pa
 ckaging para exportaciones de materias primas y productos nacionales.\nEst
 e taller entrega la oportunidad de trabajar de la mano con una empresa que
  posee la tecnología y capacidad instalada para prospectar escenarios de a
 plicación real para proyectos de diseño que agregan valor a una cadena pro
 ductiva.\nObjetivos\n1. Comprender y aplicar las propiedades del cartón co
 rrugado hidrorrepelente al diseño de un nuevo producto\, recogiendo los pr
 ocesos industriales y productivos del material dado.\n2. Detectar una opor
 tunidad de diseño en el mercado nacional\, en el que se justifique la apli
 cación de este nuevo material.\n3. Agregar valor a productos existentes\, 
 mejorando procesos o creando nuevos productos.\nInscripcionesBanner del 15
  al 29 de diciembre (período TAV 2016_24)\nNRC: 10015_DNO0321_Taller Calid
 ad II\nNRC: 10016_DNO0411_Taller Mercado I\nNRC: 10017_DNO0421_Taller Merc
 ado II\n&nbsp\;\n https://fadeu-old.urantiacos.cl/agenda/evento/681-tav-di
 seno-uc-2016
DTSTART:20161215T030000Z
DTEND:20161230T025900Z
LOCATION:Escuela de Diseño UC\, Campus Lo Contador (El Comendador\, Provide
 ncia\, Providencia\, Región Metropolitana\, Chile)
SUMMARY:TAV Diseño UC 2016
URL:https://fadeu-old.urantiacos.cl/agenda/evento/681-tav-diseno-uc-2016
END:VEVENT
END:VCALENDAR
