BEGIN:VCALENDAR
VERSION:2.0
PRODID:-//https://fadeu-old.urantiacos.cl///NONSGML kigkonsult.se iCalcreator 2.10.15//
METHOD:PUBLISH
BEGIN:VEVENT
UID:20260419T162036UTC-5798Uhn2dU@https://fadeu-old.urantiacos.cl/
DTSTAMP:20260419T162036Z
DESCRIPTION:Presentan: Toolkit para la gesti&oacute\;n y conservaci&oacute\
 ;n de humedales: Una propuesta de fortalecimiento a su actual instituciona
 lidad.Kay Bergamini (Estudios Urbanos y Territoriales PUC)\, Carolina Mart
 &iacute\;nez (Instituto De Geograf&iacute\;a Universidad Cat&oacute\;lica)
 \, Katherine Mollenhauer (Dise&ntilde\;o UC)\, Cristian P&eacute\;rez (Cen
 tro de Gesti&oacute\;n Ambiental y Biodiversidad Universidad de Chile) y J
 os&eacute\; Hern&aacute\;ndez (Facultad de Derecho y Gobierno&nbsp\;Univer
 sidad San Sebasti&aacute\;n)\n\nComentan:Ximena &Oacute\;rdenes (Senadora)
 \, Felipe Riesco (Subsecretario&nbsp\;Ministerio del Medio Ambiente) y Car
 olina Rojas (Estudios Urbanos y Territoriales PUC).Organiza:&nbsp\;Centro 
 de Pol&iacute\;ticas P&uacute\;blicas UC\n&nbsp\;\n\n https://fadeu-old.ur
 antiacos.cl/agenda/evento/2061-seminario-humedales-en-chile-propuestas-par
 a-fortalecer-su-institucionalidad
DTSTART:20191216T123000Z
DTEND:20191216T140000Z
LOCATION:Sala Colorada\, Centro de Extensión UC (Alameda 390)
SUMMARY:Seminario Humedales en Chile: Propuestas para fortalecer su institu
 cionalidad
URL:https://fadeu-old.urantiacos.cl/agenda/evento/2061-seminario-humedales-
 en-chile-propuestas-para-fortalecer-su-institucionalidad
END:VEVENT
END:VCALENDAR
