BEGIN:VCALENDAR
VERSION:2.0
PRODID:-//https://fadeu-old.urantiacos.cl///NONSGML kigkonsult.se iCalcreator 2.10.15//
METHOD:PUBLISH
BEGIN:VEVENT
UID:20260421T063812UTC-9052PtwDOz@https://fadeu-old.urantiacos.cl/
DTSTAMP:20260421T063812Z
DESCRIPTION:FROM THE LIVING CELL TO THE URBAN FACT / EVENTO FINAL EARQ UC 2
 017\nEl pr&oacute\;ximo Lunes 18 y Martes 19 de Diciembre a contar de las 
 19h se llevar&aacute\; a cabo el seminario 'From the living cell to the ur
 ban fact' organizado por la profesora e investigadora Alejandra Celed&oacu
 te\;n que contar&aacute\; con la presencia de 2 invitados internacionales 
 de primer nivel: el arquitecto italiano Martino Tattara (co-fundador de la
  oficina DOGMA junto a Pier Vittorio Aureli quien visit&oacute\; nuestra E
 scuela el a&ntilde\;o 2014) y Elia Zenghelis\, arquitecto griego\, co-fund
 ador de la oficina OMA junto a Rem Koolhaas.\nSe trata de arquitectos muy 
 reconocidos a nivel internacional\, un cierre a la altura del programa de 
 actividades de nuestra Escuela durante el 2017. Por lo mismo\, esperamos c
 ontar con su presencia y que puedan extender la invitaci&oacute\;n a coleg
 as y estudiantes de sus cursos.Cu&aacute\;ndo_ Lunes 18 y martes 19&nbsp\;
  de diciembreHora_ 19:00 horasD&oacute\;nde_ Auditorio Fernando Castillo V
 elasco\n&nbsp\;\n\n&nbsp\;\n https://fadeu-old.urantiacos.cl/agenda/evento
 /1429-seminario-zenghelis-tattara
DTSTART:20171218T220000Z
DTEND:20171219T220000Z
LOCATION:Auditorio Fernando Castillo Velasco. Edificio ARQ (El Comendador 1
 936\, Providencia\, Región Metropolitana\, Chile)
SUMMARY:Seminario Zenghelis & Tattara
URL:https://fadeu-old.urantiacos.cl/agenda/evento/1429-seminario-zenghelis-
 tattara
END:VEVENT
END:VCALENDAR
