BEGIN:VCALENDAR
VERSION:2.0
PRODID:-//https://fadeu-old.urantiacos.cl///NONSGML kigkonsult.se iCalcreator 2.10.15//
METHOD:PUBLISH
BEGIN:VEVENT
UID:20260420T124218UTC-0103B8K5fn@https://fadeu-old.urantiacos.cl/
DTSTAMP:20260420T124218Z
DESCRIPTION:FILT\, un proyecto que busca entregar respuestas desde el &aacu
 te\;rea textil a la crisis ambiental que enfrenta la industria hoy. Una in
 vestigaci&oacute\;n Fondart 2017 en torno al mundo de la indumentaria y su
 s procesos\, desde donde surge FILT\, un sistema de reciclaje para la tran
 sformaci&oacute\;n de residuos textiles en nuevos materiales flexibles y e
 stuvo a cargo de las docentes UC\, Camila R&iacute\;os y Sof&iacute\;a Gur
 idi\, y la estudiantes MADA Ana de Lara.\nJueves 20 de diciembre19.00 hrsP
 atio Dise&ntilde\;o\, El Comendador 1916\, Providencia\n&nbsp\;\n https://
 fadeu-old.urantiacos.cl/agenda/evento/1776-presentacion-proyecto-filt
DTSTART:20181220T220000Z
DTEND:20181220T230000Z
LOCATION:Patio Diseño\, Campus Lo Contador (El Comendador 1916\, Providenci
 a\, Región Metropolitana\, Chile)
SUMMARY:Presentación:  Proyecto FILT
URL:https://fadeu-old.urantiacos.cl/agenda/evento/1776-presentacion-proyect
 o-filt
END:VEVENT
BEGIN:VEVENT
UID:20260420T124218UTC-01099VgnTC@https://fadeu-old.urantiacos.cl/
DTSTAMP:20260420T124218Z
DESCRIPTION:Un grupo de estudiantes de magister de la Escuela de Arquitectu
 ra UC y en colaboraci&oacute\;n con Galer&iacute\;a Itinerante (GIT) se re
 alizara la celebraci&oacute\;n y exposici&oacute\;n de despedida para el E
 x Pabell&oacute\;n de Profesores. Este edificio ha albergado a distintas p
 ersonas y situaciones durante la historia del Campus Lo Contador\, por lo 
 mismo se le dar&aacute\; un cierre digno el d&iacute\;a Jueves 20 de Dicie
 mbre a partir de las 18.00 hrs\, el cual incluye una exposici&oacute\;n de
  distintas disciplinas del arte (pintura\, arquitectura\, m&uacute\;sica\,
  fotograf&iacute\;a\, videoarte\, murales\, instalaciones\, dibujo\, etc.)
 \, esta ser&aacute\; una muestra ef&iacute\;mera que solo durara ese d&iac
 ute\;a.&nbsp\;\n&nbsp\;\n https://fadeu-old.urantiacos.cl/agenda/evento/17
 79-evento-de-cierre-ex-pabellon-de-arquitectura
DTSTART:20181220T210000Z
DTEND:20181220T220000Z
LOCATION:Ex Pabellón de Profesores (Los Navegantes 1947\, Providencia)
SUMMARY:Evento de Cierre Ex-Pabellón de Arquitectura
URL:https://fadeu-old.urantiacos.cl/agenda/evento/1779-evento-de-cierre-ex-
 pabellon-de-arquitectura
END:VEVENT
BEGIN:VEVENT
UID:20260420T124218UTC-0113jOzLVA@https://fadeu-old.urantiacos.cl/
DTSTAMP:20260420T124218Z
DESCRIPTION:Les invitamos cordialmente a la cuarta sesi&oacute\;n del Semin
 ario Regular Sociedad\, Dise&ntilde\;o y Tecnolog&iacute\;a (SDT). Este se
 minario abierto busca abrir espacios de encuentro interdisciplinario\, en 
 d&oacute\;nde se presentar&aacute\;n y comentar&aacute\;n investigaciones\
 , proyectos o intervenciones sobre tem&aacute\;ticas ligadas a datos\, int
 erfaces y tecnolog&iacute\;as digitales en su m&aacute\;s amplio espectro.
 \nLa cuarta sesi&oacute\;n del seminario se realizar&aacute\; el pr&oacute
 \;ximo jueves 20 de diciembre a las 17:30 en la biblioteca Sergio Larra&ia
 cute\;n del campus Lo Contador PUC\, Santiago.&nbsp\; Contaremos con la pr
 esentaci&oacute\;n de Demian Schopf\, destacado artista visual\, Dr. en fi
 losof&iacute\;a con menci&oacute\;n en Est&eacute\;tica y Teor&iacute\;a d
 el Arte (U. de Chile) y acad&eacute\;mico de la Universidad Diego Portales
 . En la presentaci&oacute\;n abordar&aacute\; su obra &ldquo\;M&aacute\;qu
 ina Condor&rdquo\; que combina el uso de algoritmos con arte y poes&iacute
 \;a.&nbsp\; Tambi&eacute\;n tendremos los comentarios de Milena Grass\, pr
 ofesora de la Escuela de Teatro\, PUC.\nM&aacute\;s info&nbsp\;aqu&iacute\
 ;.&nbsp\;\n https://fadeu-old.urantiacos.cl/agenda/evento/1777-seminario-r
 egular-sociedad-diseno-y-tecnologia-4
DTSTART:20181220T203000Z
DTEND:20181220T213000Z
LOCATION:Biblioteca Sergio Larraín (El Comendador 1916\, Providencia\, Prov
 idencia\, Región Metropolitana\, Chile)
SUMMARY:Seminario Regular Sociedad\, Diseño y Tecnología #4
URL:https://fadeu-old.urantiacos.cl/agenda/evento/1777-seminario-regular-so
 ciedad-diseno-y-tecnologia-4
END:VEVENT
END:VCALENDAR
