BEGIN:VCALENDAR
VERSION:2.0
PRODID:-//https://fadeu-old.urantiacos.cl///NONSGML kigkonsult.se iCalcreator 2.10.15//
METHOD:PUBLISH
BEGIN:VEVENT
UID:20260423T224503UTC-8962Suze67@https://fadeu-old.urantiacos.cl/
DTSTAMP:20260423T224503Z
DESCRIPTION: https://fadeu-old.urantiacos.cl/agenda/evento/479-cierre-convo
 catoria-de-articulos-revista-planeo
DTSTART:20161231T030000Z
LOCATION:Instituto de Estudios Urbanos y Territoriales UC\, Campus Lo Conta
 dor (El Comendador 1916\, Providencia\, Providencia\, Región Metropolitana
 \, Chile)
SUMMARY:Cierre convocatoria de artículos: Revista Planeo
URL:https://fadeu-old.urantiacos.cl/agenda/evento/479-cierre-convocatoria-d
 e-articulos-revista-planeo
END:VEVENT
END:VCALENDAR
