BEGIN:VCALENDAR
VERSION:2.0
PRODID:-//https://fadeu-old.urantiacos.cl///NONSGML kigkonsult.se iCalcreator 2.10.15//
METHOD:PUBLISH
BEGIN:VEVENT
UID:20260421T050502UTC-7004wpLiTi@https://fadeu-old.urantiacos.cl/
DTSTAMP:20260421T050502Z
DESCRIPTION:Te invitamos a participar de la Conferencia 'Desde el Sur: Pers
 pectivas Globales sobre el Paisaje y Territorio' - International Landscape
  Collaborative\, a desarrollarse el pr&oacute\;ximo 4 de enero a las 9:00 
 hrs en el Sal&oacute\;n Sergio Larra&iacute\;n del Campus Lo Contador UC\,
  la cual re&uacute\;ne a siete destacados Arquitectos del Paisaje egresado
 s recientemente del Master in Landscape Architecture de la Universidad de 
 Harvard\, trabajando en siete contextos diferentes.\nLa conferencia parte 
 desde el reconocimiento que\, en gran parte del mundo&mdash\;y a diferenci
 a de Europa y Estados Unidos&mdash\;la arquitectura del paisaje es una dis
 ciplina en consolidaci&oacute\;n e inclusive a&uacute\;n no profesional. E
 n este proceso\, la arquitectura del paisaje intenta conciliar una formaci
 &oacute\;n heredada\, fundamentalmente occidental\, la cual se base en con
 textos y realidades muy diferentes. En esta convocatoria\, los invitados d
 iscutir&aacute\;n c&oacute\;mo se produce ese proceso de contextualizaci&o
 acute\;n y traducci&oacute\;n sem&aacute\;ntica de la disciplina\, a parti
 r de trabajos e investigaciones llevados a cabo inmediatamente despu&eacut
 e\;s de haber cursado estudios avanzados de arquitectura del paisaje. Se d
 iscutir&aacute\;\, adem&aacute\;s\, c&oacute\;mo la disciplina comienza a 
 adquirir un potencial de transformaci&oacute\;n cr&iacute\;tica\, inclusiv
 e pol&iacute\;tico\, en contextos variados a nivel global\, incluido Chile
 . La conferencia est&aacute\; organizada alrededor de una visita de la ciu
 dad de y un d&iacute\;a de presentaciones.\nActividad gratuita abierta a t
 odo p&uacute\;blico.&nbsp\;\nPara mayor informaci&oacute\;n\, visitar aqu&
 iacute\;.\nAgradecemos confirmar su asistencia al correo flavio.sciaraffia
 @gmail.com\n&nbsp\;\n\n https://fadeu-old.urantiacos.cl/agenda/evento/1430
 -encuentro-y-conferencia-internacional-desde-el-sur-perspectivas-globales-
 sobre-el-paisaje-y-territorio-international-landscape-collaborative
DTSTART:20180104T120000Z
DTEND:20180104T133000Z
LOCATION:Salón Sergio Larraín\, Campus Lo Contador ()
SUMMARY:Encuentro y Conferencia Internacional 'Desde el Sur: Perspectivas G
 lobales sobre el Paisaje y Territorio' - International Landscape Collabora
 tive
URL:https://fadeu-old.urantiacos.cl/agenda/evento/1430-encuentro-y-conferen
 cia-internacional-desde-el-sur-perspectivas-globales-sobre-el-paisaje-y-te
 rritorio-international-landscape-collaborative
END:VEVENT
END:VCALENDAR
