BEGIN:VCALENDAR
VERSION:2.0
PRODID:-//https://fadeu-old.urantiacos.cl///NONSGML kigkonsult.se iCalcreator 2.10.15//
METHOD:PUBLISH
BEGIN:VEVENT
UID:20260419T145941UTC-5643u5VubD@https://fadeu-old.urantiacos.cl/
DTSTAMP:20260419T145941Z
DESCRIPTION:Informaci&oacute\;n aqu&iacute\;. https://fadeu-old.urantiacos.
 cl/agenda/evento/2075-cabildo-chile-diseno-disenando-con-los-chilenos-al-c
 entro
DTSTART:20200109T120000Z
DTEND:20200109T130000Z
LOCATION:Sala Lámpara\, Escuela de Diseño\, Campus Lo Contador (El Comendad
 or 1912-1974\, Providencia\, Región Metropolitana\, Chile)
SUMMARY:Cabildo Chile Diseño: Diseñando con los Chilenos al Centro
URL:https://fadeu-old.urantiacos.cl/agenda/evento/2075-cabildo-chile-diseno
 -disenando-con-los-chilenos-al-centro
END:VEVENT
BEGIN:VEVENT
UID:20260419T145941UTC-5646WouLoD@https://fadeu-old.urantiacos.cl/
DTSTAMP:20260419T145941Z
DESCRIPTION:&Aacute\;ngeles Briones\, dise&ntilde\;adora UC\, PhD en Dise&n
 tilde\;o y fellow en el Polit&eacute\;cnico de Mil&aacute\;n\, dictar&aacu
 te\; esta charla abierta en el marco de las actividades de extensi&oacute\
 ;n que realiza el Magister en Dise&ntilde\;o Avanzado.&nbsp\;\nColaborador
 a en DensityDesign Lab y parte de Public Data Lab y Vis Datos Lab\, &Aacut
 e\;ngeles se interesa en la intersecci&oacute\;n entre visualizaci&oacute\
 ;n de datos e investigaci&oacute\;n de datos de activismo.&nbsp\;\nDatos\,
  cambio social y dise&ntilde\;o de la comunicaci&oacute\;n ser&aacute\; la
  tem&aacute\;tica principal de esta charla.&nbsp\;\n_Mi&eacute\;rcoles 8 d
 e enero&nbsp\;\n_Salon Sergio Larra&iacute\;n\, Campus Lo Contador\n_ 18.3
 0 h&nbsp\;+info https://fadeu-old.urantiacos.cl/agenda/evento/2083-charla-
 narrativas-alternativas-con-datos
DTSTART:20200108T213000Z
DTEND:20200108T223000Z
LOCATION:Salón Sergio Larraín\, Campus Lo Contador ()
SUMMARY:Charla Narrativas Alternativas con Datos
URL:https://fadeu-old.urantiacos.cl/agenda/evento/2083-charla-narrativas-al
 ternativas-con-datos
END:VEVENT
END:VCALENDAR
