BEGIN:VCALENDAR
VERSION:2.0
PRODID:-//https://fadeu-old.urantiacos.cl///NONSGML kigkonsult.se iCalcreator 2.10.15//
METHOD:PUBLISH
BEGIN:VEVENT
UID:20260423T224503UTC-5957ZiHDNZ@https://fadeu-old.urantiacos.cl/
DTSTAMP:20260423T224503Z
DESCRIPTION:La Bienal de Diseño de Chile es un espacio de reflexión en torn
 o a la disciplina que cada dos años permite establecer el estado del arte 
 del Diseño\, destacando y profundizando en su producción reciente a través
  de exposiciones\, conferencias y mesas de trabajo.\nChile enfrenta catást
 rofes naturales que lo convierten en un laboratorio concreto de experienci
 as e ideas que surgen en estos contextos.\nExiste una oportunidad real en 
 este ámbito para el DISEÑO y su rol para prevenir\, mitigar y limitar el i
 mpacto de desastres. Insertándose como articulador de acciones en temática
 s país.\n6a Bienal DISEÑO en ALERTA viene a constituir una plataforma de v
 isibilización de los proyectos de diseño que nacen en contexto de ALERTA.
 \nEl DISEÑO juega un rol decisivo en la articulación de la ALERTA\, en el 
 momento de preparación\, durante y posterior al desastre. El DISEÑO permit
 e tomar decisiones oportunas y actuar de manera óptima en los momentos cla
 ves.\nObjetivos Bienal 2017\nContribuir al reconocimiento de la disciplina
  del Diseño como articuladora de ideas\, proyectos y soluciones de interés
  país en el ámbito de la alerta\, para con eso apoyar una cultura de segur
 idad y resiliencia en Chile a través de la educación\, el conocimiento y l
 a innovación.\nGenerar un espacio de reflexión\, difusión y visibilización
  del diseño contemporáneo chileno\, poniendo de manifiesto las múltiples y
  diversas interrelaciones que trascienden la disciplina\, posibilitando nu
 evas visiones y focos de acción.\nMuestra académica\nLa MUESTRA ACADÉMICA 
 es el espacio destinado a mostrar los procesos y resultados obtenidos por 
 las instituciones que imparten la enseñanza del Diseño\, bajo el concepto 
 DISEÑO en ALERTA\, reconociendo en esta disciplina una herramienta de desa
 rrollo de la creatividad y la innovación.\nEstá dirigida a todas las insti
 tuciones que imparten la carrera de Diseño en Chile\, en sus diferentes gr
 ados y visiones\, con proyectos entre marzo de 2013 y el primer semestre d
 e 2016.\nMuestra profesional\nLa MUESTRA PROFESIONAL se presenta como una 
 oportunidad para reflexionar sobre el estado de la profesión del Diseño en
  Chile\, expone los mejores referentes de la disciplina en el ámbito priva
 do y público. Los proyectos postulados\, corresponden a trabajos de excele
 ncia que son aportes concretos en la solución de problemáticas país\, dest
 acando los campos diversos del acontecer nacional en un periodo de tiempo 
 que comprende Marzo de 2013 y 2016.\n+ Más nformación y programación compl
 eta en: www.bienaldediseno.cl\n&nbsp\;\n https://fadeu-old.urantiacos.cl/a
 genda/evento/737-6-bienal-diseno-en-alerta
DTSTART:20170115T143000Z
DTEND:20170116T003000Z
LOCATION:Estación Mapocho (Estación Mapocho\, Santiago\, Región Metropolita
 na\, Chile)
SUMMARY:6ª Bienal Diseño en Alerta
URL:https://fadeu-old.urantiacos.cl/agenda/evento/737-6-bienal-diseno-en-al
 erta
END:VEVENT
BEGIN:VEVENT
UID:20260423T224503UTC-5973aZn1WH@https://fadeu-old.urantiacos.cl/
DTSTAMP:20260423T224503Z
DESCRIPTION:La Bienal de Diseño de Chile es un espacio de reflexión en torn
 o a la disciplina que cada dos años permite establecer el estado del arte 
 del Diseño\, destacando y profundizando en su producción reciente a través
  de exposiciones\, conferencias y mesas de trabajo.\nChile enfrenta catást
 rofes naturales que lo convierten en un laboratorio concreto de experienci
 as e ideas que surgen en estos contextos.\nExiste una oportunidad real en 
 este ámbito para el DISEÑO y su rol para prevenir\, mitigar y limitar el i
 mpacto de desastres. Insertándose como articulador de acciones en temática
 s país.\n6a Bienal DISEÑO en ALERTA viene a constituir una plataforma de v
 isibilización de los proyectos de diseño que nacen en contexto de ALERTA.
 \nEl DISEÑO juega un rol decisivo en la articulación de la ALERTA\, en el 
 momento de preparación\, durante y posterior al desastre. El DISEÑO permit
 e tomar decisiones oportunas y actuar de manera óptima en los momentos cla
 ves.\nObjetivos Bienal 2017\nContribuir al reconocimiento de la disciplina
  del Diseño como articuladora de ideas\, proyectos y soluciones de interés
  país en el ámbito de la alerta\, para con eso apoyar una cultura de segur
 idad y resiliencia en Chile a través de la educación\, el conocimiento y l
 a innovación.\nGenerar un espacio de reflexión\, difusión y visibilización
  del diseño contemporáneo chileno\, poniendo de manifiesto las múltiples y
  diversas interrelaciones que trascienden la disciplina\, posibilitando nu
 evas visiones y focos de acción.\nMuestra académica\nLa MUESTRA ACADÉMICA 
 es el espacio destinado a mostrar los procesos y resultados obtenidos por 
 las instituciones que imparten la enseñanza del Diseño\, bajo el concepto 
 DISEÑO en ALERTA\, reconociendo en esta disciplina una herramienta de desa
 rrollo de la creatividad y la innovación.\nEstá dirigida a todas las insti
 tuciones que imparten la carrera de Diseño en Chile\, en sus diferentes gr
 ados y visiones\, con proyectos entre marzo de 2013 y el primer semestre d
 e 2016.\nMuestra profesional\nLa MUESTRA PROFESIONAL se presenta como una 
 oportunidad para reflexionar sobre el estado de la profesión del Diseño en
  Chile\, expone los mejores referentes de la disciplina en el ámbito priva
 do y público. Los proyectos postulados\, corresponden a trabajos de excele
 ncia que son aportes concretos en la solución de problemáticas país\, dest
 acando los campos diversos del acontecer nacional en un periodo de tiempo 
 que comprende Marzo de 2013 y 2016.\n+ Más nformación y programación compl
 eta en: www.bienaldediseno.cl\nProgramaSábado 14 de enero\n10:30 a 14:30 h
 rs\, plaza norte\, al costado de la estación (borde río Mapocho) (vacantes
  por orden de llegada)Charla CONOCE EN FAMILIA LA ESTACIÓN DE MONITOREO MÓ
 VIL DE CALIDAD DE AIRE\nNiños y adultos podrán conocer y comprender de for
 ma directa cómo el vehículo de monitoreo del Gobierno de Chile tiene todos
  los instrumentos para medir la calidad de aire de nuestra ciudad.\nEl veh
 ículo estará durante toda la mañana para recibir por orden de llegada a pe
 queños grupos para conocer el funcionamiento de los instrumentos.\nInscrip
 cionesGarantiza tu cupo para esta actividad a través de la APP gratuita y 
 disponible prontamente para descarga. También hay cupos disponibles para q
 uienes lleguen sin reserva previa\, por orden de llegada y hasta llenar di
 sponibilidad de cada sala. En caso de que no poder asistir\, por favor lib
 erar su registro para que otra persona pueda inscribirse.\n&nbsp\;\n https
 ://fadeu-old.urantiacos.cl/agenda/evento/735-6-bienal-diseno-en-alerta
DTSTART:20170114T143000Z
DTEND:20170115T003000Z
LOCATION:Estación Mapocho (Estación Mapocho\, Santiago\, Región Metropolita
 na\, Chile)
SUMMARY:6ª Bienal Diseño en Alerta
URL:https://fadeu-old.urantiacos.cl/agenda/evento/735-6-bienal-diseno-en-al
 erta
END:VEVENT
BEGIN:VEVENT
UID:20260423T224503UTC-5993SgHpg1@https://fadeu-old.urantiacos.cl/
DTSTAMP:20260423T224503Z
DESCRIPTION:La Bienal de Diseño de Chile es un espacio de reflexión en torn
 o a la disciplina que cada dos años permite establecer el estado del arte 
 del Diseño\, destacando y profundizando en su producción reciente a través
  de exposiciones\, conferencias y mesas de trabajo.\nChile enfrenta catást
 rofes naturales que lo convierten en un laboratorio concreto de experienci
 as e ideas que surgen en estos contextos.\nExiste una oportunidad real en 
 este ámbito para el DISEÑO y su rol para prevenir\, mitigar y limitar el i
 mpacto de desastres. Insertándose como articulador de acciones en temática
 s país.\n6a Bienal DISEÑO en ALERTA viene a constituir una plataforma de v
 isibilización de los proyectos de diseño que nacen en contexto de ALERTA.
 \nEl DISEÑO juega un rol decisivo en la articulación de la ALERTA\, en el 
 momento de preparación\, durante y posterior al desastre. El DISEÑO permit
 e tomar decisiones oportunas y actuar de manera óptima en los momentos cla
 ves.\nObjetivos Bienal 2017\nContribuir al reconocimiento de la disciplina
  del Diseño como articuladora de ideas\, proyectos y soluciones de interés
  país en el ámbito de la alerta\, para con eso apoyar una cultura de segur
 idad y resiliencia en Chile a través de la educación\, el conocimiento y l
 a innovación.\nGenerar un espacio de reflexión\, difusión y visibilización
  del diseño contemporáneo chileno\, poniendo de manifiesto las múltiples y
  diversas interrelaciones que trascienden la disciplina\, posibilitando nu
 evas visiones y focos de acción.\nMuestra académica\nLa MUESTRA ACADÉMICA 
 es el espacio destinado a mostrar los procesos y resultados obtenidos por 
 las instituciones que imparten la enseñanza del Diseño\, bajo el concepto 
 DISEÑO en ALERTA\, reconociendo en esta disciplina una herramienta de desa
 rrollo de la creatividad y la innovación.\nEstá dirigida a todas las insti
 tuciones que imparten la carrera de Diseño en Chile\, en sus diferentes gr
 ados y visiones\, con proyectos entre marzo de 2013 y el primer semestre d
 e 2016.\nMuestra profesional\nLa MUESTRA PROFESIONAL se presenta como una 
 oportunidad para reflexionar sobre el estado de la profesión del Diseño en
  Chile\, expone los mejores referentes de la disciplina en el ámbito priva
 do y público. Los proyectos postulados\, corresponden a trabajos de excele
 ncia que son aportes concretos en la solución de problemáticas país\, dest
 acando los campos diversos del acontecer nacional en un periodo de tiempo 
 que comprende Marzo de 2013 y 2016.\n+ Más nformación y programación compl
 eta en: www.bienaldediseno.cl\nPrograma&nbsp\;Viernes 13 de enero\n19:00 a
  20:00 hrs\,&nbsp\;Sala Camilo Mori (100 vacantes)Charla INDEX: DESIGN TO 
 IMPROVE LIFE®: ¡DISEÑO! EL DISEÑO ES UN VERBO\nLotte Stenlev de INDEX: Des
 ign to Improve Life® hace un llamado masivo para que utilice el diseño com
 o una poderosa herramienta para abordar desafíos globales complejos. Todos
  poseemos la capacidad de diseñar. Los diseñadores están entrenados\, y po
 r lo tanto tienen una obligación especial de tomar medidas. Pero\, todo el
  mundo puede contribuir a resolver los desafíos complejos del mundo. INDEX
 : Design to Improve Life® ha apoyado el desarrollo de soluciones sustentab
 les a los retos globales de los últimos 15 años. La recopilación de soluci
 ones sustentables que tiene esta organización\, creada por miles de candid
 atos para el premio INDEX: Award\, demuestra que es posible. Podemos cambi
 ar el mundo para mejor a través de un diseño sustentable y centrado en las
  personas\, para mejorar la vida.\nCharla en inglés y habrán dispositivos 
 para traducción simultánea para las primeras 50 personas.\nInscripcionesGa
 rantiza tu cupo para esta actividad a través de la APP gratuita y disponib
 le prontamente para descarga.&nbsp\;También hay cupos disponibles para qui
 enes lleguen sin reserva previa\, por orden de llegada y hasta llenar disp
 onibilidad de cada sala. En caso de que no poder asistir\, por favor liber
 ar su registro para que otra persona pueda inscribirse.\n&nbsp\;\n\n&nbsp\
 ;\n&nbsp\; https://fadeu-old.urantiacos.cl/agenda/evento/733-6-bienal-dise
 no-en-alerta
DTSTART:20170113T143000Z
DTEND:20170114T003000Z
LOCATION:Estación Mapocho (Estación Mapocho\, Santiago\, Región Metropolita
 na\, Chile)
SUMMARY:6ª Bienal Diseño en Alerta
URL:https://fadeu-old.urantiacos.cl/agenda/evento/733-6-bienal-diseno-en-al
 erta
END:VEVENT
BEGIN:VEVENT
UID:20260423T224503UTC-6925i7sk89@https://fadeu-old.urantiacos.cl/
DTSTAMP:20260423T224503Z
DESCRIPTION:La Bienal de Diseño de Chile es un espacio de reflexión en torn
 o a la disciplina que cada dos años permite establecer el estado del arte 
 del Diseño\, destacando y profundizando en su producción reciente a través
  de exposiciones\, conferencias y mesas de trabajo.\nChile enfrenta catást
 rofes naturales que lo convierten en un laboratorio concreto de experienci
 as e ideas que surgen en estos contextos.\nExiste una oportunidad real en 
 este ámbito para el DISEÑO y su rol para prevenir\, mitigar y limitar el i
 mpacto de desastres. Insertándose como articulador de acciones en temática
 s país.\n6a Bienal DISEÑO en ALERTA viene a constituir una plataforma de v
 isibilización de los proyectos de diseño que nacen en contexto de ALERTA.
 \nEl DISEÑO juega un rol decisivo en la articulación de la ALERTA\, en el 
 momento de preparación\, durante y posterior al desastre. El DISEÑO permit
 e tomar decisiones oportunas y actuar de manera óptima en los momentos cla
 ves.\nObjetivos Bienal 2017\nContribuir al reconocimiento de la disciplina
  del Diseño como articuladora de ideas\, proyectos y soluciones de interés
  país en el ámbito de la alerta\, para con eso apoyar una cultura de segur
 idad y resiliencia en Chile a través de la educación\, el conocimiento y l
 a innovación.\nGenerar un espacio de reflexión\, difusión y visibilización
  del diseño contemporáneo chileno\, poniendo de manifiesto las múltiples y
  diversas interrelaciones que trascienden la disciplina\, posibilitando nu
 evas visiones y focos de acción.\nMuestra académica\nLa MUESTRA ACADÉMICA 
 es el espacio destinado a mostrar los procesos y resultados obtenidos por 
 las instituciones que imparten la enseñanza del Diseño\, bajo el concepto 
 DISEÑO en ALERTA\, reconociendo en esta disciplina una herramienta de desa
 rrollo de la creatividad y la innovación.\nEstá dirigida a todas las insti
 tuciones que imparten la carrera de Diseño en Chile\, en sus diferentes gr
 ados y visiones\, con proyectos entre marzo de 2013 y el primer semestre d
 e 2016.\nMuestra profesional\nLa MUESTRA PROFESIONAL se presenta como una 
 oportunidad para reflexionar sobre el estado de la profesión del Diseño en
  Chile\, expone los mejores referentes de la disciplina en el ámbito priva
 do y público. Los proyectos postulados\, corresponden a trabajos de excele
 ncia que son aportes concretos en la solución de problemáticas país\, dest
 acando los campos diversos del acontecer nacional en un periodo de tiempo 
 que comprende Marzo de 2013 y 2016.\n+ Más nformación y programación compl
 eta en: www.bienaldediseno.cl\n&nbsp\;\n https://fadeu-old.urantiacos.cl/a
 genda/evento/731-6-bienal-diseno-en-alerta
DTSTART:20170112T143000Z
DTEND:20170113T003000Z
LOCATION:Estación Mapocho (Estación Mapocho\, Santiago\, Región Metropolita
 na\, Chile)
SUMMARY:6ª Bienal Diseño en Alerta
URL:https://fadeu-old.urantiacos.cl/agenda/evento/731-6-bienal-diseno-en-al
 erta
END:VEVENT
BEGIN:VEVENT
UID:20260423T224503UTC-6942PtvdZr@https://fadeu-old.urantiacos.cl/
DTSTAMP:20260423T224503Z
DESCRIPTION:La Bienal de Diseño de Chile es un espacio de reflexión en torn
 o a la disciplina que cada dos años permite establecer el estado del arte 
 del Diseño\, destacando y profundizando en su producción reciente a través
  de exposiciones\, conferencias y mesas de trabajo.\nChile enfrenta catást
 rofes naturales que lo convierten en un laboratorio concreto de experienci
 as e ideas que surgen en estos contextos.\nExiste una oportunidad real en 
 este ámbito para el DISEÑO y su rol para prevenir\, mitigar y limitar el i
 mpacto de desastres. Insertándose como articulador de acciones en temática
 s país.\n6a Bienal DISEÑO en ALERTA viene a constituir una plataforma de v
 isibilización de los proyectos de diseño que nacen en contexto de ALERTA.
 \nEl DISEÑO juega un rol decisivo en la articulación de la ALERTA\, en el 
 momento de preparación\, durante y posterior al desastre. El DISEÑO permit
 e tomar decisiones oportunas y actuar de manera óptima en los momentos cla
 ves.\nObjetivos Bienal 2017\nContribuir al reconocimiento de la disciplina
  del Diseño como articuladora de ideas\, proyectos y soluciones de interés
  país en el ámbito de la alerta\, para con eso apoyar una cultura de segur
 idad y resiliencia en Chile a través de la educación\, el conocimiento y l
 a innovación.\nGenerar un espacio de reflexión\, difusión y visibilización
  del diseño contemporáneo chileno\, poniendo de manifiesto las múltiples y
  diversas interrelaciones que trascienden la disciplina\, posibilitando nu
 evas visiones y focos de acción.\nMuestra académica\nLa MUESTRA ACADÉMICA 
 es el espacio destinado a mostrar los procesos y resultados obtenidos por 
 las instituciones que imparten la enseñanza del Diseño\, bajo el concepto 
 DISEÑO en ALERTA\, reconociendo en esta disciplina una herramienta de desa
 rrollo de la creatividad y la innovación.\nEstá dirigida a todas las insti
 tuciones que imparten la carrera de Diseño en Chile\, en sus diferentes gr
 ados y visiones\, con proyectos entre marzo de 2013 y el primer semestre d
 e 2016.\nMuestra profesional\nLa MUESTRA PROFESIONAL se presenta como una 
 oportunidad para reflexionar sobre el estado de la profesión del Diseño en
  Chile\, expone los mejores referentes de la disciplina en el ámbito priva
 do y público. Los proyectos postulados\, corresponden a trabajos de excele
 ncia que son aportes concretos en la solución de problemáticas país\, dest
 acando los campos diversos del acontecer nacional en un periodo de tiempo 
 que comprende Marzo de 2013 y 2016.\n+ Más nformación y programación compl
 eta en: www.bienaldediseno.cl\n&nbsp\;\n https://fadeu-old.urantiacos.cl/a
 genda/evento/693-6-bienal-diseno-en-alerta
DTSTART:20170111T143000Z
DTEND:20170112T003000Z
LOCATION:Estación Mapocho (Estación Mapocho\, Santiago\, Región Metropolita
 na\, Chile)
SUMMARY:6ª Bienal Diseño en Alerta
URL:https://fadeu-old.urantiacos.cl/agenda/evento/693-6-bienal-diseno-en-al
 erta
END:VEVENT
BEGIN:VEVENT
UID:20260423T224503UTC-6957cUdVHi@https://fadeu-old.urantiacos.cl/
DTSTAMP:20260423T224503Z
DESCRIPTION:Ciudad y Cielo2° Encuentro de cooperación internacional\nEl 2° 
 Encuentro de Cooperación Internacional Ciudad y Cielo\, tiene por objeto d
 iscutir los alcances de las imágenes visuales dejadas por la Expedición Na
 val Astronómica de James Melville Gilliss luego de su estadía en Santiago 
 de Chile\, a la luz de los contextos culturales y técnicos en que éstas fu
 eron realizadas y circularon. Estos registros gráficos se analizarán en un
  doble sentido: primero\, intentado comprender la mirada urbana que subyac
 e en ellos\, es decir\, como aproximación a su emplazamiento\, condición g
 eográfica\, espacios públicos y estructura edilicia\; y segundo\, como un 
 campo social y un contexto cultural en que estas imágenes circulan y gener
 an sentidos.\nEl encuentro contará con 3 actividades\n1. Presentación de C
 harlotte Bigg\, “The Science of Celestial Portraiture”. Esta actividad se 
 realizará de manera conjunta entre el proyecto Fondecyt N° 1150308 y el La
 boratorio de historia de la ciencia y la tecnología. En ella Charlotte Big
 g presentará una investigación sobre la historia cruzada de la fotografía 
 y la astronomía. La actividad es de carácter abierto para los investigador
 es del proyecto Fondecyt\, los integrantes del laboratorio y eventual públ
 ico interesado. Ella se realizará el sábado 7 de enero entre las 11:30 y l
 as 13:00 hrs. en el Instituto de Historia de la P. Universidad Católica de
  Valparaíso.\n2. Conferencia magistral de Charlotte Bigg\, “Conveying the 
 Experience of Nature\, Science and Technology\, from the Panorama to the P
 lanetarium”. En esta ocasión\, Charlotte Bigg presentará su investigación 
 sobre la historia de la divulgación de las ciencias astronómicas\, desde l
 os inicios del siglo XIX a los avances del siglo XX\, analizando los espac
 ios de interacción entre saber científico y curiosidad popular. Esta confe
 rencia estará abierta al público general y tendrá lugar el día lunes 9 de 
 enero a las 18hrs. en el auditorio P-1 de la Facultad de Arquitectura y Ur
 banismo de la Universidad de Chile.\n3. Mesa redonda\, ''Santiago de Chile
  a través de las imágenes de la expedición astronómica de James Melville G
 illiss''. En esta actividad los investigadores del proyecto Fondecyt expon
 drán los avances de sus trabajos. Contaremos con la participación especial
  de dos invitados: Charlotte Bigg\, colaboradora internacional del proyect
 o y el geógrafo nacional\, José Ignacio González\, además de público inter
 esado. Al discutir las propuestas de cada investigador\, buscamos echar lu
 z sobre la producción gráfica general de la expedición astronómica de Jame
  Melville Gilliss y\, particularmente aquella relativa a la ciudad de Sant
 iago\, perfilando el contexto en que los científicos de esta expedición de
 sarrollaron sus actividades. La mesa redonda estará abierta la publico esp
 ecializado y se realizará en el Salón Sergio Larraín de la Facultad de Arq
 uitectura Diseño y Estudios Urbanos de la Pontificia Universidad Católica 
 de Chile.\nHorarios09 enero de 2017. 18.00 hrs | 10 enero de 2017. 9.00 a 
 13.00 hrs.\nLugaresSala P1\, FAU U de Chile. Av. Portugal 84. Santiago Cen
 troSalón Sergio Larraín\, Campus Lo Contador. El Comendador 1916\, Provide
 ncia\nInvitanDirección de Investigación y Postgrado Facultad de Arquitectu
 ra\, Diseño y Estudios UrbanosEscuela Arquitectura UCFAU U. de Chile\n+ De
 scarga el programa completo aquí.\n&nbsp\;\n https://fadeu-old.urantiacos.
 cl/agenda/evento/687-encuentro-ciudad-y-cielo
DTSTART:20170109T210000Z
DTEND:20170110T160000Z
LOCATION:Campus Lo Contador y FAU Chile (Santiago\, Región Metropolitana\, 
 Chile)
SUMMARY:Encuentro Ciudad y Cielo
URL:https://fadeu-old.urantiacos.cl/agenda/evento/687-encuentro-ciudad-y-ci
 elo
END:VEVENT
BEGIN:VEVENT
UID:20260423T224503UTC-7916aNjLUd@https://fadeu-old.urantiacos.cl/
DTSTAMP:20260423T224503Z
DESCRIPTION:Workshop: Arquitectura a través de la FicciónLa Narración como 
 Generatriz del Diseño\nInformación del workshop (5 créditos)El curso desar
 rollará relatos en forma escrita y dibujada para explorar métodos de tradu
 cción desde la prosa-ficción hacia imaginarios arquitectónicos explícitos.
  Estos métodos utilizan técnicas literarias y arquitectónicas\, regocijánd
 ose en el ir y venir entre estos dos mundos disciplinarios. El curso se co
 ncentra en la construcción de ficciones individuales a lo largo de una ser
 ie de clases expositivas y ejercicios que guiarán a los estudiantes a trav
 és del proceso de inferencia abductiva concerniente a la imaginación ficci
 onal. Las clases contendrán vertientes teóricas e históricas para la críti
 ca-ficcional\, y para la posibilidad de una “arquitectura narrada”. Las es
 peculaciones del curso culminarán en una serie de dibujos y textos breves 
 que serán ilustrativos del mundo que imaginan los estudiantes.\nContenidos
 Día 1: El Proceso de Contar HistoriasDía 2: Echar a volar la imaginaciónDí
 a 3: Observar y describir la formaDía 4: Línea del contar-historiasDía 5: 
 Confabulación de futurosDía 6: Materialización de la fantasíaDías 7\, 8 y 
 9: Desarrollo del proyecto finalDía 10: Examen y Exposición\, con la prese
 ncia de invitados\nProfesoresZachary Angles (MIT SA+P)\, Valentina Rosales
  (UC)\, Igor Fracalossi (UC)\nZachary Angles es arquitecto por la Universi
 ty of Michigan (EEUU\, 2014)\, con pasantía por la Ecoles d’Art Américaine
 s de Fontainebleau\, y estudiante de postgrado de la School of Architectur
 e + Planning del MIT (EEUU). Su trabajo creativo y académico explora el po
 tencial que tiene los relatos para la construcción de nuevos mundos. Como 
 extensión de su investigación\, él está actualmente editando Thresholds 45
 : MYTH\, una colección de ensayos\, proyectos creativos y piezas de ficció
 n relacionados con el Mito y la construcción de espacios. En el presente\,
  Zachary lidera la figuración de quince sueños arquitectónicos que serán e
 xhibidos el año 2017. También ha puesto en escena exhibiciones independien
 tes y ha colaborado con LANDING STUDIO\, CYANITECTURE\, y /Estudio JOT/ en
  instalaciones\, exhibiciones\, y trabajos de diseño gráfico en Ann Arbor\
 , Toledo\, Chicago\, Boston\, New York\, Paris\, Fontainbleau\, y Nairobi.
 \nValentina Rosales es psicóloga por la Universidad Diego Portales (2014) 
 y candidata a Magíster en Literatura por la Pontificia Universidad Católic
 a de Chile. Su trabajo en el ámbito de la psicología explora la capacidad 
 de la cinematografía y la pintura para contar y representar la historia cu
 ltural de los países en momentos de crisis. Su trabajo académico reciente 
 se enfoca en el contar historias\, memoria\, imaginación\, y en la constru
 cción abstracta de nuevas realidades tanto en las artes como en las cienci
 as. Como extensión de su trabajo de tesis\, escribe ensayos concernientes 
 a la evolución humana y al desarrollo de herramientas creativas para la re
 solución de problemas y la producción literaria. Creativamente\, Valentina
  ha trabajado como guionista y actualmente desarrolla una composición de c
 uentos cortos y dibujos de tinta.\nIgor Fracalossi es arquitecto por la Un
 iversidade Federal do Ceará (Brasil\, 2009)\, Magíster en Teoría y Crítica
  de la Arquitectura (2012)\, y candidato a Doctor por la Pontificia Univer
 sidad Católica de Chile. Ha desarrollado un método casuístico\, objetivo y
  construccionista para observar obras de arquitectura a través de descripc
 iones y dibujos exploratorios\, que son la base de sus investigaciones aca
 démicas y de su trabajo como editor a cargo de la sección Clásicos de Arqu
 itectura en ArchDaily Brasil entre los años 2011 y 2016. Ha sido asistente
  de curaduría de las obras de Brasil para la exposición Latin America in C
 onstrucción 1955-1980\, en el MoMA-NY\, llevada a cabo en 2015. En 2014 re
 cibió el 1er premio en la 1° Bienal Internacional de Arquitectura de Argen
 tina con un ensayo breve acerca de la Casa en Butantã de Paulo Mendes da R
 ocha. Durante los últimos años\, en su investigación doctoral\, se ha enfo
 cado en la construcción de modelos físicos para la comprensión y explicita
 ción del proceso de proyección y construcción de obras de arquitectura. Ac
 tualmente\, es Profesor Instructor Adjunto de la Escuela de Arquitectura U
 C.\nFecha9 al 20 de enero de 2017 | 10:00 a 13:00 hrs + 14:00 a 17:00 hrs.
 \nWorkshop de 5 créditos (Optativo de Profundización Sigla ARQ3009 sección
  4) para estudiantes de pregrado y postgrado de Arquitectura UC.\n+ Cupos 
 disponibles para estudiantes de otras universidades. Inscripciones y pregu
 ntas al correo ifracalossi@uc.cl&nbsp\;\n&nbsp\;\n\n\n\n https://fadeu-old
 .urantiacos.cl/agenda/evento/677-inicio-workshop-arquitectura-a-traves-de-
 la-ficcion
DTSTART:20170109T130000Z
DTEND:20170109T200000Z
LOCATION:Sala Refectorio\, Casona\, Campus Lo Contador (El Comendador 1916\
 , Providencia\, Providencia\, Región Metropolitana\, Chile)
SUMMARY:Inicio Workshop Arquitectura a través de la Ficción
URL:https://fadeu-old.urantiacos.cl/agenda/evento/677-inicio-workshop-arqui
 tectura-a-traves-de-la-ficcion
END:VEVENT
END:VCALENDAR
